BEGIN:VCALENDAR
VERSION:2.0
PRODID:-//St. Christina Catholic School - ECPv6.15.20//NONSGML v1.0//EN
CALSCALE:GREGORIAN
METHOD:PUBLISH
X-WR-CALNAME:St. Christina Catholic School
X-ORIGINAL-URL:https://stchristina.org
X-WR-CALDESC:Events for St. Christina Catholic School
REFRESH-INTERVAL;VALUE=DURATION:PT1H
X-Robots-Tag:noindex
X-PUBLISHED-TTL:PT1H
BEGIN:VTIMEZONE
TZID:UTC
BEGIN:STANDARD
TZOFFSETFROM:+0000
TZOFFSETTO:+0000
TZNAME:UTC
DTSTART:20240101T000000
END:STANDARD
END:VTIMEZONE
BEGIN:VEVENT
DTSTART;VALUE=DATE:20250914
DTEND;VALUE=DATE:20250915
DTSTAMP:20260424T000733
CREATED:20250908T203504Z
LAST-MODIFIED:20250908T203504Z
UID:8825-1757808000-1757894399@stchristina.org
SUMMARY:10:30am Mass of Enrollment for 8th Grade Confirmation Candidates
DESCRIPTION:
URL:https://stchristina.org/event/1030am-mass-of-enrollment-for-8th-grade-confirmation-candidates/
END:VEVENT
BEGIN:VEVENT
DTSTART;TZID=UTC:20250915T080000
DTEND;TZID=UTC:20250916T100000
DTSTAMP:20260424T000733
CREATED:20250908T203812Z
LAST-MODIFIED:20250908T203812Z
UID:8832-1757923200-1758016800@stchristina.org
SUMMARY:i-Ready Diagnostic Testing
DESCRIPTION:
URL:https://stchristina.org/event/i-ready-diagnostic-testing-4/
END:VEVENT
BEGIN:VEVENT
DTSTART;VALUE=DATE:20250917
DTEND;VALUE=DATE:20250918
DTSTAMP:20260424T000733
CREATED:20250908T203539Z
LAST-MODIFIED:20250908T203712Z
UID:8827-1758067200-1758153599@stchristina.org
SUMMARY:8:10am Mass
DESCRIPTION:
URL:https://stchristina.org/event/i-ready-diagnostic-testing-3/
END:VEVENT
BEGIN:VEVENT
DTSTART;VALUE=DATE:20250918
DTEND;VALUE=DATE:20250919
DTSTAMP:20260424T000733
CREATED:20250910T235418Z
LAST-MODIFIED:20250910T235418Z
UID:9609-1758153600-1758239999@stchristina.org
SUMMARY:In-School Service Project (Lower Wacker Lunches)
DESCRIPTION:
URL:https://stchristina.org/event/in-school-service-project-lower-wacker-lunches/
END:VEVENT
BEGIN:VEVENT
DTSTART;VALUE=DATE:20250921
DTEND;VALUE=DATE:20250922
DTSTAMP:20260424T000733
CREATED:20250910T235459Z
LAST-MODIFIED:20250910T235459Z
UID:9611-1758412800-1758499199@stchristina.org
SUMMARY:10:30am Mass\, Catechetical Sunday
DESCRIPTION:
URL:https://stchristina.org/event/1030am-mass-catechetical-sunday/
END:VEVENT
BEGIN:VEVENT
DTSTART;VALUE=DATE:20250922
DTEND;VALUE=DATE:20250923
DTSTAMP:20260424T000733
CREATED:20250910T235558Z
LAST-MODIFIED:20250910T235558Z
UID:9613-1758499200-1758585599@stchristina.org
SUMMARY:SCAA Meeting
DESCRIPTION:
URL:https://stchristina.org/event/scaa-meeting-20/
END:VEVENT
BEGIN:VEVENT
DTSTART;VALUE=DATE:20250924
DTEND;VALUE=DATE:20250925
DTSTAMP:20260424T000733
CREATED:20250908T203641Z
LAST-MODIFIED:20250908T203641Z
UID:8830-1758672000-1758758399@stchristina.org
SUMMARY:8:10am Mass
DESCRIPTION:
URL:https://stchristina.org/event/810am-mass-47/
END:VEVENT
BEGIN:VEVENT
DTSTART;VALUE=DATE:20250925
DTEND;VALUE=DATE:20250926
DTSTAMP:20260424T000733
CREATED:20250912T042440Z
LAST-MODIFIED:20250912T042440Z
UID:9699-1758758400-1758844799@stchristina.org
SUMMARY:All School Assembly
DESCRIPTION:
URL:https://stchristina.org/event/all-school-assembly/
END:VEVENT
BEGIN:VEVENT
DTSTART;VALUE=DATE:20250926
DTEND;VALUE=DATE:20250927
DTSTAMP:20260424T000733
CREATED:20250908T203854Z
LAST-MODIFIED:20250908T203854Z
UID:8834-1758844800-1758931199@stchristina.org
SUMMARY:No School (Faculty PD)
DESCRIPTION:
URL:https://stchristina.org/event/no-school-faculty-pd-7/
END:VEVENT
END:VCALENDAR