BEGIN:VCALENDAR
VERSION:2.0
PRODID:-//St. Christina Catholic School - ECPv6.15.20//NONSGML v1.0//EN
CALSCALE:GREGORIAN
METHOD:PUBLISH
X-ORIGINAL-URL:https://stchristina.org
X-WR-CALDESC:Events for St. Christina Catholic School
REFRESH-INTERVAL;VALUE=DURATION:PT1H
X-Robots-Tag:noindex
X-PUBLISHED-TTL:PT1H
BEGIN:VTIMEZONE
TZID:UTC
BEGIN:STANDARD
TZOFFSETFROM:+0000
TZOFFSETTO:+0000
TZNAME:UTC
DTSTART:20230101T000000
END:STANDARD
END:VTIMEZONE
BEGIN:VEVENT
DTSTART;VALUE=DATE:20240813
DTEND;VALUE=DATE:20240814
DTSTAMP:20260424T194703
CREATED:20240715T174015Z
LAST-MODIFIED:20240715T174015Z
UID:7150-1723507200-1723593599@stchristina.org
SUMMARY:SAC Meeting
DESCRIPTION:
URL:https://stchristina.org/event/sac-meeting/
END:VEVENT
BEGIN:VEVENT
DTSTART;VALUE=DATE:20240818
DTEND;VALUE=DATE:20240819
DTSTAMP:20260424T194703
CREATED:20240715T174047Z
LAST-MODIFIED:20240715T174047Z
UID:7152-1723939200-1724025599@stchristina.org
SUMMARY:Welcome Back Family Mass\, 10:30am
DESCRIPTION:
URL:https://stchristina.org/event/welcome-back-family-mass-1030am-2/
END:VEVENT
BEGIN:VEVENT
DTSTART;VALUE=DATE:20240818
DTEND;VALUE=DATE:20240819
DTSTAMP:20260424T194703
CREATED:20240717T170352Z
LAST-MODIFIED:20240717T170352Z
UID:7644-1723939200-1724025599@stchristina.org
SUMMARY:FSA Back to School Party
DESCRIPTION:
URL:https://stchristina.org/event/fsa-back-to-school-party/
END:VEVENT
BEGIN:VEVENT
DTSTART;VALUE=DATE:20240819
DTEND;VALUE=DATE:20240820
DTSTAMP:20260424T194703
CREATED:20240715T174125Z
LAST-MODIFIED:20240715T174125Z
UID:7154-1724025600-1724111999@stchristina.org
SUMMARY:Meet the Teacher / Supply Drop Off Night
DESCRIPTION:
URL:https://stchristina.org/event/meet-the-teacher-supply-drop-off-night-2/
END:VEVENT
BEGIN:VEVENT
DTSTART;VALUE=DATE:20240819
DTEND;VALUE=DATE:20240820
DTSTAMP:20260424T194703
CREATED:20240715T174201Z
LAST-MODIFIED:20240715T174201Z
UID:7156-1724025600-1724111999@stchristina.org
SUMMARY:SCAA Meeting
DESCRIPTION:
URL:https://stchristina.org/event/scaa-meeting/
END:VEVENT
BEGIN:VEVENT
DTSTART;VALUE=DATE:20240821
DTEND;VALUE=DATE:20240822
DTSTAMP:20260424T194703
CREATED:20240715T174330Z
LAST-MODIFIED:20240715T174330Z
UID:7158-1724198400-1724284799@stchristina.org
SUMMARY:FIRST DAY OF SCHOOL K-8\, 11:30am Dismissal
DESCRIPTION:
URL:https://stchristina.org/event/first-day-of-school-k-8-1130am-dismissal-2/
END:VEVENT
BEGIN:VEVENT
DTSTART;VALUE=DATE:20240821
DTEND;VALUE=DATE:20240822
DTSTAMP:20260424T194703
CREATED:20240715T174416Z
LAST-MODIFIED:20240715T174416Z
UID:7160-1724198400-1724284799@stchristina.org
SUMMARY:PreK Open House (times to come)
DESCRIPTION:
URL:https://stchristina.org/event/prek-open-house-times-to-come/
END:VEVENT
BEGIN:VEVENT
DTSTART;VALUE=DATE:20240822
DTEND;VALUE=DATE:20240823
DTSTAMP:20260424T194703
CREATED:20240715T174539Z
LAST-MODIFIED:20240715T175146Z
UID:7162-1724284800-1724371199@stchristina.org
SUMMARY:FIRST DAY OF SCHOOL PreK 5-day Students\, 10:50am Dismissal
DESCRIPTION:
URL:https://stchristina.org/event/first-day-of-school-prek-5-day-students-1050-dismissal/
END:VEVENT
BEGIN:VEVENT
DTSTART;VALUE=DATE:20240822
DTEND;VALUE=DATE:20240823
DTSTAMP:20260424T194703
CREATED:20240715T174624Z
LAST-MODIFIED:20240715T175305Z
UID:7164-1724284800-1724371199@stchristina.org
SUMMARY:K-8\, 2:30pm Dismissal
DESCRIPTION:
URL:https://stchristina.org/event/k-8-230-dismissal/
END:VEVENT
BEGIN:VEVENT
DTSTART;VALUE=DATE:20240823
DTEND;VALUE=DATE:20240824
DTSTAMP:20260424T194703
CREATED:20240715T175048Z
LAST-MODIFIED:20240715T175622Z
UID:7166-1724371200-1724457599@stchristina.org
SUMMARY:FIRST DAY OF SCHOOL PreK 3-day Students\, 10:50am Dismissal for all PreK
DESCRIPTION:
URL:https://stchristina.org/event/first-day-of-school-prek-3-day-students-1050am-dismissal/
END:VEVENT
BEGIN:VEVENT
DTSTART;VALUE=DATE:20240823
DTEND;VALUE=DATE:20240824
DTSTAMP:20260424T194703
CREATED:20240715T175241Z
LAST-MODIFIED:20240715T175241Z
UID:7169-1724371200-1724457599@stchristina.org
SUMMARY:K-8 2:30pm Dismissal
DESCRIPTION:
URL:https://stchristina.org/event/k-8-230pm-dismissal/
END:VEVENT
BEGIN:VEVENT
DTSTART;VALUE=DATE:20240828
DTEND;VALUE=DATE:20240829
DTSTAMP:20260424T194703
CREATED:20240715T175349Z
LAST-MODIFIED:20240715T175349Z
UID:7172-1724803200-1724889599@stchristina.org
SUMMARY:8:10am Mass
DESCRIPTION:
URL:https://stchristina.org/event/810am-mass-28/
END:VEVENT
BEGIN:VEVENT
DTSTART;VALUE=DATE:20240830
DTEND;VALUE=DATE:20240831
DTSTAMP:20260424T194703
CREATED:20240715T175415Z
LAST-MODIFIED:20240715T175415Z
UID:7174-1724976000-1725062399@stchristina.org
SUMMARY:1:45pm Dismissal
DESCRIPTION:
URL:https://stchristina.org/event/145pm-dismissal/
END:VEVENT
BEGIN:VEVENT
DTSTART;VALUE=DATE:20240830
DTEND;VALUE=DATE:20240831
DTSTAMP:20260424T194703
CREATED:20240715T175433Z
LAST-MODIFIED:20240715T175433Z
UID:7176-1724976000-1725062399@stchristina.org
SUMMARY:No Extended Care
DESCRIPTION:
URL:https://stchristina.org/event/no-extended-care-11/
END:VEVENT
END:VCALENDAR