BEGIN:VCALENDAR
VERSION:2.0
PRODID:-//St. Christina Catholic School - ECPv6.15.20//NONSGML v1.0//EN
CALSCALE:GREGORIAN
METHOD:PUBLISH
X-ORIGINAL-URL:https://stchristina.org
X-WR-CALDESC:Events for St. Christina Catholic School
REFRESH-INTERVAL;VALUE=DURATION:PT1H
X-Robots-Tag:noindex
X-PUBLISHED-TTL:PT1H
BEGIN:VTIMEZONE
TZID:UTC
BEGIN:STANDARD
TZOFFSETFROM:+0000
TZOFFSETTO:+0000
TZNAME:UTC
DTSTART:20230101T000000
END:STANDARD
END:VTIMEZONE
BEGIN:VEVENT
DTSTART;VALUE=DATE:20240603
DTEND;VALUE=DATE:20240604
DTSTAMP:20260424T223842
CREATED:20230801T200147Z
LAST-MODIFIED:20230801T200147Z
UID:6820-1717372800-1717459199@stchristina.org
SUMMARY:FSA Year End Carnival (PreK-6th)\, Movie Field Trip (7th)
DESCRIPTION:
URL:https://stchristina.org/event/fsa-year-end-carnival-prek-6th-movie-field-trip-7th/
END:VEVENT
BEGIN:VEVENT
DTSTART;VALUE=DATE:20240603
DTEND;VALUE=DATE:20240604
DTSTAMP:20260424T223842
CREATED:20230801T200216Z
LAST-MODIFIED:20230801T200216Z
UID:6822-1717372800-1717459199@stchristina.org
SUMMARY:8th Grade Graduation\, 6pm
DESCRIPTION:
URL:https://stchristina.org/event/8th-grade-graduation-6pm/
END:VEVENT
BEGIN:VEVENT
DTSTART;VALUE=DATE:20240604
DTEND;VALUE=DATE:20240605
DTSTAMP:20260424T223842
CREATED:20230801T200322Z
LAST-MODIFIED:20230801T200322Z
UID:6824-1717459200-1717545599@stchristina.org
SUMMARY:PreK3 + 4 End-Of-Year Programs
DESCRIPTION:
URL:https://stchristina.org/event/prek3-4-end-of-year-programs/
END:VEVENT
BEGIN:VEVENT
DTSTART;VALUE=DATE:20240604
DTEND;VALUE=DATE:20240605
DTSTAMP:20260424T223842
CREATED:20230801T200356Z
LAST-MODIFIED:20230801T200356Z
UID:6826-1717459200-1717545599@stchristina.org
SUMMARY:SAC Mtg.\, 7pm
DESCRIPTION:
URL:https://stchristina.org/event/sac-mtg-7pm-11/
END:VEVENT
BEGIN:VEVENT
DTSTART;VALUE=DATE:20240605
DTEND;VALUE=DATE:20240606
DTSTAMP:20260424T223842
CREATED:20230801T201127Z
LAST-MODIFIED:20230802T164504Z
UID:6830-1717545600-1717631999@stchristina.org
SUMMARY:Incoming PreK Assessments
DESCRIPTION:
URL:https://stchristina.org/event/prek-assessments/
END:VEVENT
BEGIN:VEVENT
DTSTART;VALUE=DATE:20240606
DTEND;VALUE=DATE:20240607
DTSTAMP:20260424T223842
CREATED:20230801T201228Z
LAST-MODIFIED:20230801T201228Z
UID:6832-1717632000-1717718399@stchristina.org
SUMMARY:LAST DAY OF SCHOOL
DESCRIPTION:
URL:https://stchristina.org/event/last-day-of-school-3/
END:VEVENT
BEGIN:VEVENT
DTSTART;VALUE=DATE:20240606
DTEND;VALUE=DATE:20240607
DTSTAMP:20260424T223842
CREATED:20230801T201326Z
LAST-MODIFIED:20230801T203142Z
UID:6834-1717632000-1717718399@stchristina.org
SUMMARY:8:45am Awards Mass planned by 7th Grade
DESCRIPTION:
URL:https://stchristina.org/event/845am-awards-mass-planned-by-7th-grade/
END:VEVENT
BEGIN:VEVENT
DTSTART;VALUE=DATE:20240606
DTEND;VALUE=DATE:20240607
DTSTAMP:20260424T223842
CREATED:20230801T201443Z
LAST-MODIFIED:20230801T201443Z
UID:6836-1717632000-1717718399@stchristina.org
SUMMARY:10:30 Dismissal
DESCRIPTION:
URL:https://stchristina.org/event/1030-dismissal/
END:VEVENT
BEGIN:VEVENT
DTSTART;VALUE=DATE:20240606
DTEND;VALUE=DATE:20240607
DTSTAMP:20260424T223842
CREATED:20230801T201532Z
LAST-MODIFIED:20230801T201532Z
UID:6838-1717632000-1717718399@stchristina.org
SUMMARY:Report Cards
DESCRIPTION:
URL:https://stchristina.org/event/report-cards-12/
END:VEVENT
BEGIN:VEVENT
DTSTART;VALUE=DATE:20240606
DTEND;VALUE=DATE:20240607
DTSTAMP:20260424T223842
CREATED:20230801T201610Z
LAST-MODIFIED:20230801T201617Z
UID:6840-1717632000-1717718399@stchristina.org
SUMMARY:No Extended Care
DESCRIPTION:
URL:https://stchristina.org/event/no-extended-care-16/
END:VEVENT
BEGIN:VEVENT
DTSTART;TZID=UTC:20240610T080000
DTEND;TZID=UTC:20240613T170000
DTSTAMP:20260424T223842
CREATED:20230801T203700Z
LAST-MODIFIED:20230801T203700Z
UID:6844-1718006400-1718298000@stchristina.org
SUMMARY:SUMMER CAMPS (monday-thursday)
DESCRIPTION:
URL:https://stchristina.org/event/summer-camps-monday-thursday/
END:VEVENT
BEGIN:VEVENT
DTSTART;VALUE=DATE:20240617
DTEND;VALUE=DATE:20240618
DTSTAMP:20260424T223842
CREATED:20230801T203612Z
LAST-MODIFIED:20230801T203612Z
UID:6842-1718582400-1718668799@stchristina.org
SUMMARY:SCAA Mtg.\, 7:30pm
DESCRIPTION:
URL:https://stchristina.org/event/scaa-mtg-730pm-11/
END:VEVENT
BEGIN:VEVENT
DTSTART;TZID=UTC:20240617T080000
DTEND;TZID=UTC:20240620T170000
DTSTAMP:20260424T223842
CREATED:20230801T203728Z
LAST-MODIFIED:20230801T203735Z
UID:6846-1718611200-1718902800@stchristina.org
SUMMARY:SUMMER CAMPS (monday-thursday)
DESCRIPTION:
URL:https://stchristina.org/event/summer-camps-monday-thursday-2/
END:VEVENT
END:VCALENDAR