BEGIN:VCALENDAR
VERSION:2.0
PRODID:-//St. Christina Catholic School - ECPv6.15.20//NONSGML v1.0//EN
CALSCALE:GREGORIAN
METHOD:PUBLISH
X-ORIGINAL-URL:https://stchristina.org
X-WR-CALDESC:Events for St. Christina Catholic School
REFRESH-INTERVAL;VALUE=DURATION:PT1H
X-Robots-Tag:noindex
X-PUBLISHED-TTL:PT1H
BEGIN:VTIMEZONE
TZID:UTC
BEGIN:STANDARD
TZOFFSETFROM:+0000
TZOFFSETTO:+0000
TZNAME:UTC
DTSTART:20220101T000000
END:STANDARD
END:VTIMEZONE
BEGIN:VEVENT
DTSTART;VALUE=DATE:20230601
DTEND;VALUE=DATE:20230602
DTSTAMP:20260425T155658
CREATED:20220801T184053Z
LAST-MODIFIED:20220801T184058Z
UID:5709-1685577600-1685663999@stchristina.org
SUMMARY:8th Grade Graduation
DESCRIPTION:
URL:https://stchristina.org/event/8th-grade-graduation-3/
END:VEVENT
BEGIN:VEVENT
DTSTART;VALUE=DATE:20230602
DTEND;VALUE=DATE:20230603
DTSTAMP:20260425T155658
CREATED:20220801T184127Z
LAST-MODIFIED:20220801T184132Z
UID:5711-1685664000-1685750399@stchristina.org
SUMMARY:Pre-K and K End of Year Programs
DESCRIPTION:
URL:https://stchristina.org/event/pre-k-and-k-end-of-year-programs/
END:VEVENT
BEGIN:VEVENT
DTSTART;VALUE=DATE:20230603
DTEND;VALUE=DATE:20230604
DTSTAMP:20260425T155658
CREATED:20230126T024307Z
LAST-MODIFIED:20230126T024307Z
UID:6095-1685750400-1685836799@stchristina.org
SUMMARY:FSA Comedy Night
DESCRIPTION:
URL:https://stchristina.org/event/fsa-comedy-night/
END:VEVENT
BEGIN:VEVENT
DTSTART;VALUE=DATE:20230605
DTEND;VALUE=DATE:20230606
DTSTAMP:20260425T155658
CREATED:20220801T184216Z
LAST-MODIFIED:20220801T184223Z
UID:5713-1685923200-1686009599@stchristina.org
SUMMARY:FSA End of Year Carnival
DESCRIPTION:
URL:https://stchristina.org/event/fsa-end-of-year-carnival/
END:VEVENT
BEGIN:VEVENT
DTSTART;VALUE=DATE:20230605
DTEND;VALUE=DATE:20230606
DTSTAMP:20260425T155658
CREATED:20220801T184249Z
LAST-MODIFIED:20220801T184253Z
UID:5715-1685923200-1686009599@stchristina.org
SUMMARY:SAC Meeting\, 7pm
DESCRIPTION:
URL:https://stchristina.org/event/sac-meeting-7pm-10/
END:VEVENT
BEGIN:VEVENT
DTSTART;VALUE=DATE:20230606
DTEND;VALUE=DATE:20230607
DTSTAMP:20260425T155658
CREATED:20220801T184328Z
LAST-MODIFIED:20220801T184328Z
UID:5717-1686009600-1686095999@stchristina.org
SUMMARY:LAST DAY OF SCHOOL
DESCRIPTION:
URL:https://stchristina.org/event/last-day-of-school-2/
END:VEVENT
BEGIN:VEVENT
DTSTART;VALUE=DATE:20230606
DTEND;VALUE=DATE:20230607
DTSTAMP:20260425T155658
CREATED:20220801T184412Z
LAST-MODIFIED:20220801T184420Z
UID:5719-1686009600-1686095999@stchristina.org
SUMMARY:11:30 Dismissal\, No Extended Care
DESCRIPTION:
URL:https://stchristina.org/event/1130-dismissal-no-extended-care/
END:VEVENT
BEGIN:VEVENT
DTSTART;VALUE=DATE:20230612
DTEND;VALUE=DATE:20230616
DTSTAMP:20260425T155658
CREATED:20230402T211505Z
LAST-MODIFIED:20230402T211505Z
UID:6155-1686528000-1686873599@stchristina.org
SUMMARY:Summer Camps
DESCRIPTION:
URL:https://stchristina.org/event/summer-camps/
END:VEVENT
BEGIN:VEVENT
DTSTART;VALUE=DATE:20230619
DTEND;VALUE=DATE:20230623
DTSTAMP:20260425T155658
CREATED:20230402T211547Z
LAST-MODIFIED:20230402T211547Z
UID:6157-1687132800-1687478399@stchristina.org
SUMMARY:Summer Camps
DESCRIPTION:
URL:https://stchristina.org/event/summer-camps-2/
END:VEVENT
END:VCALENDAR