BEGIN:VCALENDAR
VERSION:2.0
PRODID:-//St. Christina Catholic School - ECPv6.15.20//NONSGML v1.0//EN
CALSCALE:GREGORIAN
METHOD:PUBLISH
X-WR-CALNAME:St. Christina Catholic School
X-ORIGINAL-URL:https://stchristina.org
X-WR-CALDESC:Events for St. Christina Catholic School
REFRESH-INTERVAL;VALUE=DURATION:PT1H
X-Robots-Tag:noindex
X-PUBLISHED-TTL:PT1H
BEGIN:VTIMEZONE
TZID:UTC
BEGIN:STANDARD
TZOFFSETFROM:+0000
TZOFFSETTO:+0000
TZNAME:UTC
DTSTART:20230101T000000
END:STANDARD
END:VTIMEZONE
BEGIN:VEVENT
DTSTART;VALUE=DATE:20240417
DTEND;VALUE=DATE:20240418
DTSTAMP:20260425T122116
CREATED:20230801T184250Z
LAST-MODIFIED:20230801T184250Z
UID:6742-1713312000-1713398399@stchristina.org
SUMMARY:8:10am Mass
DESCRIPTION:
URL:https://stchristina.org/event/810am-mass-24/
END:VEVENT
BEGIN:VEVENT
DTSTART;VALUE=DATE:20240415
DTEND;VALUE=DATE:20240416
DTSTAMP:20260425T122116
CREATED:20230801T184230Z
LAST-MODIFIED:20230801T184230Z
UID:6740-1713139200-1713225599@stchristina.org
SUMMARY:Boosterthon Kick-Off
DESCRIPTION:
URL:https://stchristina.org/event/boosterthon-kick-off/
END:VEVENT
BEGIN:VEVENT
DTSTART;VALUE=DATE:20240411
DTEND;VALUE=DATE:20240412
DTSTAMP:20260425T122116
CREATED:20230801T184203Z
LAST-MODIFIED:20230801T184203Z
UID:6738-1712793600-1712879999@stchristina.org
SUMMARY:Hot Lunch Barraco's Burger/Breadsticks
DESCRIPTION:
URL:https://stchristina.org/event/hot-lunch-barracos-burger-breadsticks-4/
END:VEVENT
BEGIN:VEVENT
DTSTART;VALUE=DATE:20240411
DTEND;VALUE=DATE:20240412
DTSTAMP:20260425T122116
CREATED:20230801T184130Z
LAST-MODIFIED:20230801T184130Z
UID:6736-1712793600-1712879999@stchristina.org
SUMMARY:Early Dismissal\, 1:45\, Teacher PD
DESCRIPTION:
URL:https://stchristina.org/event/early-dismissal-145-teacher-pd-2/
END:VEVENT
BEGIN:VEVENT
DTSTART;VALUE=DATE:20240410
DTEND;VALUE=DATE:20240411
DTSTAMP:20260425T122116
CREATED:20230801T184059Z
LAST-MODIFIED:20230801T184059Z
UID:6734-1712707200-1712793599@stchristina.org
SUMMARY:Enrichment
DESCRIPTION:
URL:https://stchristina.org/event/enrichment-23/
END:VEVENT
BEGIN:VEVENT
DTSTART;VALUE=DATE:20240410
DTEND;VALUE=DATE:20240411
DTSTAMP:20260425T122116
CREATED:20230801T184031Z
LAST-MODIFIED:20230801T184031Z
UID:6732-1712707200-1712793599@stchristina.org
SUMMARY:8:10am Mass
DESCRIPTION:
URL:https://stchristina.org/event/810am-mass-23/
END:VEVENT
BEGIN:VEVENT
DTSTART;VALUE=DATE:20240409
DTEND;VALUE=DATE:20240410
DTSTAMP:20260425T122116
CREATED:20230801T184006Z
LAST-MODIFIED:20230801T184006Z
UID:6730-1712620800-1712707199@stchristina.org
SUMMARY:FSA Mtg.\, 7pm
DESCRIPTION:
URL:https://stchristina.org/event/fsa-mtg-7pm-4/
END:VEVENT
BEGIN:VEVENT
DTSTART;VALUE=DATE:20240409
DTEND;VALUE=DATE:20240410
DTSTAMP:20260425T122116
CREATED:20230801T183941Z
LAST-MODIFIED:20230801T183941Z
UID:6728-1712620800-1712707199@stchristina.org
SUMMARY:SAC Mtg.\, 7pm
DESCRIPTION:
URL:https://stchristina.org/event/sac-mtg-7pm-9/
END:VEVENT
BEGIN:VEVENT
DTSTART;VALUE=DATE:20240331
DTEND;VALUE=DATE:20240401
DTSTAMP:20260425T122116
CREATED:20230801T024238Z
LAST-MODIFIED:20230801T024238Z
UID:6724-1711843200-1711929599@stchristina.org
SUMMARY:Happy Easter
DESCRIPTION:
URL:https://stchristina.org/event/happy-easter-3/
END:VEVENT
BEGIN:VEVENT
DTSTART;VALUE=DATE:20240329
DTEND;VALUE=DATE:20240330
DTSTAMP:20260425T122116
CREATED:20230801T024218Z
LAST-MODIFIED:20230801T024218Z
UID:6722-1711670400-1711756799@stchristina.org
SUMMARY:Good Friday
DESCRIPTION:
URL:https://stchristina.org/event/good-friday-2/
END:VEVENT
BEGIN:VEVENT
DTSTART;TZID=UTC:20240328T080000
DTEND;TZID=UTC:20240405T170000
DTSTAMP:20260425T122116
CREATED:20230801T024133Z
LAST-MODIFIED:20230801T024133Z
UID:6718-1711612800-1712336400@stchristina.org
SUMMARY:Easter Break
DESCRIPTION:
URL:https://stchristina.org/event/easter-break-5/
END:VEVENT
BEGIN:VEVENT
DTSTART;VALUE=DATE:20240328
DTEND;VALUE=DATE:20240329
DTSTAMP:20260425T122116
CREATED:20230801T024154Z
LAST-MODIFIED:20230801T024154Z
UID:6720-1711584000-1711670399@stchristina.org
SUMMARY:Holy Thursday
DESCRIPTION:
URL:https://stchristina.org/event/holy-thursday-3/
END:VEVENT
BEGIN:VEVENT
DTSTART;VALUE=DATE:20240327
DTEND;VALUE=DATE:20240328
DTSTAMP:20260425T122116
CREATED:20230801T024053Z
LAST-MODIFIED:20230801T024053Z
UID:6716-1711497600-1711583999@stchristina.org
SUMMARY:No Enrichment\, No Extended Care
DESCRIPTION:
URL:https://stchristina.org/event/no-enrichment-no-extended-care/
END:VEVENT
BEGIN:VEVENT
DTSTART;VALUE=DATE:20240327
DTEND;VALUE=DATE:20240328
DTSTAMP:20260425T122116
CREATED:20230801T024024Z
LAST-MODIFIED:20230801T024024Z
UID:6714-1711497600-1711583999@stchristina.org
SUMMARY:8:10am Mass
DESCRIPTION:
URL:https://stchristina.org/event/810am-mass-22/
END:VEVENT
BEGIN:VEVENT
DTSTART;VALUE=DATE:20240327
DTEND;VALUE=DATE:20240328
DTSTAMP:20260425T122116
CREATED:20230801T023957Z
LAST-MODIFIED:20230801T023957Z
UID:6712-1711497600-1711583999@stchristina.org
SUMMARY:Early Dismissal 1:45pm
DESCRIPTION:
URL:https://stchristina.org/event/early-dismissal-145pm-2/
END:VEVENT
BEGIN:VEVENT
DTSTART;VALUE=DATE:20240326
DTEND;VALUE=DATE:20240327
DTSTAMP:20260425T122116
CREATED:20240111T145220Z
LAST-MODIFIED:20240111T145940Z
UID:7032-1711411200-1711497599@stchristina.org
SUMMARY:FSA Ice Cream Fundraiser
DESCRIPTION:
URL:https://stchristina.org/event/fsa-ice-cream-fundraiser/
END:VEVENT
BEGIN:VEVENT
DTSTART;VALUE=DATE:20240321
DTEND;VALUE=DATE:20240322
DTSTAMP:20260425T122116
CREATED:20230801T023921Z
LAST-MODIFIED:20240229T165940Z
UID:6710-1710979200-1711065599@stchristina.org
SUMMARY:FSA Polar Plunge
DESCRIPTION:
URL:https://stchristina.org/event/fsa-polar-plunge/
END:VEVENT
BEGIN:VEVENT
DTSTART;VALUE=DATE:20240321
DTEND;VALUE=DATE:20240322
DTSTAMP:20260425T122116
CREATED:20230801T023858Z
LAST-MODIFIED:20230801T023858Z
UID:6708-1710979200-1711065599@stchristina.org
SUMMARY:Hot Lunch Calabria Mostaccioli
DESCRIPTION:
URL:https://stchristina.org/event/hot-lunch-calabria-mostaccioli-6/
END:VEVENT
BEGIN:VEVENT
DTSTART;VALUE=DATE:20240320
DTEND;VALUE=DATE:20240321
DTSTAMP:20260425T122116
CREATED:20230801T023828Z
LAST-MODIFIED:20230801T023828Z
UID:6706-1710892800-1710979199@stchristina.org
SUMMARY:Enrichment
DESCRIPTION:
URL:https://stchristina.org/event/enrichment-22/
END:VEVENT
BEGIN:VEVENT
DTSTART;VALUE=DATE:20240320
DTEND;VALUE=DATE:20240321
DTSTAMP:20260425T122116
CREATED:20230801T023810Z
LAST-MODIFIED:20230801T023810Z
UID:6704-1710892800-1710979199@stchristina.org
SUMMARY:8:10am Mass
DESCRIPTION:
URL:https://stchristina.org/event/810am-mass-21/
END:VEVENT
BEGIN:VEVENT
DTSTART;VALUE=DATE:20240319
DTEND;VALUE=DATE:20240321
DTSTAMP:20260425T122116
CREATED:20230801T023652Z
LAST-MODIFIED:20230821T162555Z
UID:6698-1710806400-1710979199@stchristina.org
SUMMARY:Lenten Confessions Grades 2-8
DESCRIPTION:
URL:https://stchristina.org/event/lenten-confessions-grades-2-8/
END:VEVENT
BEGIN:VEVENT
DTSTART;VALUE=DATE:20240319
DTEND;VALUE=DATE:20240320
DTSTAMP:20260425T122116
CREATED:20230801T023746Z
LAST-MODIFIED:20230801T023746Z
UID:6702-1710806400-1710892799@stchristina.org
SUMMARY:8th Grade Graduation Pictures Retakes
DESCRIPTION:
URL:https://stchristina.org/event/8th-grade-graduation-pictures-retakes/
END:VEVENT
BEGIN:VEVENT
DTSTART;VALUE=DATE:20240318
DTEND;VALUE=DATE:20240319
DTSTAMP:20260425T122116
CREATED:20230801T023718Z
LAST-MODIFIED:20230801T023718Z
UID:6700-1710720000-1710806399@stchristina.org
SUMMARY:SCAA Mtg.\, 7:30pm
DESCRIPTION:
URL:https://stchristina.org/event/scaa-mtg-730pm-8/
END:VEVENT
BEGIN:VEVENT
DTSTART;VALUE=DATE:20240318
DTEND;VALUE=DATE:20240319
DTSTAMP:20260425T122116
CREATED:20230801T023346Z
LAST-MODIFIED:20230821T145837Z
UID:6686-1710720000-1710806399@stchristina.org
SUMMARY:No School Faculty Retreat
DESCRIPTION:
URL:https://stchristina.org/event/no-school-faculty-retreat/
END:VEVENT
BEGIN:VEVENT
DTSTART;VALUE=DATE:20240315
DTEND;VALUE=DATE:20240316
DTSTAMP:20260425T122116
CREATED:20230801T023605Z
LAST-MODIFIED:20230801T023605Z
UID:6696-1710460800-1710547199@stchristina.org
SUMMARY:Stations of the Cross
DESCRIPTION:
URL:https://stchristina.org/event/stations-of-the-cross-3/
END:VEVENT
BEGIN:VEVENT
DTSTART;VALUE=DATE:20240315
DTEND;VALUE=DATE:20240316
DTSTAMP:20260425T122116
CREATED:20230801T023544Z
LAST-MODIFIED:20230801T023544Z
UID:6694-1710460800-1710547199@stchristina.org
SUMMARY:Green Dress Down for St. Patrick's Day
DESCRIPTION:
URL:https://stchristina.org/event/green-dress-down-for-st-patricks-day/
END:VEVENT
BEGIN:VEVENT
DTSTART;VALUE=DATE:20240314
DTEND;VALUE=DATE:20240315
DTSTAMP:20260425T122116
CREATED:20230801T023510Z
LAST-MODIFIED:20230801T023510Z
UID:6692-1710374400-1710460799@stchristina.org
SUMMARY:Hot Lunch Barraco's Burgers/Breadsticks
DESCRIPTION:
URL:https://stchristina.org/event/hot-lunch-barracos-burgers-breadsticks-3/
END:VEVENT
BEGIN:VEVENT
DTSTART;VALUE=DATE:20240313
DTEND;VALUE=DATE:20240314
DTSTAMP:20260425T122116
CREATED:20230801T023438Z
LAST-MODIFIED:20230801T023438Z
UID:6690-1710288000-1710374399@stchristina.org
SUMMARY:Enrichment
DESCRIPTION:
URL:https://stchristina.org/event/enrichment-21/
END:VEVENT
BEGIN:VEVENT
DTSTART;VALUE=DATE:20240313
DTEND;VALUE=DATE:20240314
DTSTAMP:20260425T122116
CREATED:20230801T023417Z
LAST-MODIFIED:20230801T023417Z
UID:6688-1710288000-1710374399@stchristina.org
SUMMARY:8:10am Mass Planned by 1st Grade
DESCRIPTION:
URL:https://stchristina.org/event/810am-mass-planned-by-1st-grade/
END:VEVENT
BEGIN:VEVENT
DTSTART;VALUE=DATE:20240310
DTEND;VALUE=DATE:20240311
DTSTAMP:20260425T122116
CREATED:20230801T023325Z
LAST-MODIFIED:20230801T023325Z
UID:6684-1710028800-1710115199@stchristina.org
SUMMARY:FSA Breakfast with the Easter Bunny
DESCRIPTION:
URL:https://stchristina.org/event/fsa-breakfast-with-the-easter-bunny-2/
END:VEVENT
END:VCALENDAR