BEGIN:VCALENDAR
VERSION:2.0
PRODID:-//St. Christina Catholic School - ECPv6.15.20//NONSGML v1.0//EN
CALSCALE:GREGORIAN
METHOD:PUBLISH
X-WR-CALNAME:St. Christina Catholic School
X-ORIGINAL-URL:https://stchristina.org
X-WR-CALDESC:Events for St. Christina Catholic School
REFRESH-INTERVAL;VALUE=DURATION:PT1H
X-Robots-Tag:noindex
X-PUBLISHED-TTL:PT1H
BEGIN:VTIMEZONE
TZID:UTC
BEGIN:STANDARD
TZOFFSETFROM:+0000
TZOFFSETTO:+0000
TZNAME:UTC
DTSTART:20230101T000000
END:STANDARD
END:VTIMEZONE
BEGIN:VEVENT
DTSTART;VALUE=DATE:20240225
DTEND;VALUE=DATE:20240226
DTSTAMP:20260425T145321
CREATED:20230801T022158Z
LAST-MODIFIED:20230801T022158Z
UID:6656-1708819200-1708905599@stchristina.org
SUMMARY:FSA Father/Son Bowling
DESCRIPTION:
URL:https://stchristina.org/event/fsa-father-son-bowling-2/
END:VEVENT
BEGIN:VEVENT
DTSTART;VALUE=DATE:20240223
DTEND;VALUE=DATE:20240224
DTSTAMP:20260425T145321
CREATED:20230801T022131Z
LAST-MODIFIED:20230801T022131Z
UID:6654-1708646400-1708732799@stchristina.org
SUMMARY:Stations of the cross
DESCRIPTION:
URL:https://stchristina.org/event/stations-of-the-cross/
END:VEVENT
BEGIN:VEVENT
DTSTART;VALUE=DATE:20240223
DTEND;VALUE=DATE:20240224
DTSTAMP:20260425T145321
CREATED:20230801T022108Z
LAST-MODIFIED:20230801T022108Z
UID:6652-1708646400-1708732799@stchristina.org
SUMMARY:8th Grade Graduation Pictures
DESCRIPTION:
URL:https://stchristina.org/event/8th-grade-graduation-pictures-2/
END:VEVENT
BEGIN:VEVENT
DTSTART;VALUE=DATE:20240222
DTEND;VALUE=DATE:20240223
DTSTAMP:20260425T145321
CREATED:20230801T022021Z
LAST-MODIFIED:20230801T022021Z
UID:6650-1708560000-1708646399@stchristina.org
SUMMARY:Hot Lunch Home Run Inn
DESCRIPTION:
URL:https://stchristina.org/event/hot-lunch-home-run-inn/
END:VEVENT
BEGIN:VEVENT
DTSTART;VALUE=DATE:20240221
DTEND;VALUE=DATE:20240222
DTSTAMP:20260425T145321
CREATED:20230801T021953Z
LAST-MODIFIED:20230801T021953Z
UID:6648-1708473600-1708559999@stchristina.org
SUMMARY:Enrichment
DESCRIPTION:
URL:https://stchristina.org/event/enrichment-18/
END:VEVENT
BEGIN:VEVENT
DTSTART;VALUE=DATE:20240221
DTEND;VALUE=DATE:20240222
DTSTAMP:20260425T145321
CREATED:20230801T021932Z
LAST-MODIFIED:20230801T021932Z
UID:6646-1708473600-1708559999@stchristina.org
SUMMARY:8:10am Mass
DESCRIPTION:
URL:https://stchristina.org/event/810am-mass-18/
END:VEVENT
BEGIN:VEVENT
DTSTART;VALUE=DATE:20240219
DTEND;VALUE=DATE:20240220
DTSTAMP:20260425T145321
CREATED:20230801T021907Z
LAST-MODIFIED:20230801T021907Z
UID:6644-1708300800-1708387199@stchristina.org
SUMMARY:SCAA Mtg.\, 7:30pm
DESCRIPTION:
URL:https://stchristina.org/event/scaa-mtg-730pm-7/
END:VEVENT
BEGIN:VEVENT
DTSTART;VALUE=DATE:20240219
DTEND;VALUE=DATE:20240220
DTSTAMP:20260425T145321
CREATED:20230801T021838Z
LAST-MODIFIED:20230801T021838Z
UID:6642-1708300800-1708387199@stchristina.org
SUMMARY:No School President's Day
DESCRIPTION:
URL:https://stchristina.org/event/no-school-presidents-day-2/
END:VEVENT
BEGIN:VEVENT
DTSTART;VALUE=DATE:20240215
DTEND;VALUE=DATE:20240216
DTSTAMP:20260425T145321
CREATED:20230801T021757Z
LAST-MODIFIED:20230801T021757Z
UID:6640-1707955200-1708041599@stchristina.org
SUMMARY:Hot Lunch Calabria Mostaccioli
DESCRIPTION:
URL:https://stchristina.org/event/hot-lunch-calabria-mostaccioli-5/
END:VEVENT
BEGIN:VEVENT
DTSTART;VALUE=DATE:20240214
DTEND;VALUE=DATE:20240215
DTSTAMP:20260425T145321
CREATED:20230801T021725Z
LAST-MODIFIED:20230801T021725Z
UID:6638-1707868800-1707955199@stchristina.org
SUMMARY:Enrichment
DESCRIPTION:
URL:https://stchristina.org/event/enrichment-17/
END:VEVENT
BEGIN:VEVENT
DTSTART;VALUE=DATE:20240214
DTEND;VALUE=DATE:20240215
DTSTAMP:20260425T145321
CREATED:20230801T021659Z
LAST-MODIFIED:20230801T021659Z
UID:6636-1707868800-1707955199@stchristina.org
SUMMARY:Student Classroom Retreat Day
DESCRIPTION:
URL:https://stchristina.org/event/student-classroom-retreat-day/
END:VEVENT
BEGIN:VEVENT
DTSTART;VALUE=DATE:20240214
DTEND;VALUE=DATE:20240215
DTSTAMP:20260425T145321
CREATED:20230801T021635Z
LAST-MODIFIED:20230801T021635Z
UID:6634-1707868800-1707955199@stchristina.org
SUMMARY:8:10am Mass
DESCRIPTION:
URL:https://stchristina.org/event/810am-mass-17/
END:VEVENT
BEGIN:VEVENT
DTSTART;VALUE=DATE:20240214
DTEND;VALUE=DATE:20240215
DTSTAMP:20260425T145321
CREATED:20230801T021607Z
LAST-MODIFIED:20230801T021607Z
UID:6632-1707868800-1707955199@stchristina.org
SUMMARY:Ash Wednesday
DESCRIPTION:
URL:https://stchristina.org/event/ash-wednesday-3/
END:VEVENT
BEGIN:VEVENT
DTSTART;VALUE=DATE:20240213
DTEND;VALUE=DATE:20240214
DTSTAMP:20260425T145321
CREATED:20230801T021548Z
LAST-MODIFIED:20230801T021548Z
UID:6630-1707782400-1707868799@stchristina.org
SUMMARY:FSA Mtg.\, 7pm
DESCRIPTION:
URL:https://stchristina.org/event/fsa-mtg-7pm-3/
END:VEVENT
BEGIN:VEVENT
DTSTART;VALUE=DATE:20240213
DTEND;VALUE=DATE:20240214
DTSTAMP:20260425T145321
CREATED:20230801T021324Z
LAST-MODIFIED:20230801T021521Z
UID:6628-1707782400-1707868799@stchristina.org
SUMMARY:Pink/Red Dress Down Day and Valentine Card Exchange for K-8
DESCRIPTION:
URL:https://stchristina.org/event/pink-red-dress-down-day-and-valentine-card-exchange-for-k-8/
END:VEVENT
BEGIN:VEVENT
DTSTART;VALUE=DATE:20240212
DTEND;VALUE=DATE:20240213
DTSTAMP:20260425T145321
CREATED:20230801T021255Z
LAST-MODIFIED:20230801T021255Z
UID:6626-1707696000-1707782399@stchristina.org
SUMMARY:Pink/Red Dress Down Day and Valentine Card Exchange for PreK 3 + 4
DESCRIPTION:
URL:https://stchristina.org/event/pink-red-dress-down-day-and-valentine-card-exchange-for-prek-3-4/
END:VEVENT
BEGIN:VEVENT
DTSTART;VALUE=DATE:20240209
DTEND;VALUE=DATE:20240210
DTSTAMP:20260425T145321
CREATED:20230801T021121Z
LAST-MODIFIED:20230801T021121Z
UID:6624-1707436800-1707523199@stchristina.org
SUMMARY:No Extended Care
DESCRIPTION:
URL:https://stchristina.org/event/no-extended-care-14/
END:VEVENT
BEGIN:VEVENT
DTSTART;VALUE=DATE:20240209
DTEND;VALUE=DATE:20240210
DTSTAMP:20260425T145321
CREATED:20230801T021057Z
LAST-MODIFIED:20230801T021057Z
UID:6622-1707436800-1707523199@stchristina.org
SUMMARY:Early Dismissal 11:30pm\, Parent Teacher Conferences by Request 12pm-3pm
DESCRIPTION:
URL:https://stchristina.org/event/early-dismissal-1130pm-parent-teacher-conferences-by-request-12pm-3pm/
END:VEVENT
BEGIN:VEVENT
DTSTART;VALUE=DATE:20240208
DTEND;VALUE=DATE:20240209
DTSTAMP:20260425T145321
CREATED:20230801T021004Z
LAST-MODIFIED:20230801T021004Z
UID:6620-1707350400-1707436799@stchristina.org
SUMMARY:Hot Lunch Barraco's Burger/Breadsticks
DESCRIPTION:
URL:https://stchristina.org/event/hot-lunch-barracos-burger-breadsticks-3/
END:VEVENT
BEGIN:VEVENT
DTSTART;VALUE=DATE:20240207
DTEND;VALUE=DATE:20240208
DTSTAMP:20260425T145321
CREATED:20230801T020928Z
LAST-MODIFIED:20230801T020928Z
UID:6618-1707264000-1707350399@stchristina.org
SUMMARY:Enrichment
DESCRIPTION:
URL:https://stchristina.org/event/enrichment-16/
END:VEVENT
BEGIN:VEVENT
DTSTART;VALUE=DATE:20240207
DTEND;VALUE=DATE:20240208
DTSTAMP:20260425T145321
CREATED:20230801T020907Z
LAST-MODIFIED:20230904T132159Z
UID:6616-1707264000-1707350399@stchristina.org
SUMMARY:8:10am Mass planned by 2nd Grade
DESCRIPTION:
URL:https://stchristina.org/event/810am-mass-16/
END:VEVENT
BEGIN:VEVENT
DTSTART;VALUE=DATE:20240206
DTEND;VALUE=DATE:20240207
DTSTAMP:20260425T145321
CREATED:20230801T020845Z
LAST-MODIFIED:20230801T020845Z
UID:6614-1707177600-1707263999@stchristina.org
SUMMARY:Confirmation Celebration\, 6pm Mass
DESCRIPTION:
URL:https://stchristina.org/event/confirmation-celebration-6pm-mass/
END:VEVENT
BEGIN:VEVENT
DTSTART;VALUE=DATE:20240205
DTEND;VALUE=DATE:20240206
DTSTAMP:20260425T145321
CREATED:20230801T022501Z
LAST-MODIFIED:20240110T040937Z
UID:6664-1707091200-1707177599@stchristina.org
SUMMARY:SAC Mtg.\, 7pm
DESCRIPTION:
URL:https://stchristina.org/event/sac-mtg-7pm-7/
END:VEVENT
BEGIN:VEVENT
DTSTART;VALUE=DATE:20240202
DTEND;VALUE=DATE:20240203
DTSTAMP:20260425T145321
CREATED:20231214T143606Z
LAST-MODIFIED:20231214T143606Z
UID:7018-1706832000-1706918399@stchristina.org
SUMMARY:Spirit Day
DESCRIPTION:
URL:https://stchristina.org/event/spirit-day/
END:VEVENT
BEGIN:VEVENT
DTSTART;VALUE=DATE:20240201
DTEND;VALUE=DATE:20240202
DTSTAMP:20260425T145321
CREATED:20231214T143543Z
LAST-MODIFIED:20231214T143543Z
UID:7016-1706745600-1706831999@stchristina.org
SUMMARY:Student Appreciation Day
DESCRIPTION:
URL:https://stchristina.org/event/student-appreciation-day/
END:VEVENT
BEGIN:VEVENT
DTSTART;VALUE=DATE:20240201
DTEND;VALUE=DATE:20240202
DTSTAMP:20260425T145321
CREATED:20230801T020742Z
LAST-MODIFIED:20230801T020742Z
UID:6610-1706745600-1706831999@stchristina.org
SUMMARY:Confirmation Rehearsal\, 3:15pm
DESCRIPTION:
URL:https://stchristina.org/event/confirmation-rehearsal-315pm/
END:VEVENT
BEGIN:VEVENT
DTSTART;VALUE=DATE:20240201
DTEND;VALUE=DATE:20240202
DTSTAMP:20260425T145321
CREATED:20230801T020651Z
LAST-MODIFIED:20230801T020651Z
UID:6608-1706745600-1706831999@stchristina.org
SUMMARY:Early Dismissal 1:45\, Teacher PD
DESCRIPTION:
URL:https://stchristina.org/event/early-dismissal-145-teacher-pd/
END:VEVENT
BEGIN:VEVENT
DTSTART;VALUE=DATE:20240131
DTEND;VALUE=DATE:20240201
DTSTAMP:20260425T145321
CREATED:20230801T003526Z
LAST-MODIFIED:20230801T003526Z
UID:6606-1706659200-1706745599@stchristina.org
SUMMARY:Enrichment
DESCRIPTION:
URL:https://stchristina.org/event/enrichment-15/
END:VEVENT
BEGIN:VEVENT
DTSTART;VALUE=DATE:20240131
DTEND;VALUE=DATE:20240201
DTSTAMP:20260425T145321
CREATED:20230801T003457Z
LAST-MODIFIED:20230801T003457Z
UID:6604-1706659200-1706745599@stchristina.org
SUMMARY:Community Appreciation Day
DESCRIPTION:
URL:https://stchristina.org/event/community-appreciation-day/
END:VEVENT
BEGIN:VEVENT
DTSTART;VALUE=DATE:20240131
DTEND;VALUE=DATE:20240201
DTSTAMP:20260425T145321
CREATED:20230801T003435Z
LAST-MODIFIED:20230801T003435Z
UID:6602-1706659200-1706745599@stchristina.org
SUMMARY:8:10am Mass
DESCRIPTION:
URL:https://stchristina.org/event/810am-mass-15/
END:VEVENT
END:VCALENDAR