BEGIN:VCALENDAR
VERSION:2.0
PRODID:-//St. Christina Catholic School - ECPv6.15.20//NONSGML v1.0//EN
CALSCALE:GREGORIAN
METHOD:PUBLISH
X-WR-CALNAME:St. Christina Catholic School
X-ORIGINAL-URL:https://stchristina.org
X-WR-CALDESC:Events for St. Christina Catholic School
REFRESH-INTERVAL;VALUE=DURATION:PT1H
X-Robots-Tag:noindex
X-PUBLISHED-TTL:PT1H
BEGIN:VTIMEZONE
TZID:UTC
BEGIN:STANDARD
TZOFFSETFROM:+0000
TZOFFSETTO:+0000
TZNAME:UTC
DTSTART:20250101T000000
END:STANDARD
END:VTIMEZONE
BEGIN:VEVENT
DTSTART;VALUE=DATE:20260506
DTEND;VALUE=DATE:20260507
DTSTAMP:20260423T230037
CREATED:20250909T025823Z
LAST-MODIFIED:20250909T025823Z
UID:9172-1778025600-1778111999@stchristina.org
SUMMARY:Enrichment
DESCRIPTION:
URL:https://stchristina.org/event/enrichment-78/
END:VEVENT
BEGIN:VEVENT
DTSTART;VALUE=DATE:20260507
DTEND;VALUE=DATE:20260508
DTSTAMP:20260423T230037
CREATED:20250909T025858Z
LAST-MODIFIED:20250909T025858Z
UID:9174-1778112000-1778198399@stchristina.org
SUMMARY:Hot Lunch (Calabria Nuggets/Chips)
DESCRIPTION:
URL:https://stchristina.org/event/hot-lunch-calabria-nuggets-chips-11/
END:VEVENT
BEGIN:VEVENT
DTSTART;VALUE=DATE:20260507
DTEND;VALUE=DATE:20260508
DTSTAMP:20260423T230037
CREATED:20250909T025952Z
LAST-MODIFIED:20250909T025952Z
UID:9176-1778112000-1778198399@stchristina.org
SUMMARY:1:45pm Dismissal (Faculty PD)
DESCRIPTION:
URL:https://stchristina.org/event/145pm-dismissal-faculty-pd-8/
END:VEVENT
BEGIN:VEVENT
DTSTART;VALUE=DATE:20260507
DTEND;VALUE=DATE:20260508
DTSTAMP:20260423T230037
CREATED:20250909T030022Z
LAST-MODIFIED:20250909T030022Z
UID:9178-1778112000-1778198399@stchristina.org
SUMMARY:6:30pm Communion  Rehearsal
DESCRIPTION:
URL:https://stchristina.org/event/630pm-communion-rehearsal/
END:VEVENT
BEGIN:VEVENT
DTSTART;VALUE=DATE:20260508
DTEND;VALUE=DATE:20260509
DTSTAMP:20260423T230037
CREATED:20260320T131730Z
LAST-MODIFIED:20260320T131912Z
UID:10020-1778198400-1778284799@stchristina.org
SUMMARY:FSA Ice Cream Fundraiser
DESCRIPTION:
URL:https://stchristina.org/event/fsa-ice-cream-fundraiser-2/
END:VEVENT
BEGIN:VEVENT
DTSTART;VALUE=DATE:20260509
DTEND;VALUE=DATE:20260510
DTSTAMP:20260423T230037
CREATED:20250909T030050Z
LAST-MODIFIED:20250909T030050Z
UID:9180-1778284800-1778371199@stchristina.org
SUMMARY:First Holy Communion 12:30pm
DESCRIPTION:
URL:https://stchristina.org/event/first-holy-communion-1230pm/
END:VEVENT
BEGIN:VEVENT
DTSTART;VALUE=DATE:20260510
DTEND;VALUE=DATE:20260511
DTSTAMP:20260423T230037
CREATED:20250909T030240Z
LAST-MODIFIED:20250909T030240Z
UID:9184-1778371200-1778457599@stchristina.org
SUMMARY:Mother's Day
DESCRIPTION:
URL:https://stchristina.org/event/mothers-day-2/
END:VEVENT
BEGIN:VEVENT
DTSTART;TZID=UTC:20260511T080000
DTEND;TZID=UTC:20260512T170000
DTSTAMP:20260423T230037
CREATED:20250909T030310Z
LAST-MODIFIED:20250909T030310Z
UID:9186-1778486400-1778605200@stchristina.org
SUMMARY:i-Ready Diagnostic Testing
DESCRIPTION:
URL:https://stchristina.org/event/i-ready-diagnostic-testing-7/
END:VEVENT
BEGIN:VEVENT
DTSTART;VALUE=DATE:20260513
DTEND;VALUE=DATE:20260514
DTSTAMP:20260423T230037
CREATED:20250909T030353Z
LAST-MODIFIED:20250909T030353Z
UID:9188-1778630400-1778716799@stchristina.org
SUMMARY:8:10am May Crowning
DESCRIPTION:
URL:https://stchristina.org/event/810am-may-crowning/
END:VEVENT
BEGIN:VEVENT
DTSTART;VALUE=DATE:20260513
DTEND;VALUE=DATE:20260514
DTSTAMP:20260423T230037
CREATED:20250909T030415Z
LAST-MODIFIED:20250909T030415Z
UID:9190-1778630400-1778716799@stchristina.org
SUMMARY:Enrichment
DESCRIPTION:
URL:https://stchristina.org/event/enrichment-79/
END:VEVENT
BEGIN:VEVENT
DTSTART;VALUE=DATE:20260514
DTEND;VALUE=DATE:20260515
DTSTAMP:20260423T230037
CREATED:20250909T030454Z
LAST-MODIFIED:20250909T030454Z
UID:9192-1778716800-1778803199@stchristina.org
SUMMARY:Hot Lunch (Barraco’s Burger/Breadsticks)
DESCRIPTION:
URL:https://stchristina.org/event/hot-lunch-barracos-burger-breadsticks-17/
END:VEVENT
BEGIN:VEVENT
DTSTART;VALUE=DATE:20260518
DTEND;VALUE=DATE:20260519
DTSTAMP:20260423T230037
CREATED:20250909T030528Z
LAST-MODIFIED:20250909T030528Z
UID:9194-1779062400-1779148799@stchristina.org
SUMMARY:SCAA Meeting
DESCRIPTION:
URL:https://stchristina.org/event/scaa-meeting-18/
END:VEVENT
BEGIN:VEVENT
DTSTART;VALUE=DATE:20260520
DTEND;VALUE=DATE:20260521
DTSTAMP:20260423T230037
CREATED:20250909T030555Z
LAST-MODIFIED:20250909T030555Z
UID:9196-1779235200-1779321599@stchristina.org
SUMMARY:8:10am Mass
DESCRIPTION:
URL:https://stchristina.org/event/810am-mass-64/
END:VEVENT
BEGIN:VEVENT
DTSTART;VALUE=DATE:20260520
DTEND;VALUE=DATE:20260521
DTSTAMP:20260423T230037
CREATED:20250909T030614Z
LAST-MODIFIED:20250909T030614Z
UID:9198-1779235200-1779321599@stchristina.org
SUMMARY:Enrichment
DESCRIPTION:
URL:https://stchristina.org/event/enrichment-80/
END:VEVENT
BEGIN:VEVENT
DTSTART;VALUE=DATE:20260521
DTEND;VALUE=DATE:20260522
DTSTAMP:20260423T230037
CREATED:20250909T030652Z
LAST-MODIFIED:20250909T030652Z
UID:9200-1779321600-1779407999@stchristina.org
SUMMARY:Hot Lunch (Calabria  Mostaccioli)
DESCRIPTION:
URL:https://stchristina.org/event/hot-lunch-calabria-mostaccioli-22/
END:VEVENT
BEGIN:VEVENT
DTSTART;VALUE=DATE:20260522
DTEND;VALUE=DATE:20260523
DTSTAMP:20260423T230037
CREATED:20250909T030728Z
LAST-MODIFIED:20250909T030728Z
UID:9202-1779408000-1779494399@stchristina.org
SUMMARY:1:45 Dismissal
DESCRIPTION:
URL:https://stchristina.org/event/145-dismissal-2/
END:VEVENT
BEGIN:VEVENT
DTSTART;VALUE=DATE:20260522
DTEND;VALUE=DATE:20260523
DTSTAMP:20260423T230037
CREATED:20250909T030749Z
LAST-MODIFIED:20250909T030749Z
UID:9204-1779408000-1779494399@stchristina.org
SUMMARY:No Extended Care
DESCRIPTION:
URL:https://stchristina.org/event/no-extended-care-28/
END:VEVENT
BEGIN:VEVENT
DTSTART;VALUE=DATE:20260525
DTEND;VALUE=DATE:20260526
DTSTAMP:20260423T230037
CREATED:20250909T030818Z
LAST-MODIFIED:20250909T030827Z
UID:9206-1779667200-1779753599@stchristina.org
SUMMARY:No School (Memorial Day)
DESCRIPTION:
URL:https://stchristina.org/event/no-school-memorial-day-3/
END:VEVENT
BEGIN:VEVENT
DTSTART;VALUE=DATE:20260527
DTEND;VALUE=DATE:20260528
DTSTAMP:20260423T230037
CREATED:20250909T030901Z
LAST-MODIFIED:20250909T030901Z
UID:9208-1779840000-1779926399@stchristina.org
SUMMARY:8:10am Mass
DESCRIPTION:
URL:https://stchristina.org/event/810am-mass-65/
END:VEVENT
BEGIN:VEVENT
DTSTART;VALUE=DATE:20260527
DTEND;VALUE=DATE:20260528
DTSTAMP:20260423T230037
CREATED:20250909T030938Z
LAST-MODIFIED:20250909T030938Z
UID:9210-1779840000-1779926399@stchristina.org
SUMMARY:8th Grade Last Day (Graduation Practice and BBQ)
DESCRIPTION:
URL:https://stchristina.org/event/8th-grade-last-day-graduation-practice-and-bbq/
END:VEVENT
BEGIN:VEVENT
DTSTART;VALUE=DATE:20260528
DTEND;VALUE=DATE:20260529
DTSTAMP:20260423T230037
CREATED:20250909T031008Z
LAST-MODIFIED:20250909T031008Z
UID:9212-1779926400-1780012799@stchristina.org
SUMMARY:Hot Lunch (Home Run Inn Pizza)
DESCRIPTION:
URL:https://stchristina.org/event/hot-lunch-home-run-inn-pizza-14/
END:VEVENT
BEGIN:VEVENT
DTSTART;VALUE=DATE:20260528
DTEND;VALUE=DATE:20260529
DTSTAMP:20260423T230037
CREATED:20250909T031047Z
LAST-MODIFIED:20250909T031047Z
UID:9214-1779926400-1780012799@stchristina.org
SUMMARY:8th Grade Great America Trip
DESCRIPTION:
URL:https://stchristina.org/event/8th-grade-great-america-trip-4/
END:VEVENT
BEGIN:VEVENT
DTSTART;VALUE=DATE:20260529
DTEND;VALUE=DATE:20260530
DTSTAMP:20260423T230037
CREATED:20250909T031110Z
LAST-MODIFIED:20250909T031110Z
UID:9216-1780012800-1780099199@stchristina.org
SUMMARY:8th Grade Awards and Dance
DESCRIPTION:
URL:https://stchristina.org/event/8th-grade-awards-and-dance/
END:VEVENT
BEGIN:VEVENT
DTSTART;VALUE=DATE:20260529
DTEND;VALUE=DATE:20260530
DTSTAMP:20260423T230037
CREATED:20250909T031136Z
LAST-MODIFIED:20250909T031136Z
UID:9218-1780012800-1780099199@stchristina.org
SUMMARY:No Extended Care
DESCRIPTION:
URL:https://stchristina.org/event/no-extended-care-29/
END:VEVENT
BEGIN:VEVENT
DTSTART;VALUE=DATE:20260601
DTEND;VALUE=DATE:20260602
DTSTAMP:20260423T230037
CREATED:20250909T031313Z
LAST-MODIFIED:20250909T031313Z
UID:9220-1780272000-1780358399@stchristina.org
SUMMARY:8th Grade Graduation 6pm
DESCRIPTION:
URL:https://stchristina.org/event/8th-grade-graduation-6pm-3/
END:VEVENT
BEGIN:VEVENT
DTSTART;VALUE=DATE:20260602
DTEND;VALUE=DATE:20260603
DTSTAMP:20260423T230037
CREATED:20250909T031405Z
LAST-MODIFIED:20250909T031405Z
UID:9222-1780358400-1780444799@stchristina.org
SUMMARY:PreK and Kindergarten End-of-Year Programs
DESCRIPTION:
URL:https://stchristina.org/event/prek-and-kindergarten-end-of-year-programs-2/
END:VEVENT
BEGIN:VEVENT
DTSTART;VALUE=DATE:20260602
DTEND;VALUE=DATE:20260603
DTSTAMP:20260423T230037
CREATED:20250909T031427Z
LAST-MODIFIED:20250909T031427Z
UID:9224-1780358400-1780444799@stchristina.org
SUMMARY:SAC Meeting
DESCRIPTION:
URL:https://stchristina.org/event/sac-meeting-21/
END:VEVENT
BEGIN:VEVENT
DTSTART;VALUE=DATE:20260603
DTEND;VALUE=DATE:20260604
DTSTAMP:20260423T230037
CREATED:20250909T031534Z
LAST-MODIFIED:20250909T031534Z
UID:9226-1780444800-1780531199@stchristina.org
SUMMARY:Field Day 1st - 7th
DESCRIPTION:
URL:https://stchristina.org/event/field-day-1st-7th/
END:VEVENT
BEGIN:VEVENT
DTSTART;VALUE=DATE:20260604
DTEND;VALUE=DATE:20260605
DTSTAMP:20260423T230037
CREATED:20250909T031612Z
LAST-MODIFIED:20250909T031612Z
UID:9228-1780531200-1780617599@stchristina.org
SUMMARY:LAST DAY OF SCHOOL
DESCRIPTION:
URL:https://stchristina.org/event/last-day-of-school-5/
END:VEVENT
BEGIN:VEVENT
DTSTART;VALUE=DATE:20260604
DTEND;VALUE=DATE:20260605
DTSTAMP:20260423T230037
CREATED:20250909T031640Z
LAST-MODIFIED:20250909T032107Z
UID:9230-1780531200-1780617599@stchristina.org
SUMMARY:9:15am Mass (Planned by 7th Grade)
DESCRIPTION:
URL:https://stchristina.org/event/915am-mass-planned-by-7th-grade/
END:VEVENT
END:VCALENDAR