BEGIN:VCALENDAR
VERSION:2.0
PRODID:-//St. Christina Catholic School - ECPv6.15.20//NONSGML v1.0//EN
CALSCALE:GREGORIAN
METHOD:PUBLISH
X-WR-CALNAME:St. Christina Catholic School
X-ORIGINAL-URL:https://stchristina.org
X-WR-CALDESC:Events for St. Christina Catholic School
REFRESH-INTERVAL;VALUE=DURATION:PT1H
X-Robots-Tag:noindex
X-PUBLISHED-TTL:PT1H
BEGIN:VTIMEZONE
TZID:UTC
BEGIN:STANDARD
TZOFFSETFROM:+0000
TZOFFSETTO:+0000
TZNAME:UTC
DTSTART:20210101T000000
END:STANDARD
END:VTIMEZONE
BEGIN:VEVENT
DTSTART;VALUE=DATE:20230119
DTEND;VALUE=DATE:20230120
DTSTAMP:20260426T031058
CREATED:20220727T205538Z
LAST-MODIFIED:20220727T205543Z
UID:5538-1674086400-1674172799@stchristina.org
SUMMARY:Dress Down Day
DESCRIPTION:
URL:https://stchristina.org/event/dress-down-day-28/
END:VEVENT
BEGIN:VEVENT
DTSTART;VALUE=DATE:20230119
DTEND;VALUE=DATE:20230120
DTSTAMP:20260426T031058
CREATED:20220727T205132Z
LAST-MODIFIED:20220727T205139Z
UID:5529-1674086400-1674172799@stchristina.org
SUMMARY:Hot Lunch\, Calabria Day
DESCRIPTION:
URL:https://stchristina.org/event/hot-lunch-calabria-day-2-2/
END:VEVENT
BEGIN:VEVENT
DTSTART;VALUE=DATE:20230118
DTEND;VALUE=DATE:20230119
DTSTAMP:20260426T031058
CREATED:20220727T205734Z
LAST-MODIFIED:20220727T205734Z
UID:5541-1674000000-1674086399@stchristina.org
SUMMARY:Mass 8:10am
DESCRIPTION:
URL:https://stchristina.org/event/mass-810am-6-3/
END:VEVENT
BEGIN:VEVENT
DTSTART;VALUE=DATE:20230116
DTEND;VALUE=DATE:20230117
DTSTAMP:20260426T031058
CREATED:20220727T210323Z
LAST-MODIFIED:20220727T210329Z
UID:5551-1673827200-1673913599@stchristina.org
SUMMARY:Martin Luther King Jr. Day\, No School
DESCRIPTION:
URL:https://stchristina.org/event/martin-luther-king-jr-day-no-school-2/
END:VEVENT
BEGIN:VEVENT
DTSTART;VALUE=DATE:20230112
DTEND;VALUE=DATE:20230113
DTSTAMP:20260426T031058
CREATED:20220727T205200Z
LAST-MODIFIED:20220727T205203Z
UID:5531-1673481600-1673567999@stchristina.org
SUMMARY:Hot Lunch\, Burger Day
DESCRIPTION:
URL:https://stchristina.org/event/hot-lunch-burger-day-2-2-2/
END:VEVENT
BEGIN:VEVENT
DTSTART;VALUE=DATE:20230111
DTEND;VALUE=DATE:20230112
DTSTAMP:20260426T031058
CREATED:20220727T205710Z
LAST-MODIFIED:20220727T205715Z
UID:5540-1673395200-1673481599@stchristina.org
SUMMARY:Mass 8:10am
DESCRIPTION:
URL:https://stchristina.org/event/mass-810am-6-2/
END:VEVENT
BEGIN:VEVENT
DTSTART;VALUE=DATE:20230110
DTEND;VALUE=DATE:20230111
DTSTAMP:20260426T031058
CREATED:20220928T191737Z
LAST-MODIFIED:20220928T191759Z
UID:5872-1673308800-1673395199@stchristina.org
SUMMARY:Second Informative Meeting for parents of communicants regarding retreat\, 6pm church
DESCRIPTION:
URL:https://stchristina.org/event/second-informative-meeting-for-parents-regarding-retreat-6pm-church/
END:VEVENT
BEGIN:VEVENT
DTSTART;VALUE=DATE:20230109
DTEND;VALUE=DATE:20230110
DTSTAMP:20260426T031058
CREATED:20220901T181128Z
LAST-MODIFIED:20220901T181128Z
UID:5824-1673222400-1673308799@stchristina.org
SUMMARY:Confirmation Candidates Outreach Programs completed
DESCRIPTION:
URL:https://stchristina.org/event/confirmation-candidates-outreach-programs-completed/
END:VEVENT
BEGIN:VEVENT
DTSTART;VALUE=DATE:20230105
DTEND;VALUE=DATE:20230106
DTSTAMP:20260426T031058
CREATED:20220727T205255Z
LAST-MODIFIED:20220727T205301Z
UID:5534-1672876800-1672963199@stchristina.org
SUMMARY:Hot Lunch\, Hot Dog Day
DESCRIPTION:
URL:https://stchristina.org/event/hot-lunch-hot-dog-day-3/
END:VEVENT
BEGIN:VEVENT
DTSTART;VALUE=DATE:20230104
DTEND;VALUE=DATE:20230105
DTSTAMP:20260426T031058
CREATED:20220727T205851Z
LAST-MODIFIED:20221216T174731Z
UID:5546-1672790400-1672876799@stchristina.org
SUMMARY:SAC Meeting\, 7pm\, School Library
DESCRIPTION:
URL:https://stchristina.org/event/sac-meeting-7pm-4/
END:VEVENT
BEGIN:VEVENT
DTSTART;VALUE=DATE:20230104
DTEND;VALUE=DATE:20230105
DTSTAMP:20260426T031058
CREATED:20220727T204955Z
LAST-MODIFIED:20220727T204959Z
UID:5526-1672790400-1672876799@stchristina.org
SUMMARY:Mass 8:10am
DESCRIPTION:
URL:https://stchristina.org/event/mass-810am-6/
END:VEVENT
BEGIN:VEVENT
DTSTART;VALUE=DATE:20230104
DTEND;VALUE=DATE:20230105
DTSTAMP:20260426T031058
CREATED:20220727T204840Z
LAST-MODIFIED:20220727T204906Z
UID:5524-1672790400-1672876799@stchristina.org
SUMMARY:Classes Resume
DESCRIPTION:
URL:https://stchristina.org/event/classes-resume-8/
END:VEVENT
BEGIN:VEVENT
DTSTART;VALUE=DATE:20230101
DTEND;VALUE=DATE:20230102
DTSTAMP:20260426T031058
CREATED:20220727T204754Z
LAST-MODIFIED:20220727T204800Z
UID:5522-1672531200-1672617599@stchristina.org
SUMMARY:Happy New Year!
DESCRIPTION:
URL:https://stchristina.org/event/happy-new-year-2/
END:VEVENT
BEGIN:VEVENT
DTSTART;VALUE=DATE:20221229
DTEND;VALUE=DATE:20221230
DTSTAMP:20260426T031058
CREATED:20220727T204631Z
LAST-MODIFIED:20220727T204637Z
UID:5520-1672272000-1672358399@stchristina.org
SUMMARY:FSA Holiday Lights Scavenger Hunt
DESCRIPTION:
URL:https://stchristina.org/event/fsa-holiday-lights-scavenger-hunt/
END:VEVENT
BEGIN:VEVENT
DTSTART;VALUE=DATE:20221225
DTEND;VALUE=DATE:20221226
DTSTAMP:20260426T031058
CREATED:20220727T204528Z
LAST-MODIFIED:20220727T204533Z
UID:5518-1671926400-1672012799@stchristina.org
SUMMARY:Merry Christmas!
DESCRIPTION:
URL:https://stchristina.org/event/merry-christmas-3/
END:VEVENT
BEGIN:VEVENT
DTSTART;VALUE=DATE:20221221
DTEND;VALUE=DATE:20221222
DTSTAMP:20260426T031058
CREATED:20220727T204216Z
LAST-MODIFIED:20220727T204222Z
UID:5516-1671580800-1671667199@stchristina.org
SUMMARY:Christmas Break Begins
DESCRIPTION:
URL:https://stchristina.org/event/christmas-break-begins-2/
END:VEVENT
BEGIN:VEVENT
DTSTART;VALUE=DATE:20221221
DTEND;VALUE=DATE:20221222
DTSTAMP:20260426T031058
CREATED:20220727T204147Z
LAST-MODIFIED:20220727T204151Z
UID:5514-1671580800-1671667199@stchristina.org
SUMMARY:No School
DESCRIPTION:
URL:https://stchristina.org/event/no-school-10/
END:VEVENT
BEGIN:VEVENT
DTSTART;VALUE=DATE:20221220
DTEND;VALUE=DATE:20221221
DTSTAMP:20260426T031058
CREATED:20220727T204107Z
LAST-MODIFIED:20220727T204112Z
UID:5512-1671494400-1671580799@stchristina.org
SUMMARY:No Extended Care
DESCRIPTION:
URL:https://stchristina.org/event/no-extended-care-5/
END:VEVENT
BEGIN:VEVENT
DTSTART;VALUE=DATE:20221219
DTEND;VALUE=DATE:20221220
DTSTAMP:20260426T031058
CREATED:20220727T203950Z
LAST-MODIFIED:20220727T203957Z
UID:5510-1671408000-1671494399@stchristina.org
SUMMARY:All School Christmas Program\, 1pm Church
DESCRIPTION:
URL:https://stchristina.org/event/all-school-christmas-program-1pm-church/
END:VEVENT
BEGIN:VEVENT
DTSTART;VALUE=DATE:20221215
DTEND;VALUE=DATE:20221216
DTSTAMP:20260426T031058
CREATED:20220727T203554Z
LAST-MODIFIED:20220727T203611Z
UID:5504-1671062400-1671148799@stchristina.org
SUMMARY:Dress Down Day
DESCRIPTION:
URL:https://stchristina.org/event/dress-down-day-27/
END:VEVENT
BEGIN:VEVENT
DTSTART;VALUE=DATE:20221215
DTEND;VALUE=DATE:20221216
DTSTAMP:20260426T031058
CREATED:20220727T203258Z
LAST-MODIFIED:20220727T203304Z
UID:5493-1671062400-1671148799@stchristina.org
SUMMARY:Hot Lunch\, Calabria Day
DESCRIPTION:
URL:https://stchristina.org/event/hot-lunch-calabria-day-2/
END:VEVENT
BEGIN:VEVENT
DTSTART;VALUE=DATE:20221214
DTEND;VALUE=DATE:20221215
DTSTAMP:20260426T031058
CREATED:20220727T203054Z
LAST-MODIFIED:20220727T203058Z
UID:5490-1670976000-1671062399@stchristina.org
SUMMARY:Mass 8:10am
DESCRIPTION:
URL:https://stchristina.org/event/mass-810am-5-5-5-3/
END:VEVENT
BEGIN:VEVENT
DTSTART;VALUE=DATE:20221208
DTEND;VALUE=DATE:20221209
DTSTAMP:20260426T031058
CREATED:20220727T203220Z
LAST-MODIFIED:20220727T203243Z
UID:5492-1670457600-1670543999@stchristina.org
SUMMARY:Hot Lunch\, Burger Day
DESCRIPTION:
URL:https://stchristina.org/event/hot-lunch-burger-day-2-2/
END:VEVENT
BEGIN:VEVENT
DTSTART;VALUE=DATE:20221208
DTEND;VALUE=DATE:20221209
DTSTAMP:20260426T031058
CREATED:20220727T203028Z
LAST-MODIFIED:20221205T213048Z
UID:5491-1670457600-1670543999@stchristina.org
SUMMARY:Mass 8:10am
DESCRIPTION:
URL:https://stchristina.org/event/mass-810am-5-5-5-2/
END:VEVENT
BEGIN:VEVENT
DTSTART;VALUE=DATE:20221206
DTEND;VALUE=DATE:20221207
DTSTAMP:20260426T031058
CREATED:20220727T203739Z
LAST-MODIFIED:20220727T203747Z
UID:5506-1670284800-1670371199@stchristina.org
SUMMARY:SAC Meeting\, 7pm
DESCRIPTION:
URL:https://stchristina.org/event/sac-meeting-7pm-3/
END:VEVENT
BEGIN:VEVENT
DTSTART;VALUE=DATE:20221203
DTEND;VALUE=DATE:20221204
DTSTAMP:20260426T031058
CREATED:20220727T203401Z
LAST-MODIFIED:20220727T203407Z
UID:5500-1670025600-1670111999@stchristina.org
SUMMARY:FSA Christmas Crawl
DESCRIPTION:
URL:https://stchristina.org/event/fsa-christmas-crawl/
END:VEVENT
BEGIN:VEVENT
DTSTART;VALUE=DATE:20221201
DTEND;VALUE=DATE:20221202
DTSTAMP:20260426T031058
CREATED:20220727T203507Z
LAST-MODIFIED:20220815T202837Z
UID:5502-1669852800-1669939199@stchristina.org
SUMMARY:FSA Pizza with Santa (evening event)
DESCRIPTION:School basement
URL:https://stchristina.org/event/fsa-pizza-with-santa-evening-event/
END:VEVENT
BEGIN:VEVENT
DTSTART;VALUE=DATE:20221201
DTEND;VALUE=DATE:20221202
DTSTAMP:20260426T031058
CREATED:20220727T203144Z
LAST-MODIFIED:20220727T203150Z
UID:5494-1669852800-1669939199@stchristina.org
SUMMARY:Hot Lunch\, Hot Dog Day
DESCRIPTION:
URL:https://stchristina.org/event/hot-lunch-hot-dog-day-2-2/
END:VEVENT
BEGIN:VEVENT
DTSTART;VALUE=DATE:20221130
DTEND;VALUE=DATE:20221201
DTSTAMP:20260426T031058
CREATED:20220727T200743Z
LAST-MODIFIED:20220727T200749Z
UID:5457-1669766400-1669852799@stchristina.org
SUMMARY:Mass 8:10am
DESCRIPTION:
URL:https://stchristina.org/event/mass-810am-5-5-5/
END:VEVENT
BEGIN:VEVENT
DTSTART;VALUE=DATE:20221125
DTEND;VALUE=DATE:20221126
DTSTAMP:20260426T031058
CREATED:20220727T202352Z
LAST-MODIFIED:20220727T202357Z
UID:5486-1669334400-1669420799@stchristina.org
SUMMARY:No School
DESCRIPTION:
URL:https://stchristina.org/event/no-school-9/
END:VEVENT
END:VCALENDAR