BEGIN:VCALENDAR
VERSION:2.0
PRODID:-//St. Christina Catholic School - ECPv6.15.20//NONSGML v1.0//EN
CALSCALE:GREGORIAN
METHOD:PUBLISH
X-ORIGINAL-URL:https://stchristina.org
X-WR-CALDESC:Events for St. Christina Catholic School
REFRESH-INTERVAL;VALUE=DURATION:PT1H
X-Robots-Tag:noindex
X-PUBLISHED-TTL:PT1H
BEGIN:VTIMEZONE
TZID:UTC
BEGIN:STANDARD
TZOFFSETFROM:+0000
TZOFFSETTO:+0000
TZNAME:UTC
DTSTART:20240101T000000
END:STANDARD
END:VTIMEZONE
BEGIN:VEVENT
DTSTART;VALUE=DATE:20250514
DTEND;VALUE=DATE:20250515
DTSTAMP:20260424T145219
CREATED:20240717T163758Z
LAST-MODIFIED:20240717T163758Z
UID:7612-1747180800-1747267199@stchristina.org
SUMMARY:Enrichment
DESCRIPTION:
URL:https://stchristina.org/event/enrichment-55/
END:VEVENT
BEGIN:VEVENT
DTSTART;VALUE=DATE:20250515
DTEND;VALUE=DATE:20250516
DTSTAMP:20260424T145219
CREATED:20240717T163832Z
LAST-MODIFIED:20240717T163832Z
UID:7614-1747267200-1747353599@stchristina.org
SUMMARY:Hot Lunch: Calabria Mostaccioli
DESCRIPTION:
URL:https://stchristina.org/event/hot-lunch-calabria-mostaccioli-15/
END:VEVENT
BEGIN:VEVENT
DTSTART;VALUE=DATE:20250515
DTEND;VALUE=DATE:20250516
DTSTAMP:20260424T145219
CREATED:20250425T193052Z
LAST-MODIFIED:20250425T193052Z
UID:7918-1747267200-1747353599@stchristina.org
SUMMARY:ArtShow '25\, 2:30-3:30pm
DESCRIPTION:
URL:https://stchristina.org/event/artshow-25-230-330pm/
END:VEVENT
BEGIN:VEVENT
DTSTART;VALUE=DATE:20250519
DTEND;VALUE=DATE:20250520
DTSTAMP:20260424T145219
CREATED:20240717T163937Z
LAST-MODIFIED:20240717T163937Z
UID:7618-1747612800-1747699199@stchristina.org
SUMMARY:SCAA Meeting
DESCRIPTION:
URL:https://stchristina.org/event/scaa-meeting-11/
END:VEVENT
BEGIN:VEVENT
DTSTART;VALUE=DATE:20250521
DTEND;VALUE=DATE:20250522
DTSTAMP:20260424T145219
CREATED:20240717T165306Z
LAST-MODIFIED:20240717T165306Z
UID:7620-1747785600-1747871999@stchristina.org
SUMMARY:8:10am Mass
DESCRIPTION:
URL:https://stchristina.org/event/810am-mass-46/
END:VEVENT
BEGIN:VEVENT
DTSTART;VALUE=DATE:20250521
DTEND;VALUE=DATE:20250522
DTSTAMP:20260424T145219
CREATED:20240717T165328Z
LAST-MODIFIED:20240717T165328Z
UID:7622-1747785600-1747871999@stchristina.org
SUMMARY:Enrichment
DESCRIPTION:
URL:https://stchristina.org/event/enrichment-56/
END:VEVENT
BEGIN:VEVENT
DTSTART;VALUE=DATE:20250522
DTEND;VALUE=DATE:20250523
DTSTAMP:20260424T145219
CREATED:20240717T165435Z
LAST-MODIFIED:20240717T165435Z
UID:7624-1747872000-1747958399@stchristina.org
SUMMARY:Hot Lunch: Home Run Inn
DESCRIPTION:
URL:https://stchristina.org/event/hot-lunch-home-run-inn-2/
END:VEVENT
BEGIN:VEVENT
DTSTART;VALUE=DATE:20250523
DTEND;VALUE=DATE:20250524
DTSTAMP:20260424T145219
CREATED:20240717T165508Z
LAST-MODIFIED:20240717T165508Z
UID:7626-1747958400-1748044799@stchristina.org
SUMMARY:1:45 Dismissal\, No Extended Care
DESCRIPTION:
URL:https://stchristina.org/event/145-dismissal-no-extended-care/
END:VEVENT
BEGIN:VEVENT
DTSTART;VALUE=DATE:20250526
DTEND;VALUE=DATE:20250527
DTSTAMP:20260424T145219
CREATED:20240717T165539Z
LAST-MODIFIED:20240717T165539Z
UID:7628-1748217600-1748303999@stchristina.org
SUMMARY:NO SCHOOL\, Memorial Day
DESCRIPTION:
URL:https://stchristina.org/event/no-school-memorial-day-2/
END:VEVENT
BEGIN:VEVENT
DTSTART;VALUE=DATE:20250527
DTEND;VALUE=DATE:20250528
DTSTAMP:20260424T145219
CREATED:20240717T165639Z
LAST-MODIFIED:20240717T165639Z
UID:7632-1748304000-1748390399@stchristina.org
SUMMARY:8th grade Graduation Practice and BBQ
DESCRIPTION:
URL:https://stchristina.org/event/8th-grade-graduation-practice-and-bbq/
END:VEVENT
BEGIN:VEVENT
DTSTART;VALUE=DATE:20250528
DTEND;VALUE=DATE:20250529
DTSTAMP:20260424T145219
CREATED:20240717T165604Z
LAST-MODIFIED:20240717T170141Z
UID:7630-1748390400-1748476799@stchristina.org
SUMMARY:8th grade Great America Trip
DESCRIPTION:
URL:https://stchristina.org/event/8th-grade-great-america-trip-3/
END:VEVENT
BEGIN:VEVENT
DTSTART;VALUE=DATE:20250529
DTEND;VALUE=DATE:20250530
DTSTAMP:20260424T145219
CREATED:20240717T165710Z
LAST-MODIFIED:20240717T165710Z
UID:7634-1748476800-1748563199@stchristina.org
SUMMARY:Feast of the Ascension Mass\, 8:10am
DESCRIPTION:
URL:https://stchristina.org/event/feast-of-the-ascension-mass-810am/
END:VEVENT
BEGIN:VEVENT
DTSTART;VALUE=DATE:20250529
DTEND;VALUE=DATE:20250530
DTSTAMP:20260424T145219
CREATED:20240717T165739Z
LAST-MODIFIED:20240717T165739Z
UID:7636-1748476800-1748563199@stchristina.org
SUMMARY:No Hot Lunch
DESCRIPTION:
URL:https://stchristina.org/event/no-hot-lunch-13/
END:VEVENT
BEGIN:VEVENT
DTSTART;VALUE=DATE:20250529
DTEND;VALUE=DATE:20250530
DTSTAMP:20260424T145219
CREATED:20240717T165818Z
LAST-MODIFIED:20240717T165818Z
UID:7638-1748476800-1748563199@stchristina.org
SUMMARY:Last Day for 8th Grade (graduation practice)
DESCRIPTION:
URL:https://stchristina.org/event/last-day-for-8th-grade-graduation-practice/
END:VEVENT
BEGIN:VEVENT
DTSTART;VALUE=DATE:20250530
DTEND;VALUE=DATE:20250531
DTSTAMP:20260424T145219
CREATED:20240717T165849Z
LAST-MODIFIED:20250425T193011Z
UID:7640-1748563200-1748649599@stchristina.org
SUMMARY:No Extended Care
DESCRIPTION:
URL:https://stchristina.org/event/no-extended-care-22/
END:VEVENT
BEGIN:VEVENT
DTSTART;VALUE=DATE:20250530
DTEND;VALUE=DATE:20250531
DTSTAMP:20260424T145219
CREATED:20240717T165925Z
LAST-MODIFIED:20240717T165925Z
UID:7642-1748563200-1748649599@stchristina.org
SUMMARY:8th Grade Awards + Dance
DESCRIPTION:
URL:https://stchristina.org/event/8th-grade-awards-dance-2/
END:VEVENT
BEGIN:VEVENT
DTSTART;VALUE=DATE:20250602
DTEND;VALUE=DATE:20250603
DTSTAMP:20260424T145219
CREATED:20240717T121728Z
LAST-MODIFIED:20240717T121728Z
UID:7561-1748822400-1748908799@stchristina.org
SUMMARY:PreK Fun Day
DESCRIPTION:
URL:https://stchristina.org/event/prek-fun-day/
END:VEVENT
BEGIN:VEVENT
DTSTART;VALUE=DATE:20250602
DTEND;VALUE=DATE:20250603
DTSTAMP:20260424T145219
CREATED:20250520T211834Z
LAST-MODIFIED:20250520T211834Z
UID:7938-1748822400-1748908799@stchristina.org
SUMMARY:8th Grade Graduation\, 6pm
DESCRIPTION:
URL:https://stchristina.org/event/8th-grade-graduation-6pm-2/
END:VEVENT
BEGIN:VEVENT
DTSTART;VALUE=DATE:20250603
DTEND;VALUE=DATE:20250604
DTSTAMP:20260424T145219
CREATED:20240717T121812Z
LAST-MODIFIED:20240717T121812Z
UID:7563-1748908800-1748995199@stchristina.org
SUMMARY:SAC Meeting
DESCRIPTION:
URL:https://stchristina.org/event/sac-meeting-10/
END:VEVENT
BEGIN:VEVENT
DTSTART;VALUE=DATE:20250604
DTEND;VALUE=DATE:20250605
DTSTAMP:20260424T145219
CREATED:20240717T121852Z
LAST-MODIFIED:20240717T121852Z
UID:7565-1748995200-1749081599@stchristina.org
SUMMARY:PreK and Kindergarten End-of-Year Programs
DESCRIPTION:
URL:https://stchristina.org/event/prek-and-kindergarten-end-of-year-programs/
END:VEVENT
BEGIN:VEVENT
DTSTART;VALUE=DATE:20250604
DTEND;VALUE=DATE:20250605
DTSTAMP:20260424T145219
CREATED:20240717T121922Z
LAST-MODIFIED:20240717T121922Z
UID:7567-1748995200-1749081599@stchristina.org
SUMMARY:PreK Afternoon Assessments
DESCRIPTION:
URL:https://stchristina.org/event/prek-afternoon-assessments/
END:VEVENT
BEGIN:VEVENT
DTSTART;VALUE=DATE:20250605
DTEND;VALUE=DATE:20250606
DTSTAMP:20260424T145219
CREATED:20240717T121951Z
LAST-MODIFIED:20240717T122009Z
UID:7569-1749081600-1749167999@stchristina.org
SUMMARY:PreK Morning Assessments
DESCRIPTION:
URL:https://stchristina.org/event/prek-afternoon-assessments-2/
END:VEVENT
BEGIN:VEVENT
DTSTART;VALUE=DATE:20250605
DTEND;VALUE=DATE:20250606
DTSTAMP:20260424T145219
CREATED:20250520T211638Z
LAST-MODIFIED:20250520T211638Z
UID:7936-1749081600-1749167999@stchristina.org
SUMMARY:End of Year Field Day\, 1st-7th grade
DESCRIPTION:
URL:https://stchristina.org/event/end-of-year-field-day-1st-7th-grade/
END:VEVENT
BEGIN:VEVENT
DTSTART;VALUE=DATE:20250606
DTEND;VALUE=DATE:20250607
DTSTAMP:20260424T145219
CREATED:20240717T122158Z
LAST-MODIFIED:20240717T122158Z
UID:7576-1749168000-1749254399@stchristina.org
SUMMARY:LAST DAY OF SCHOOL
DESCRIPTION:
URL:https://stchristina.org/event/last-day-of-school-4/
END:VEVENT
BEGIN:VEVENT
DTSTART;VALUE=DATE:20250606
DTEND;VALUE=DATE:20250607
DTSTAMP:20260424T145219
CREATED:20240717T122224Z
LAST-MODIFIED:20240717T122224Z
UID:7578-1749168000-1749254399@stchristina.org
SUMMARY:9am Mass (planned by 7th Grade)
DESCRIPTION:
URL:https://stchristina.org/event/9am-mass-planned-by-7th-grade/
END:VEVENT
BEGIN:VEVENT
DTSTART;VALUE=DATE:20250606
DTEND;VALUE=DATE:20250607
DTSTAMP:20260424T145219
CREATED:20240717T122244Z
LAST-MODIFIED:20240717T122244Z
UID:7580-1749168000-1749254399@stchristina.org
SUMMARY:10:30am Dismissal
DESCRIPTION:
URL:https://stchristina.org/event/1030am-dismissal/
END:VEVENT
BEGIN:VEVENT
DTSTART;VALUE=DATE:20250606
DTEND;VALUE=DATE:20250607
DTSTAMP:20260424T145219
CREATED:20240717T122303Z
LAST-MODIFIED:20240717T122303Z
UID:7582-1749168000-1749254399@stchristina.org
SUMMARY:No Extended Care
DESCRIPTION:
URL:https://stchristina.org/event/no-extended-care-21/
END:VEVENT
BEGIN:VEVENT
DTSTART;VALUE=DATE:20250609
DTEND;VALUE=DATE:20250610
DTSTAMP:20260424T145219
CREATED:20240717T122328Z
LAST-MODIFIED:20240717T122328Z
UID:7584-1749427200-1749513599@stchristina.org
SUMMARY:(emergency day if required)
DESCRIPTION:
URL:https://stchristina.org/event/emergency-day-if-required/
END:VEVENT
BEGIN:VEVENT
DTSTART;TZID=UTC:20250609T080000
DTEND;TZID=UTC:20250613T170000
DTSTAMP:20260424T145219
CREATED:20240717T122357Z
LAST-MODIFIED:20240717T122357Z
UID:7586-1749456000-1749834000@stchristina.org
SUMMARY:Summer Camps
DESCRIPTION:
URL:https://stchristina.org/event/summer-camps-3/
END:VEVENT
BEGIN:VEVENT
DTSTART;VALUE=DATE:20250616
DTEND;VALUE=DATE:20250617
DTSTAMP:20260424T145219
CREATED:20240717T122415Z
LAST-MODIFIED:20240717T122415Z
UID:7588-1750032000-1750118399@stchristina.org
SUMMARY:SCAA Meeting
DESCRIPTION:
URL:https://stchristina.org/event/scaa-meeting-10/
END:VEVENT
END:VCALENDAR