BEGIN:VCALENDAR
VERSION:2.0
PRODID:-//St. Christina Catholic School - ECPv6.15.20//NONSGML v1.0//EN
CALSCALE:GREGORIAN
METHOD:PUBLISH
X-WR-CALNAME:St. Christina Catholic School
X-ORIGINAL-URL:https://stchristina.org
X-WR-CALDESC:Events for St. Christina Catholic School
REFRESH-INTERVAL;VALUE=DURATION:PT1H
X-Robots-Tag:noindex
X-PUBLISHED-TTL:PT1H
BEGIN:VTIMEZONE
TZID:UTC
BEGIN:STANDARD
TZOFFSETFROM:+0000
TZOFFSETTO:+0000
TZNAME:UTC
DTSTART:20240101T000000
END:STANDARD
END:VTIMEZONE
BEGIN:VEVENT
DTSTART;TZID=UTC:20251124T080000
DTEND;TZID=UTC:20251128T170000
DTSTAMP:20260424T001143
CREATED:20250909T012707Z
LAST-MODIFIED:20250909T012707Z
UID:8931-1763971200-1764349200@stchristina.org
SUMMARY:Thanksgiving Break
DESCRIPTION:
URL:https://stchristina.org/event/thanksgiving-break-3/
END:VEVENT
BEGIN:VEVENT
DTSTART;VALUE=DATE:20251121
DTEND;VALUE=DATE:20251122
DTSTAMP:20260424T001143
CREATED:20250909T012553Z
LAST-MODIFIED:20250909T012553Z
UID:8929-1763683200-1763769599@stchristina.org
SUMMARY:Report Cards Sent Home
DESCRIPTION:
URL:https://stchristina.org/event/report-cards-sent-home/
END:VEVENT
BEGIN:VEVENT
DTSTART;VALUE=DATE:20251120
DTEND;VALUE=DATE:20251121
DTSTAMP:20260424T001143
CREATED:20250909T012519Z
LAST-MODIFIED:20250909T012519Z
UID:8927-1763596800-1763683199@stchristina.org
SUMMARY:Hot Lunch (Calabria Mostaccioli)
DESCRIPTION:
URL:https://stchristina.org/event/hot-lunch-calabria-mostaccioli-16/
END:VEVENT
BEGIN:VEVENT
DTSTART;VALUE=DATE:20251119
DTEND;VALUE=DATE:20251120
DTSTAMP:20260424T001143
CREATED:20250909T012438Z
LAST-MODIFIED:20250909T012438Z
UID:8925-1763510400-1763596799@stchristina.org
SUMMARY:Enrichment
DESCRIPTION:
URL:https://stchristina.org/event/enrichment-61/
END:VEVENT
BEGIN:VEVENT
DTSTART;VALUE=DATE:20251119
DTEND;VALUE=DATE:20251120
DTSTAMP:20260424T001143
CREATED:20250909T012417Z
LAST-MODIFIED:20250909T012417Z
UID:8923-1763510400-1763596799@stchristina.org
SUMMARY:8:10am Mass
DESCRIPTION:
URL:https://stchristina.org/event/810am-mass-52/
END:VEVENT
BEGIN:VEVENT
DTSTART;TZID=UTC:20251118T080000
DTEND;TZID=UTC:20251120T170000
DTSTAMP:20260424T001143
CREATED:20250912T042709Z
LAST-MODIFIED:20250912T042709Z
UID:9701-1763452800-1763658000@stchristina.org
SUMMARY:Book Fair
DESCRIPTION:
URL:https://stchristina.org/event/book-fair-3/
END:VEVENT
BEGIN:VEVENT
DTSTART;VALUE=DATE:20251117
DTEND;VALUE=DATE:20251118
DTSTAMP:20260424T001143
CREATED:20250909T012328Z
LAST-MODIFIED:20250909T012328Z
UID:8921-1763337600-1763423999@stchristina.org
SUMMARY:SCAA Meeting
DESCRIPTION:
URL:https://stchristina.org/event/scaa-meeting-13/
END:VEVENT
BEGIN:VEVENT
DTSTART;VALUE=DATE:20251114
DTEND;VALUE=DATE:20251115
DTSTAMP:20260424T001143
CREATED:20250909T012229Z
LAST-MODIFIED:20250909T012229Z
UID:8919-1763078400-1763164799@stchristina.org
SUMMARY:Trimester 1 Ends
DESCRIPTION:
URL:https://stchristina.org/event/trimester-1-ends-2/
END:VEVENT
BEGIN:VEVENT
DTSTART;VALUE=DATE:20251113
DTEND;VALUE=DATE:20251114
DTSTAMP:20260424T001143
CREATED:20250909T012203Z
LAST-MODIFIED:20250909T012203Z
UID:8917-1762992000-1763078399@stchristina.org
SUMMARY:Hot Lunch (Barraco’s Burger/Breadsticks)
DESCRIPTION:
URL:https://stchristina.org/event/hot-lunch-barracos-burger-breadsticks-12/
END:VEVENT
BEGIN:VEVENT
DTSTART;VALUE=DATE:20251112
DTEND;VALUE=DATE:20251113
DTSTAMP:20260424T001143
CREATED:20250909T012134Z
LAST-MODIFIED:20250909T012134Z
UID:8915-1762905600-1762991999@stchristina.org
SUMMARY:Enrichment
DESCRIPTION:
URL:https://stchristina.org/event/enrichment-60/
END:VEVENT
BEGIN:VEVENT
DTSTART;VALUE=DATE:20251112
DTEND;VALUE=DATE:20251113
DTSTAMP:20260424T001143
CREATED:20250909T012107Z
LAST-MODIFIED:20250909T012107Z
UID:8913-1762905600-1762991999@stchristina.org
SUMMARY:8:10am Mass
DESCRIPTION:
URL:https://stchristina.org/event/810am-mass-51/
END:VEVENT
BEGIN:VEVENT
DTSTART;VALUE=DATE:20251111
DTEND;VALUE=DATE:20251112
DTSTAMP:20260424T001143
CREATED:20250909T012001Z
LAST-MODIFIED:20250909T012001Z
UID:8911-1762819200-1762905599@stchristina.org
SUMMARY:Veteran’s Day Program
DESCRIPTION:
URL:https://stchristina.org/event/veterans-day-program-3/
END:VEVENT
BEGIN:VEVENT
DTSTART;VALUE=DATE:20251107
DTEND;VALUE=DATE:20251108
DTSTAMP:20260424T001143
CREATED:20250909T011726Z
LAST-MODIFIED:20250909T011726Z
UID:8909-1762473600-1762559999@stchristina.org
SUMMARY:No School (Faculty PD)
DESCRIPTION:
URL:https://stchristina.org/event/no-school-faculty-pd-8/
END:VEVENT
BEGIN:VEVENT
DTSTART;VALUE=DATE:20251106
DTEND;VALUE=DATE:20251107
DTSTAMP:20260424T001143
CREATED:20250909T011558Z
LAST-MODIFIED:20250909T011558Z
UID:8905-1762387200-1762473599@stchristina.org
SUMMARY:Hot Lunch (Calabria Nuggets/Chips)
DESCRIPTION:
URL:https://stchristina.org/event/hot-lunch-calabria-nuggets-chips-8/
END:VEVENT
BEGIN:VEVENT
DTSTART;VALUE=DATE:20251105
DTEND;VALUE=DATE:20251106
DTSTAMP:20260424T001143
CREATED:20250909T011517Z
LAST-MODIFIED:20250909T011517Z
UID:8903-1762300800-1762387199@stchristina.org
SUMMARY:Enrichment
DESCRIPTION:
URL:https://stchristina.org/event/enrichment-59/
END:VEVENT
BEGIN:VEVENT
DTSTART;VALUE=DATE:20251105
DTEND;VALUE=DATE:20251106
DTSTAMP:20260424T001143
CREATED:20250909T011453Z
LAST-MODIFIED:20250909T011453Z
UID:8901-1762300800-1762387199@stchristina.org
SUMMARY:8:10am Mass  (Planned by 4th Grade)
DESCRIPTION:
URL:https://stchristina.org/event/810am-mass-planned-by-4th-grade/
END:VEVENT
BEGIN:VEVENT
DTSTART;VALUE=DATE:20251104
DTEND;VALUE=DATE:20251105
DTSTAMP:20260424T001143
CREATED:20250909T011320Z
LAST-MODIFIED:20250909T011320Z
UID:8899-1762214400-1762300799@stchristina.org
SUMMARY:SAC Meeting
DESCRIPTION:
URL:https://stchristina.org/event/sac-meeting-13/
END:VEVENT
BEGIN:VEVENT
DTSTART;VALUE=DATE:20251101
DTEND;VALUE=DATE:20251102
DTSTAMP:20260424T001143
CREATED:20250909T011250Z
LAST-MODIFIED:20250909T011250Z
UID:8897-1761955200-1762041599@stchristina.org
SUMMARY:All Saints Day
DESCRIPTION:
URL:https://stchristina.org/event/all-saints-day/
END:VEVENT
BEGIN:VEVENT
DTSTART;VALUE=DATE:20251031
DTEND;VALUE=DATE:20251101
DTSTAMP:20260424T001143
CREATED:20250908T210753Z
LAST-MODIFIED:20250908T210753Z
UID:8895-1761868800-1761955199@stchristina.org
SUMMARY:Halloween Parties
DESCRIPTION:
URL:https://stchristina.org/event/halloween-parties/
END:VEVENT
BEGIN:VEVENT
DTSTART;VALUE=DATE:20251031
DTEND;VALUE=DATE:20251101
DTSTAMP:20260424T001143
CREATED:20250908T210728Z
LAST-MODIFIED:20250908T210728Z
UID:8893-1761868800-1761955199@stchristina.org
SUMMARY:No Extended Care
DESCRIPTION:
URL:https://stchristina.org/event/no-extended-care-24/
END:VEVENT
BEGIN:VEVENT
DTSTART;VALUE=DATE:20251031
DTEND;VALUE=DATE:20251101
DTSTAMP:20260424T001143
CREATED:20250908T210709Z
LAST-MODIFIED:20250908T210709Z
UID:8891-1761868800-1761955199@stchristina.org
SUMMARY:Dress Down (costumes PreK-6th / orange & black 7th-8th)
DESCRIPTION:
URL:https://stchristina.org/event/dress-down-costumes-prek-6th-orange-black-7th-8th-2/
END:VEVENT
BEGIN:VEVENT
DTSTART;VALUE=DATE:20251031
DTEND;VALUE=DATE:20251101
DTSTAMP:20260424T001143
CREATED:20250908T210613Z
LAST-MODIFIED:20250908T210613Z
UID:8889-1761868800-1761955199@stchristina.org
SUMMARY:1:45 Dismissal
DESCRIPTION:
URL:https://stchristina.org/event/145-dismissal/
END:VEVENT
BEGIN:VEVENT
DTSTART;VALUE=DATE:20251030
DTEND;VALUE=DATE:20251031
DTSTAMP:20260424T001143
CREATED:20250918T002314Z
LAST-MODIFIED:20250918T002314Z
UID:9771-1761782400-1761868799@stchristina.org
SUMMARY:6pm Reconciliation & Communion Meeting (For 2nd Graders & Parents)
DESCRIPTION:
URL:https://stchristina.org/event/6pm-reconciliation-communion-meeting-for-2nd-graders-parents/
END:VEVENT
BEGIN:VEVENT
DTSTART;VALUE=DATE:20251030
DTEND;VALUE=DATE:20251031
DTSTAMP:20260424T001143
CREATED:20250908T210548Z
LAST-MODIFIED:20250908T210548Z
UID:8887-1761782400-1761868799@stchristina.org
SUMMARY:No Hot Lunch
DESCRIPTION:
URL:https://stchristina.org/event/no-hot-lunch-14/
END:VEVENT
BEGIN:VEVENT
DTSTART;VALUE=DATE:20251029
DTEND;VALUE=DATE:20251030
DTSTAMP:20260424T001143
CREATED:20250908T210517Z
LAST-MODIFIED:20251016T144936Z
UID:8885-1761696000-1761782399@stchristina.org
SUMMARY:Enrichment
DESCRIPTION:
URL:https://stchristina.org/event/no-enrichment/
END:VEVENT
BEGIN:VEVENT
DTSTART;VALUE=DATE:20251029
DTEND;VALUE=DATE:20251030
DTSTAMP:20260424T001143
CREATED:20250908T210457Z
LAST-MODIFIED:20250908T210457Z
UID:8883-1761696000-1761782399@stchristina.org
SUMMARY:8:10am Mass
DESCRIPTION:
URL:https://stchristina.org/event/810am-mass-50/
END:VEVENT
BEGIN:VEVENT
DTSTART;VALUE=DATE:20251028
DTEND;VALUE=DATE:20251029
DTSTAMP:20260424T001143
CREATED:20250908T210254Z
LAST-MODIFIED:20250908T210254Z
UID:8879-1761609600-1761695999@stchristina.org
SUMMARY:6pm Confirmation Retreat (8th Grade Candidates and Parent/Sponsor)
DESCRIPTION:
URL:https://stchristina.org/event/6pm-confirmation-retreat-8th-grade-candidates-and-parent-sponsor/
END:VEVENT
BEGIN:VEVENT
DTSTART;VALUE=DATE:20251027
DTEND;VALUE=DATE:20251028
DTSTAMP:20260424T001143
CREATED:20250908T210436Z
LAST-MODIFIED:20250908T210436Z
UID:8881-1761523200-1761609599@stchristina.org
SUMMARY:Red Ribbon Week Begins (10/27-10/31)
DESCRIPTION:
URL:https://stchristina.org/event/red-ribbon-week-begins-10-27-10-31/
END:VEVENT
BEGIN:VEVENT
DTSTART;VALUE=DATE:20251026
DTEND;VALUE=DATE:20251027
DTSTAMP:20260424T001143
CREATED:20250908T210206Z
LAST-MODIFIED:20250908T210206Z
UID:8877-1761436800-1761523199@stchristina.org
SUMMARY:10:30am Mass for 2nd Graders (Honoring Children Preparing for Reconciliation and Communion)
DESCRIPTION:
URL:https://stchristina.org/event/1030am-mass-for-2nd-graders-honoring-children-preparing-for-reconciliation-and-communion/
END:VEVENT
BEGIN:VEVENT
DTSTART;VALUE=DATE:20251023
DTEND;VALUE=DATE:20251024
DTSTAMP:20260424T001143
CREATED:20250908T210046Z
LAST-MODIFIED:20250908T210046Z
UID:8875-1761177600-1761263999@stchristina.org
SUMMARY:Hot Lunch (Home Run Inn Pizza)
DESCRIPTION:
URL:https://stchristina.org/event/hot-lunch-home-run-inn-pizza-9/
END:VEVENT
END:VCALENDAR