BEGIN:VCALENDAR
VERSION:2.0
PRODID:-//St. Christina Catholic School - ECPv6.15.20//NONSGML v1.0//EN
CALSCALE:GREGORIAN
METHOD:PUBLISH
X-WR-CALNAME:St. Christina Catholic School
X-ORIGINAL-URL:https://stchristina.org
X-WR-CALDESC:Events for St. Christina Catholic School
REFRESH-INTERVAL;VALUE=DURATION:PT1H
X-Robots-Tag:noindex
X-PUBLISHED-TTL:PT1H
BEGIN:VTIMEZONE
TZID:UTC
BEGIN:STANDARD
TZOFFSETFROM:+0000
TZOFFSETTO:+0000
TZNAME:UTC
DTSTART:20220101T000000
END:STANDARD
END:VTIMEZONE
BEGIN:VEVENT
DTSTART;VALUE=DATE:20231011
DTEND;VALUE=DATE:20231012
DTSTAMP:20260425T145332
CREATED:20230731T222416Z
LAST-MODIFIED:20230731T222416Z
UID:6412-1696982400-1697068799@stchristina.org
SUMMARY:Enrichment
DESCRIPTION:
URL:https://stchristina.org/event/enrichment-2/
END:VEVENT
BEGIN:VEVENT
DTSTART;VALUE=DATE:20231011
DTEND;VALUE=DATE:20231012
DTSTAMP:20260425T145332
CREATED:20230731T222355Z
LAST-MODIFIED:20230731T222355Z
UID:6410-1696982400-1697068799@stchristina.org
SUMMARY:8:10am Mass
DESCRIPTION:
URL:https://stchristina.org/event/810am-mass-7/
END:VEVENT
BEGIN:VEVENT
DTSTART;VALUE=DATE:20231009
DTEND;VALUE=DATE:20231010
DTSTAMP:20260425T145332
CREATED:20230731T222330Z
LAST-MODIFIED:20230731T222330Z
UID:6408-1696809600-1696895999@stchristina.org
SUMMARY:No School\, Columbus Day
DESCRIPTION:
URL:https://stchristina.org/event/no-school-columbus-day/
END:VEVENT
BEGIN:VEVENT
DTSTART;VALUE=DATE:20231006
DTEND;VALUE=DATE:20231007
DTSTAMP:20260425T145332
CREATED:20230731T222304Z
LAST-MODIFIED:20230731T222304Z
UID:6406-1696550400-1696636799@stchristina.org
SUMMARY:No School
DESCRIPTION:
URL:https://stchristina.org/event/no-school-12/
END:VEVENT
BEGIN:VEVENT
DTSTART;VALUE=DATE:20231005
DTEND;VALUE=DATE:20231006
DTSTAMP:20260425T145332
CREATED:20230731T222245Z
LAST-MODIFIED:20230731T222245Z
UID:6404-1696464000-1696550399@stchristina.org
SUMMARY:No Extended Care
DESCRIPTION:
URL:https://stchristina.org/event/no-extended-care-10/
END:VEVENT
BEGIN:VEVENT
DTSTART;VALUE=DATE:20231005
DTEND;VALUE=DATE:20231006
DTSTAMP:20260425T145332
CREATED:20230731T222212Z
LAST-MODIFIED:20230731T222212Z
UID:6402-1696464000-1696550399@stchristina.org
SUMMARY:No Hot Lunch
DESCRIPTION:
URL:https://stchristina.org/event/no-hot-lunch-6/
END:VEVENT
BEGIN:VEVENT
DTSTART;VALUE=DATE:20231005
DTEND;VALUE=DATE:20231006
DTSTAMP:20260425T145332
CREATED:20230731T222016Z
LAST-MODIFIED:20230731T222016Z
UID:6400-1696464000-1696550399@stchristina.org
SUMMARY:11:30 Dismissal
DESCRIPTION:
URL:https://stchristina.org/event/1130-dismissal-8/
END:VEVENT
BEGIN:VEVENT
DTSTART;VALUE=DATE:20231005
DTEND;VALUE=DATE:20231006
DTSTAMP:20260425T145332
CREATED:20230731T221937Z
LAST-MODIFIED:20230731T221937Z
UID:6398-1696464000-1696550399@stchristina.org
SUMMARY:Parent/Teacher Conferences
DESCRIPTION:
URL:https://stchristina.org/event/parent-teacher-conferences-2/
END:VEVENT
BEGIN:VEVENT
DTSTART;VALUE=DATE:20231004
DTEND;VALUE=DATE:20231005
DTSTAMP:20260425T145332
CREATED:20230731T221859Z
LAST-MODIFIED:20230731T221859Z
UID:6396-1696377600-1696463999@stchristina.org
SUMMARY:Communion Parent Meeting
DESCRIPTION:
URL:https://stchristina.org/event/communion-parent-meeting/
END:VEVENT
BEGIN:VEVENT
DTSTART;VALUE=DATE:20231004
DTEND;VALUE=DATE:20231005
DTSTAMP:20260425T145332
CREATED:20230731T221835Z
LAST-MODIFIED:20230731T221835Z
UID:6394-1696377600-1696463999@stchristina.org
SUMMARY:Enrichment
DESCRIPTION:
URL:https://stchristina.org/event/enrichment/
END:VEVENT
BEGIN:VEVENT
DTSTART;VALUE=DATE:20231004
DTEND;VALUE=DATE:20231005
DTSTAMP:20260425T145332
CREATED:20230731T221813Z
LAST-MODIFIED:20230731T221813Z
UID:6392-1696377600-1696463999@stchristina.org
SUMMARY:8:10am Mass planned by 5th Grade
DESCRIPTION:
URL:https://stchristina.org/event/810am-mass-planned-by-5th-grade/
END:VEVENT
BEGIN:VEVENT
DTSTART;VALUE=DATE:20231003
DTEND;VALUE=DATE:20231004
DTSTAMP:20260425T145332
CREATED:20230731T221728Z
LAST-MODIFIED:20230731T221728Z
UID:6390-1696291200-1696377599@stchristina.org
SUMMARY:SAC Mtg.\, 7pm
DESCRIPTION:
URL:https://stchristina.org/event/sac-mtg-7pm-3/
END:VEVENT
BEGIN:VEVENT
DTSTART;VALUE=DATE:20231002
DTEND;VALUE=DATE:20231003
DTSTAMP:20260425T145332
CREATED:20230731T221701Z
LAST-MODIFIED:20230731T221701Z
UID:6388-1696204800-1696291199@stchristina.org
SUMMARY:Communion Online Sign Up
DESCRIPTION:
URL:https://stchristina.org/event/communion-online-sign-up/
END:VEVENT
BEGIN:VEVENT
DTSTART;VALUE=DATE:20230930
DTEND;VALUE=DATE:20231001
DTSTAMP:20260425T145332
CREATED:20230731T221131Z
LAST-MODIFIED:20230731T221131Z
UID:6382-1696032000-1696118399@stchristina.org
SUMMARY:FSA SC 5K
DESCRIPTION:
URL:https://stchristina.org/event/fsa-sc-5k/
END:VEVENT
BEGIN:VEVENT
DTSTART;VALUE=DATE:20230928
DTEND;VALUE=DATE:20230929
DTSTAMP:20260425T145332
CREATED:20230731T221107Z
LAST-MODIFIED:20230731T221107Z
UID:6380-1695859200-1695945599@stchristina.org
SUMMARY:Fr. Tom McCarthy 8th Grade Confirmation Retreat\, 6pm\, Church
DESCRIPTION:
URL:https://stchristina.org/event/fr-tom-mccarthy-8th-grade-confirmation-retreat-6pm-church/
END:VEVENT
BEGIN:VEVENT
DTSTART;VALUE=DATE:20230927
DTEND;VALUE=DATE:20230928
DTSTAMP:20260425T145332
CREATED:20230731T221023Z
LAST-MODIFIED:20230731T221023Z
UID:6378-1695772800-1695859199@stchristina.org
SUMMARY:8:10am Mass
DESCRIPTION:
URL:https://stchristina.org/event/810am-mass-6/
END:VEVENT
BEGIN:VEVENT
DTSTART;VALUE=DATE:20230924
DTEND;VALUE=DATE:20230925
DTSTAMP:20260425T145332
CREATED:20230731T220805Z
LAST-MODIFIED:20230802T164259Z
UID:6376-1695513600-1695599999@stchristina.org
SUMMARY:FSA Harvest Market + Outdoor 10:30am Family Mass and 8th Grade Confirmation Rite of Election Mass
DESCRIPTION:St. Christina Fields
URL:https://stchristina.org/event/fsa-harvest-market-outdoor-family-mass-1030am/
END:VEVENT
BEGIN:VEVENT
DTSTART;VALUE=DATE:20230922
DTEND;VALUE=DATE:20230923
DTSTAMP:20260425T145332
CREATED:20230731T220721Z
LAST-MODIFIED:20230731T220721Z
UID:6374-1695340800-1695427199@stchristina.org
SUMMARY:No School\, Teacher PD
DESCRIPTION:
URL:https://stchristina.org/event/no-school-teacher-pd/
END:VEVENT
BEGIN:VEVENT
DTSTART;VALUE=DATE:20230920
DTEND;VALUE=DATE:20230921
DTSTAMP:20260425T145332
CREATED:20230731T220653Z
LAST-MODIFIED:20230731T220653Z
UID:6372-1695168000-1695254399@stchristina.org
SUMMARY:8:10am Mass
DESCRIPTION:
URL:https://stchristina.org/event/810am-mass-5/
END:VEVENT
BEGIN:VEVENT
DTSTART;VALUE=DATE:20230919
DTEND;VALUE=DATE:20230920
DTSTAMP:20260425T145332
CREATED:20230731T220630Z
LAST-MODIFIED:20230731T220630Z
UID:6370-1695081600-1695167999@stchristina.org
SUMMARY:High School Recruitment Day
DESCRIPTION:
URL:https://stchristina.org/event/high-school-recruitment-day-3/
END:VEVENT
BEGIN:VEVENT
DTSTART;VALUE=DATE:20230918
DTEND;VALUE=DATE:20230919
DTSTAMP:20260425T145332
CREATED:20230731T220605Z
LAST-MODIFIED:20230731T220605Z
UID:6368-1694995200-1695081599@stchristina.org
SUMMARY:SCAA Mtg.\, 7:30pm
DESCRIPTION:
URL:https://stchristina.org/event/scaa-mtg-730pm-2/
END:VEVENT
BEGIN:VEVENT
DTSTART;VALUE=DATE:20230917
DTEND;VALUE=DATE:20230918
DTSTAMP:20260425T145332
CREATED:20230731T220539Z
LAST-MODIFIED:20230731T220539Z
UID:6366-1694908800-1694995199@stchristina.org
SUMMARY:FSA Bears Game + Chili Cook-Off
DESCRIPTION:
URL:https://stchristina.org/event/fsa-bears-game-chili-cook-off/
END:VEVENT
BEGIN:VEVENT
DTSTART;VALUE=DATE:20230915
DTEND;VALUE=DATE:20230916
DTSTAMP:20260425T145332
CREATED:20230731T221414Z
LAST-MODIFIED:20230731T221414Z
UID:6386-1694736000-1694822399@stchristina.org
SUMMARY:Group Pictures\, K-8\, Uniforms please!
DESCRIPTION:
URL:https://stchristina.org/event/group-pictures-k-8-uniforms-please-2/
END:VEVENT
BEGIN:VEVENT
DTSTART;VALUE=DATE:20230915
DTEND;VALUE=DATE:20230916
DTSTAMP:20260425T145332
CREATED:20230731T221340Z
LAST-MODIFIED:20230731T221340Z
UID:6384-1694736000-1694822399@stchristina.org
SUMMARY:Picture Day\, PreK\, dress up!
DESCRIPTION:
URL:https://stchristina.org/event/picture-day-prek-dress-up-2/
END:VEVENT
BEGIN:VEVENT
DTSTART;VALUE=DATE:20230914
DTEND;VALUE=DATE:20230915
DTSTAMP:20260425T145332
CREATED:20230731T220414Z
LAST-MODIFIED:20230731T220414Z
UID:6360-1694649600-1694735999@stchristina.org
SUMMARY:FSA Bunco
DESCRIPTION:
URL:https://stchristina.org/event/fsa-bunco/
END:VEVENT
BEGIN:VEVENT
DTSTART;VALUE=DATE:20230914
DTEND;VALUE=DATE:20230915
DTSTAMP:20260425T145332
CREATED:20230731T220349Z
LAST-MODIFIED:20230731T220349Z
UID:6358-1694649600-1694735999@stchristina.org
SUMMARY:Picture Day\, K-8\, dress up!
DESCRIPTION:
URL:https://stchristina.org/event/picture-day-k-8-dress-up/
END:VEVENT
BEGIN:VEVENT
DTSTART;VALUE=DATE:20230913
DTEND;VALUE=DATE:20230914
DTSTAMP:20260425T145332
CREATED:20230731T215823Z
LAST-MODIFIED:20230731T215823Z
UID:6356-1694563200-1694649599@stchristina.org
SUMMARY:8:10am Mass
DESCRIPTION:
URL:https://stchristina.org/event/810am-mass-4/
END:VEVENT
BEGIN:VEVENT
DTSTART;VALUE=DATE:20230912
DTEND;VALUE=DATE:20230913
DTSTAMP:20260425T145332
CREATED:20230731T215803Z
LAST-MODIFIED:20230731T215803Z
UID:6354-1694476800-1694563199@stchristina.org
SUMMARY:FSA Mtg.\, 7pm
DESCRIPTION:
URL:https://stchristina.org/event/fsa-mtg-7pm/
END:VEVENT
BEGIN:VEVENT
DTSTART;VALUE=DATE:20230911
DTEND;VALUE=DATE:20230912
DTSTAMP:20260425T145332
CREATED:20230731T215732Z
LAST-MODIFIED:20230731T215732Z
UID:6352-1694390400-1694476799@stchristina.org
SUMMARY:9/11 Moment of Prayer
DESCRIPTION:
URL:https://stchristina.org/event/9-11-moment-of-prayer/
END:VEVENT
BEGIN:VEVENT
DTSTART;VALUE=DATE:20230907
DTEND;VALUE=DATE:20230908
DTSTAMP:20260425T145332
CREATED:20230731T215706Z
LAST-MODIFIED:20230731T215706Z
UID:6350-1694044800-1694131199@stchristina.org
SUMMARY:Early Dismissal\, Teacher PD\, 1:45pm
DESCRIPTION:
URL:https://stchristina.org/event/early-dismissal-teacher-pd-145pm/
END:VEVENT
END:VCALENDAR