BEGIN:VCALENDAR
VERSION:2.0
PRODID:-//St. Christina Catholic School - ECPv6.15.20//NONSGML v1.0//EN
CALSCALE:GREGORIAN
METHOD:PUBLISH
X-WR-CALNAME:St. Christina Catholic School
X-ORIGINAL-URL:https://stchristina.org
X-WR-CALDESC:Events for St. Christina Catholic School
REFRESH-INTERVAL;VALUE=DURATION:PT1H
X-Robots-Tag:noindex
X-PUBLISHED-TTL:PT1H
BEGIN:VTIMEZONE
TZID:UTC
BEGIN:STANDARD
TZOFFSETFROM:+0000
TZOFFSETTO:+0000
TZNAME:UTC
DTSTART:20220101T000000
END:STANDARD
END:VTIMEZONE
BEGIN:VEVENT
DTSTART;VALUE=DATE:20230511
DTEND;VALUE=DATE:20230512
DTSTAMP:20260425T183551
CREATED:20220801T183533Z
LAST-MODIFIED:20220801T183536Z
UID:5697-1683763200-1683849599@stchristina.org
SUMMARY:Hot Lunch\, Burger Day
DESCRIPTION:
URL:https://stchristina.org/event/hot-lunch-burger-day-4/
END:VEVENT
BEGIN:VEVENT
DTSTART;VALUE=DATE:20230510
DTEND;VALUE=DATE:20230511
DTSTAMP:20260425T183551
CREATED:20220801T183122Z
LAST-MODIFIED:20220801T183122Z
UID:5680-1683676800-1683763199@stchristina.org
SUMMARY:May Crowning Mass\, 8:10am
DESCRIPTION:
URL:https://stchristina.org/event/mass-810am-12-2-3/
END:VEVENT
BEGIN:VEVENT
DTSTART;VALUE=DATE:20230509
DTEND;VALUE=DATE:20230510
DTSTAMP:20260425T183551
CREATED:20220801T183349Z
LAST-MODIFIED:20221129T225543Z
UID:5691-1683590400-1683676799@stchristina.org
SUMMARY:FSA Meeting\, 7pm in the church hall
DESCRIPTION:
URL:https://stchristina.org/event/fsa-meeting-730pm-6/
END:VEVENT
BEGIN:VEVENT
DTSTART;VALUE=DATE:20230507
DTEND;VALUE=DATE:20230508
DTSTAMP:20260425T183551
CREATED:20230402T211333Z
LAST-MODIFIED:20230402T211333Z
UID:6153-1683417600-1683503999@stchristina.org
SUMMARY:2pm mass for medical personnel
DESCRIPTION:
URL:https://stchristina.org/event/2pm-mass-for-medical-personnel/
END:VEVENT
BEGIN:VEVENT
DTSTART;VALUE=DATE:20230506
DTEND;VALUE=DATE:20230507
DTSTAMP:20260425T183551
CREATED:20220801T183454Z
LAST-MODIFIED:20220801T183500Z
UID:5695-1683331200-1683417599@stchristina.org
SUMMARY:FSA Derby Party
DESCRIPTION:
URL:https://stchristina.org/event/fsa-derby-party/
END:VEVENT
BEGIN:VEVENT
DTSTART;VALUE=DATE:20230504
DTEND;VALUE=DATE:20230505
DTSTAMP:20260425T183551
CREATED:20220801T183414Z
LAST-MODIFIED:20220801T183418Z
UID:5693-1683158400-1683244799@stchristina.org
SUMMARY:Hot Lunch\, Hot Dog Day
DESCRIPTION:
URL:https://stchristina.org/event/hot-lunch-hot-dog-day-5/
END:VEVENT
BEGIN:VEVENT
DTSTART;VALUE=DATE:20230503
DTEND;VALUE=DATE:20230504
DTSTAMP:20260425T183551
CREATED:20220801T183051Z
LAST-MODIFIED:20220801T183051Z
UID:5681-1683072000-1683158399@stchristina.org
SUMMARY:8th Grade Ribbon Mass\, 8:10am
DESCRIPTION:
URL:https://stchristina.org/event/mass-810am-12-2-2/
END:VEVENT
BEGIN:VEVENT
DTSTART;VALUE=DATE:20230502
DTEND;VALUE=DATE:20230503
DTSTAMP:20260425T183551
CREATED:20220801T183320Z
LAST-MODIFIED:20220801T183323Z
UID:5689-1682985600-1683071999@stchristina.org
SUMMARY:SAC Meeting\, 7pm
DESCRIPTION:
URL:https://stchristina.org/event/sac-meeting-7pm-9/
END:VEVENT
BEGIN:VEVENT
DTSTART;VALUE=DATE:20230430
DTEND;VALUE=DATE:20230501
DTSTAMP:20260425T183551
CREATED:20230402T211201Z
LAST-MODIFIED:20230402T211226Z
UID:6150-1682812800-1682899199@stchristina.org
SUMMARY:Art Show + Book Fair followed by 2pm mass for police and fire
DESCRIPTION:
URL:https://stchristina.org/event/art-show-book-fair/
END:VEVENT
BEGIN:VEVENT
DTSTART;VALUE=DATE:20230429
DTEND;VALUE=DATE:20230430
DTSTAMP:20260425T183551
CREATED:20220928T193012Z
LAST-MODIFIED:20220928T193012Z
UID:5889-1682726400-1682812799@stchristina.org
SUMMARY:Holy Communion pictures (for last names M-Z) from 8:30-9:30am or 11am-12pm
DESCRIPTION:
URL:https://stchristina.org/event/holy-communion-pictures-for-last-names-m-z-from-830-930am-or-11am-12pm/
END:VEVENT
BEGIN:VEVENT
DTSTART;VALUE=DATE:20230429
DTEND;VALUE=DATE:20230430
DTSTAMP:20260425T183551
CREATED:20220928T192935Z
LAST-MODIFIED:20220928T192935Z
UID:5887-1682726400-1682812799@stchristina.org
SUMMARY:HOLY COMMUNION MASS (for last names M-Z)\, 10am church
DESCRIPTION:
URL:https://stchristina.org/event/holy-communion-mass-for-last-names-m-z-10am-church/
END:VEVENT
BEGIN:VEVENT
DTSTART;VALUE=DATE:20230428
DTEND;VALUE=DATE:20230429
DTSTAMP:20260425T183551
CREATED:20220801T182710Z
LAST-MODIFIED:20220801T182735Z
UID:5670-1682640000-1682726399@stchristina.org
SUMMARY:Grandparent / Special Friend Day\, 1pm Church
DESCRIPTION:
URL:https://stchristina.org/event/grandparent-special-friend-day-1pm-church/
END:VEVENT
BEGIN:VEVENT
DTSTART;VALUE=DATE:20230427
DTEND;VALUE=DATE:20230428
DTSTAMP:20260425T183551
CREATED:20220928T192808Z
LAST-MODIFIED:20220928T192808Z
UID:5885-1682553600-1682639999@stchristina.org
SUMMARY:Holy Communion practice (for last names M-Z) for communicant and parent\, 6pm church
DESCRIPTION:
URL:https://stchristina.org/event/holy-communion-practice-for-last-names-m-z-for-communicant-and-parent-6pm-church/
END:VEVENT
BEGIN:VEVENT
DTSTART;VALUE=DATE:20230427
DTEND;VALUE=DATE:20230428
DTSTAMP:20260425T183551
CREATED:20220801T182609Z
LAST-MODIFIED:20220801T182614Z
UID:5668-1682553600-1682639999@stchristina.org
SUMMARY:Hot Lunch\, Pizza
DESCRIPTION:
URL:https://stchristina.org/event/hot-lunch-pizza/
END:VEVENT
BEGIN:VEVENT
DTSTART;VALUE=DATE:20230426
DTEND;VALUE=DATE:20230427
DTSTAMP:20260425T183551
CREATED:20230402T211003Z
LAST-MODIFIED:20230402T211003Z
UID:6146-1682467200-1682553599@stchristina.org
SUMMARY:Fun Run!
DESCRIPTION:
URL:https://stchristina.org/event/fun-run/
END:VEVENT
BEGIN:VEVENT
DTSTART;VALUE=DATE:20230426
DTEND;VALUE=DATE:20230427
DTSTAMP:20260425T183551
CREATED:20220801T182404Z
LAST-MODIFIED:20220801T182408Z
UID:5662-1682467200-1682553599@stchristina.org
SUMMARY:Mass 8:10am
DESCRIPTION:
URL:https://stchristina.org/event/mass-810am-12-2/
END:VEVENT
BEGIN:VEVENT
DTSTART;VALUE=DATE:20230422
DTEND;VALUE=DATE:20230423
DTSTAMP:20260425T183551
CREATED:20220928T192655Z
LAST-MODIFIED:20220928T192655Z
UID:5883-1682121600-1682207999@stchristina.org
SUMMARY:Holy Communion pictures (for last names A-L) from 8:30-9:30am or 11am-12pm
DESCRIPTION:
URL:https://stchristina.org/event/holy-communion-pictures-for-last-names-a-l-from-830-930am-or-11am-12pm/
END:VEVENT
BEGIN:VEVENT
DTSTART;VALUE=DATE:20230422
DTEND;VALUE=DATE:20230423
DTSTAMP:20260425T183551
CREATED:20220928T192537Z
LAST-MODIFIED:20220928T192537Z
UID:5881-1682121600-1682207999@stchristina.org
SUMMARY:HOLY COMMUNION MASS (for last names A-L) 10am church
DESCRIPTION:
URL:https://stchristina.org/event/holy-communion-mass-for-last-names-a-l-10am-church/
END:VEVENT
BEGIN:VEVENT
DTSTART;VALUE=DATE:20230420
DTEND;VALUE=DATE:20230421
DTSTAMP:20260425T183551
CREATED:20220928T192401Z
LAST-MODIFIED:20220928T192401Z
UID:5879-1681948800-1682035199@stchristina.org
SUMMARY:Holy Communion Practice for last names A-L for communicant and parent\, 6pm church
DESCRIPTION:
URL:https://stchristina.org/event/holy-communion-practice-for-last-names-a-l-for-communicant-and-parent-6pm-church/
END:VEVENT
BEGIN:VEVENT
DTSTART;VALUE=DATE:20230420
DTEND;VALUE=DATE:20230421
DTSTAMP:20260425T183551
CREATED:20220801T182536Z
LAST-MODIFIED:20220801T182540Z
UID:5666-1681948800-1682035199@stchristina.org
SUMMARY:Dress Down Day
DESCRIPTION:
URL:https://stchristina.org/event/dress-down-day-31/
END:VEVENT
BEGIN:VEVENT
DTSTART;VALUE=DATE:20230420
DTEND;VALUE=DATE:20230421
DTSTAMP:20260425T183551
CREATED:20220801T182451Z
LAST-MODIFIED:20220801T182503Z
UID:5664-1681948800-1682035199@stchristina.org
SUMMARY:Hot Lunch\, Calabria
DESCRIPTION:
URL:https://stchristina.org/event/hot-lunch-calabria-2/
END:VEVENT
BEGIN:VEVENT
DTSTART;VALUE=DATE:20230419
DTEND;VALUE=DATE:20230420
DTSTAMP:20260425T183551
CREATED:20220801T182318Z
LAST-MODIFIED:20220801T182335Z
UID:5660-1681862400-1681948799@stchristina.org
SUMMARY:Mass 8:10am
DESCRIPTION:
URL:https://stchristina.org/event/mass-810am-12/
END:VEVENT
BEGIN:VEVENT
DTSTART;VALUE=DATE:20230417
DTEND;VALUE=DATE:20230418
DTSTAMP:20260425T183551
CREATED:20220801T182232Z
LAST-MODIFIED:20220801T182236Z
UID:5658-1681689600-1681775999@stchristina.org
SUMMARY:Classes Resume
DESCRIPTION:
URL:https://stchristina.org/event/classes-resume-9/
END:VEVENT
BEGIN:VEVENT
DTSTART;VALUE=DATE:20230409
DTEND;VALUE=DATE:20230410
DTSTAMP:20260425T183551
CREATED:20220801T182819Z
LAST-MODIFIED:20220801T182828Z
UID:5673-1680998400-1681084799@stchristina.org
SUMMARY:Happy Easter!
DESCRIPTION:
URL:https://stchristina.org/event/happy-easter/
END:VEVENT
BEGIN:VEVENT
DTSTART;VALUE=DATE:20230407
DTEND;VALUE=DATE:20230417
DTSTAMP:20260425T183551
CREATED:20220801T182154Z
LAST-MODIFIED:20220801T182159Z
UID:5656-1680825600-1681689599@stchristina.org
SUMMARY:Easter Break
DESCRIPTION:
URL:https://stchristina.org/event/easter-break-4/
END:VEVENT
BEGIN:VEVENT
DTSTART;VALUE=DATE:20230407
DTEND;VALUE=DATE:20230408
DTSTAMP:20260425T183551
CREATED:20220801T181936Z
LAST-MODIFIED:20220801T181952Z
UID:5653-1680825600-1680911999@stchristina.org
SUMMARY:Good Friday
DESCRIPTION:
URL:https://stchristina.org/event/good-friday/
END:VEVENT
BEGIN:VEVENT
DTSTART;VALUE=DATE:20230406
DTEND;VALUE=DATE:20230407
DTSTAMP:20260425T183551
CREATED:20220801T181826Z
LAST-MODIFIED:20220801T181835Z
UID:5651-1680739200-1680825599@stchristina.org
SUMMARY:No Extended Care
DESCRIPTION:
URL:https://stchristina.org/event/no-extended-care-7/
END:VEVENT
BEGIN:VEVENT
DTSTART;VALUE=DATE:20230406
DTEND;VALUE=DATE:20230407
DTSTAMP:20260425T183551
CREATED:20220801T181755Z
LAST-MODIFIED:20220801T181801Z
UID:5649-1680739200-1680825599@stchristina.org
SUMMARY:11:30 Dismissal
DESCRIPTION:
URL:https://stchristina.org/event/1130-dismissal-7/
END:VEVENT
BEGIN:VEVENT
DTSTART;VALUE=DATE:20230406
DTEND;VALUE=DATE:20230407
DTSTAMP:20260425T183551
CREATED:20220801T181729Z
LAST-MODIFIED:20220801T181729Z
UID:5647-1680739200-1680825599@stchristina.org
SUMMARY:Holy Thursday
DESCRIPTION:
URL:https://stchristina.org/event/holy-thursday-2/
END:VEVENT
BEGIN:VEVENT
DTSTART;VALUE=DATE:20230405
DTEND;VALUE=DATE:20230406
DTSTAMP:20260425T183551
CREATED:20220801T181645Z
LAST-MODIFIED:20220801T181651Z
UID:5645-1680652800-1680739199@stchristina.org
SUMMARY:Mass 8:10am
DESCRIPTION:
URL:https://stchristina.org/event/mass-810am-11/
END:VEVENT
END:VCALENDAR