BEGIN:VCALENDAR
VERSION:2.0
PRODID:-//St. Christina Catholic School - ECPv6.15.20//NONSGML v1.0//EN
CALSCALE:GREGORIAN
METHOD:PUBLISH
X-WR-CALNAME:St. Christina Catholic School
X-ORIGINAL-URL:https://stchristina.org
X-WR-CALDESC:Events for St. Christina Catholic School
REFRESH-INTERVAL;VALUE=DURATION:PT1H
X-Robots-Tag:noindex
X-PUBLISHED-TTL:PT1H
BEGIN:VTIMEZONE
TZID:UTC
BEGIN:STANDARD
TZOFFSETFROM:+0000
TZOFFSETTO:+0000
TZNAME:UTC
DTSTART:20220101T000000
END:STANDARD
END:VTIMEZONE
BEGIN:VEVENT
DTSTART;VALUE=DATE:20230309
DTEND;VALUE=DATE:20230310
DTSTAMP:20260426T013949
CREATED:20220731T151926Z
LAST-MODIFIED:20220731T151930Z
UID:5601-1678320000-1678406399@stchristina.org
SUMMARY:Hot Lunch\, Burger Day
DESCRIPTION:
URL:https://stchristina.org/event/hot-lunch-burger-day-3-2/
END:VEVENT
BEGIN:VEVENT
DTSTART;VALUE=DATE:20230308
DTEND;VALUE=DATE:20230309
DTSTAMP:20260426T013949
CREATED:20220731T152610Z
LAST-MODIFIED:20220731T152628Z
UID:5614-1678233600-1678319999@stchristina.org
SUMMARY:Mass 8:10am
DESCRIPTION:
URL:https://stchristina.org/event/mass-810am-8/
END:VEVENT
BEGIN:VEVENT
DTSTART;VALUE=DATE:20230307
DTEND;VALUE=DATE:20230308
DTSTAMP:20260426T013949
CREATED:20220731T152519Z
LAST-MODIFIED:20220731T152524Z
UID:5612-1678147200-1678233599@stchristina.org
SUMMARY:SAC Meeting\, 7pm
DESCRIPTION:
URL:https://stchristina.org/event/sac-meeting-7pm-7/
END:VEVENT
BEGIN:VEVENT
DTSTART;VALUE=DATE:20230304
DTEND;VALUE=DATE:20230305
DTSTAMP:20260426T013949
CREATED:20220731T151705Z
LAST-MODIFIED:20221019T023349Z
UID:5598-1677888000-1677974399@stchristina.org
SUMMARY:FSA Mother/Daughter Event
DESCRIPTION:
URL:https://stchristina.org/event/fsa-mother-daughter-event/
END:VEVENT
BEGIN:VEVENT
DTSTART;VALUE=DATE:20230303
DTEND;VALUE=DATE:20230304
DTSTAMP:20260426T013949
CREATED:20220731T152334Z
LAST-MODIFIED:20220731T152339Z
UID:5608-1677801600-1677887999@stchristina.org
SUMMARY:Trimester Ends
DESCRIPTION:
URL:https://stchristina.org/event/trimester-ends-3/
END:VEVENT
BEGIN:VEVENT
DTSTART;VALUE=DATE:20230302
DTEND;VALUE=DATE:20230303
DTSTAMP:20260426T013949
CREATED:20220731T151904Z
LAST-MODIFIED:20220731T151909Z
UID:5602-1677715200-1677801599@stchristina.org
SUMMARY:Hot Lunch\, Hot Dog Day
DESCRIPTION:
URL:https://stchristina.org/event/hot-lunch-hot-dog-day-4-2/
END:VEVENT
BEGIN:VEVENT
DTSTART;VALUE=DATE:20230226
DTEND;VALUE=DATE:20230227
DTSTAMP:20260426T013949
CREATED:20220731T153420Z
LAST-MODIFIED:20221019T023256Z
UID:5633-1677369600-1677455999@stchristina.org
SUMMARY:FSA Father/Son Bowling
DESCRIPTION:
URL:https://stchristina.org/event/fsa-father-son-bowling/
END:VEVENT
BEGIN:VEVENT
DTSTART;VALUE=DATE:20230224
DTEND;VALUE=DATE:20230225
DTSTAMP:20260426T013949
CREATED:20220731T151617Z
LAST-MODIFIED:20220731T151623Z
UID:5596-1677196800-1677283199@stchristina.org
SUMMARY:Graduation Picture Day
DESCRIPTION:
URL:https://stchristina.org/event/graduation-picture-day-2/
END:VEVENT
BEGIN:VEVENT
DTSTART;VALUE=DATE:20230223
DTEND;VALUE=DATE:20230224
DTSTAMP:20260426T013949
CREATED:20220731T151509Z
LAST-MODIFIED:20220731T151539Z
UID:5594-1677110400-1677196799@stchristina.org
SUMMARY:Hot Lunch\, Pizza Day
DESCRIPTION:
URL:https://stchristina.org/event/hot-lunch-pizza-day-3/
END:VEVENT
BEGIN:VEVENT
DTSTART;VALUE=DATE:20230222
DTEND;VALUE=DATE:20230223
DTSTAMP:20260426T013949
CREATED:20220731T152223Z
LAST-MODIFIED:20220826T004928Z
UID:5606-1677024000-1677110399@stchristina.org
SUMMARY:Ash Wednesday\, 8:10am Mass
DESCRIPTION:
URL:https://stchristina.org/event/ash-wednesday-810am-mass/
END:VEVENT
BEGIN:VEVENT
DTSTART;VALUE=DATE:20230220
DTEND;VALUE=DATE:20230221
DTSTAMP:20260426T013949
CREATED:20220731T151400Z
LAST-MODIFIED:20220731T151405Z
UID:5592-1676851200-1676937599@stchristina.org
SUMMARY:No School
DESCRIPTION:
URL:https://stchristina.org/event/no-school-11/
END:VEVENT
BEGIN:VEVENT
DTSTART;VALUE=DATE:20230217
DTEND;VALUE=DATE:20230218
DTSTAMP:20260426T013949
CREATED:20221117T013920Z
LAST-MODIFIED:20221117T013920Z
UID:5952-1676592000-1676678399@stchristina.org
SUMMARY:FSA Father/Daughter Dance
DESCRIPTION:
URL:https://stchristina.org/event/fsa-father-daughter-dance/
END:VEVENT
BEGIN:VEVENT
DTSTART;VALUE=DATE:20230217
DTEND;VALUE=DATE:20230218
DTSTAMP:20260426T013949
CREATED:20220731T151320Z
LAST-MODIFIED:20220731T151327Z
UID:5590-1676592000-1676678399@stchristina.org
SUMMARY:Teacher Inservice\, No School
DESCRIPTION:
URL:https://stchristina.org/event/teacher-inservice-no-school-4/
END:VEVENT
BEGIN:VEVENT
DTSTART;VALUE=DATE:20230216
DTEND;VALUE=DATE:20230217
DTSTAMP:20260426T013949
CREATED:20230126T023637Z
LAST-MODIFIED:20230126T023637Z
UID:6091-1676505600-1676591999@stchristina.org
SUMMARY:FSA Bunco Night
DESCRIPTION:
URL:https://stchristina.org/event/fsa-bunco-night/
END:VEVENT
BEGIN:VEVENT
DTSTART;VALUE=DATE:20230216
DTEND;VALUE=DATE:20230217
DTSTAMP:20260426T013949
CREATED:20220901T181500Z
LAST-MODIFIED:20220901T181500Z
UID:5834-1676505600-1676591999@stchristina.org
SUMMARY:Confirmation Mass\, 6pm
DESCRIPTION:
URL:https://stchristina.org/event/confirmation-mass-6pm/
END:VEVENT
BEGIN:VEVENT
DTSTART;VALUE=DATE:20230216
DTEND;VALUE=DATE:20230217
DTSTAMP:20260426T013949
CREATED:20220731T151135Z
LAST-MODIFIED:20220731T151138Z
UID:5588-1676505600-1676591999@stchristina.org
SUMMARY:Dress Down Day
DESCRIPTION:
URL:https://stchristina.org/event/dress-down-day-29/
END:VEVENT
BEGIN:VEVENT
DTSTART;VALUE=DATE:20230216
DTEND;VALUE=DATE:20230217
DTSTAMP:20260426T013949
CREATED:20220731T151051Z
LAST-MODIFIED:20220731T151116Z
UID:5586-1676505600-1676591999@stchristina.org
SUMMARY:Hot Lunch\, Calabria Day
DESCRIPTION:
URL:https://stchristina.org/event/hot-lunch-calabria-day-3/
END:VEVENT
BEGIN:VEVENT
DTSTART;VALUE=DATE:20230215
DTEND;VALUE=DATE:20230216
DTSTAMP:20260426T013949
CREATED:20220731T150516Z
LAST-MODIFIED:20220731T150522Z
UID:5571-1676419200-1676505599@stchristina.org
SUMMARY:Mass 8:10am
DESCRIPTION:
URL:https://stchristina.org/event/mass-810am-7-3/
END:VEVENT
BEGIN:VEVENT
DTSTART;VALUE=DATE:20230214
DTEND;VALUE=DATE:20230215
DTSTAMP:20260426T013949
CREATED:20220731T150901Z
LAST-MODIFIED:20221129T225454Z
UID:5582-1676332800-1676419199@stchristina.org
SUMMARY:FSA Meeting\, 7pm in the church hall
DESCRIPTION:
URL:https://stchristina.org/event/fsa-meeting-730pm-4/
END:VEVENT
BEGIN:VEVENT
DTSTART;VALUE=DATE:20230213
DTEND;VALUE=DATE:20230214
DTSTAMP:20260426T013949
CREATED:20220901T181430Z
LAST-MODIFIED:20220901T181430Z
UID:5832-1676246400-1676332799@stchristina.org
SUMMARY:Confirmation Practice\, 3:15-4:15
DESCRIPTION:
URL:https://stchristina.org/event/confirmation-practice-315-415/
END:VEVENT
BEGIN:VEVENT
DTSTART;VALUE=DATE:20230213
DTEND;VALUE=DATE:20230214
DTSTAMP:20260426T013949
CREATED:20220731T150831Z
LAST-MODIFIED:20230125T190914Z
UID:5580-1676246400-1676332799@stchristina.org
SUMMARY:SAC Meeting\, 7pm Parish Center
DESCRIPTION:
URL:https://stchristina.org/event/sac-meeting-7pm-6/
END:VEVENT
BEGIN:VEVENT
DTSTART;VALUE=DATE:20230211
DTEND;VALUE=DATE:20230212
DTSTAMP:20260426T013949
CREATED:20220901T181340Z
LAST-MODIFIED:20220901T181340Z
UID:5830-1676073600-1676159999@stchristina.org
SUMMARY:Third Scrutiny\, 4pm Mass
DESCRIPTION:
URL:https://stchristina.org/event/third-scrutiny-4pm-mass/
END:VEVENT
BEGIN:VEVENT
DTSTART;VALUE=DATE:20230209
DTEND;VALUE=DATE:20230210
DTSTAMP:20260426T013949
CREATED:20220731T150950Z
LAST-MODIFIED:20220731T150955Z
UID:5584-1675900800-1675987199@stchristina.org
SUMMARY:Hot Lunch\, Burger Day
DESCRIPTION:
URL:https://stchristina.org/event/hot-lunch-burger-day-3/
END:VEVENT
BEGIN:VEVENT
DTSTART;VALUE=DATE:20230208
DTEND;VALUE=DATE:20230209
DTSTAMP:20260426T013949
CREATED:20220731T150444Z
LAST-MODIFIED:20220731T150457Z
UID:5570-1675814400-1675900799@stchristina.org
SUMMARY:Mass 8:10am
DESCRIPTION:
URL:https://stchristina.org/event/mass-810am-7-2/
END:VEVENT
BEGIN:VEVENT
DTSTART;VALUE=DATE:20230205
DTEND;VALUE=DATE:20230206
DTSTAMP:20260426T013949
CREATED:20220901T181305Z
LAST-MODIFIED:20220901T182013Z
UID:5828-1675555200-1675641599@stchristina.org
SUMMARY:Second Scrutiny\, 10:30am Mass
DESCRIPTION:
URL:https://stchristina.org/event/second-scrutiny-4pm-mass/
END:VEVENT
BEGIN:VEVENT
DTSTART;VALUE=DATE:20230202
DTEND;VALUE=DATE:20230203
DTSTAMP:20260426T013949
CREATED:20220731T150622Z
LAST-MODIFIED:20220731T150649Z
UID:5576-1675296000-1675382399@stchristina.org
SUMMARY:Hot Lunch\, Hot Dog Day
DESCRIPTION:
URL:https://stchristina.org/event/hot-lunch-hot-dog-day-4/
END:VEVENT
BEGIN:VEVENT
DTSTART;VALUE=DATE:20230201
DTEND;VALUE=DATE:20230202
DTSTAMP:20260426T013949
CREATED:20220731T150413Z
LAST-MODIFIED:20220731T150413Z
UID:5568-1675209600-1675295999@stchristina.org
SUMMARY:Mass 8:10am
DESCRIPTION:
URL:https://stchristina.org/event/mass-810am-7/
END:VEVENT
BEGIN:VEVENT
DTSTART;VALUE=DATE:20230130
DTEND;VALUE=DATE:20230204
DTSTAMP:20260426T013949
CREATED:20220727T211435Z
LAST-MODIFIED:20220727T211441Z
UID:5557-1675036800-1675468799@stchristina.org
SUMMARY:Catholic Schools Week
DESCRIPTION:
URL:https://stchristina.org/event/catholic-schools-week-3/
END:VEVENT
BEGIN:VEVENT
DTSTART;VALUE=DATE:20230129
DTEND;VALUE=DATE:20230204
DTSTAMP:20260426T013949
CREATED:20220727T211534Z
LAST-MODIFIED:20220731T150249Z
UID:5559-1674950400-1675468799@stchristina.org
SUMMARY:Registration for New Families (23/24 school year)
DESCRIPTION:
URL:https://stchristina.org/event/registration-for-new-families/
END:VEVENT
BEGIN:VEVENT
DTSTART;VALUE=DATE:20230129
DTEND;VALUE=DATE:20230130
DTSTAMP:20260426T013949
CREATED:20220727T211303Z
LAST-MODIFIED:20220727T211308Z
UID:5555-1674950400-1675036799@stchristina.org
SUMMARY:Catholic Schools Week Begins!
DESCRIPTION:
URL:https://stchristina.org/event/catholic-schools-week-begins-2/
END:VEVENT
END:VCALENDAR