BEGIN:VCALENDAR
VERSION:2.0
PRODID:-//St. Christina Catholic School - ECPv6.15.20//NONSGML v1.0//EN
CALSCALE:GREGORIAN
METHOD:PUBLISH
X-WR-CALNAME:St. Christina Catholic School
X-ORIGINAL-URL:https://stchristina.org
X-WR-CALDESC:Events for St. Christina Catholic School
REFRESH-INTERVAL;VALUE=DURATION:PT1H
X-Robots-Tag:noindex
X-PUBLISHED-TTL:PT1H
BEGIN:VTIMEZONE
TZID:UTC
BEGIN:STANDARD
TZOFFSETFROM:+0000
TZOFFSETTO:+0000
TZNAME:UTC
DTSTART:20220101T000000
END:STANDARD
END:VTIMEZONE
BEGIN:VEVENT
DTSTART;VALUE=DATE:20230216
DTEND;VALUE=DATE:20230217
DTSTAMP:20260426T043208
CREATED:20220731T151051Z
LAST-MODIFIED:20220731T151116Z
UID:5586-1676505600-1676591999@stchristina.org
SUMMARY:Hot Lunch\, Calabria Day
DESCRIPTION:
URL:https://stchristina.org/event/hot-lunch-calabria-day-3/
END:VEVENT
BEGIN:VEVENT
DTSTART;VALUE=DATE:20230215
DTEND;VALUE=DATE:20230216
DTSTAMP:20260426T043208
CREATED:20220731T150516Z
LAST-MODIFIED:20220731T150522Z
UID:5571-1676419200-1676505599@stchristina.org
SUMMARY:Mass 8:10am
DESCRIPTION:
URL:https://stchristina.org/event/mass-810am-7-3/
END:VEVENT
BEGIN:VEVENT
DTSTART;VALUE=DATE:20230214
DTEND;VALUE=DATE:20230215
DTSTAMP:20260426T043208
CREATED:20220731T150901Z
LAST-MODIFIED:20221129T225454Z
UID:5582-1676332800-1676419199@stchristina.org
SUMMARY:FSA Meeting\, 7pm in the church hall
DESCRIPTION:
URL:https://stchristina.org/event/fsa-meeting-730pm-4/
END:VEVENT
BEGIN:VEVENT
DTSTART;VALUE=DATE:20230213
DTEND;VALUE=DATE:20230214
DTSTAMP:20260426T043208
CREATED:20220901T181430Z
LAST-MODIFIED:20220901T181430Z
UID:5832-1676246400-1676332799@stchristina.org
SUMMARY:Confirmation Practice\, 3:15-4:15
DESCRIPTION:
URL:https://stchristina.org/event/confirmation-practice-315-415/
END:VEVENT
BEGIN:VEVENT
DTSTART;VALUE=DATE:20230213
DTEND;VALUE=DATE:20230214
DTSTAMP:20260426T043208
CREATED:20220731T150831Z
LAST-MODIFIED:20230125T190914Z
UID:5580-1676246400-1676332799@stchristina.org
SUMMARY:SAC Meeting\, 7pm Parish Center
DESCRIPTION:
URL:https://stchristina.org/event/sac-meeting-7pm-6/
END:VEVENT
BEGIN:VEVENT
DTSTART;VALUE=DATE:20230211
DTEND;VALUE=DATE:20230212
DTSTAMP:20260426T043208
CREATED:20220901T181340Z
LAST-MODIFIED:20220901T181340Z
UID:5830-1676073600-1676159999@stchristina.org
SUMMARY:Third Scrutiny\, 4pm Mass
DESCRIPTION:
URL:https://stchristina.org/event/third-scrutiny-4pm-mass/
END:VEVENT
BEGIN:VEVENT
DTSTART;VALUE=DATE:20230209
DTEND;VALUE=DATE:20230210
DTSTAMP:20260426T043208
CREATED:20220731T150950Z
LAST-MODIFIED:20220731T150955Z
UID:5584-1675900800-1675987199@stchristina.org
SUMMARY:Hot Lunch\, Burger Day
DESCRIPTION:
URL:https://stchristina.org/event/hot-lunch-burger-day-3/
END:VEVENT
BEGIN:VEVENT
DTSTART;VALUE=DATE:20230208
DTEND;VALUE=DATE:20230209
DTSTAMP:20260426T043208
CREATED:20220731T150444Z
LAST-MODIFIED:20220731T150457Z
UID:5570-1675814400-1675900799@stchristina.org
SUMMARY:Mass 8:10am
DESCRIPTION:
URL:https://stchristina.org/event/mass-810am-7-2/
END:VEVENT
BEGIN:VEVENT
DTSTART;VALUE=DATE:20230205
DTEND;VALUE=DATE:20230206
DTSTAMP:20260426T043208
CREATED:20220901T181305Z
LAST-MODIFIED:20220901T182013Z
UID:5828-1675555200-1675641599@stchristina.org
SUMMARY:Second Scrutiny\, 10:30am Mass
DESCRIPTION:
URL:https://stchristina.org/event/second-scrutiny-4pm-mass/
END:VEVENT
BEGIN:VEVENT
DTSTART;VALUE=DATE:20230202
DTEND;VALUE=DATE:20230203
DTSTAMP:20260426T043208
CREATED:20220731T150622Z
LAST-MODIFIED:20220731T150649Z
UID:5576-1675296000-1675382399@stchristina.org
SUMMARY:Hot Lunch\, Hot Dog Day
DESCRIPTION:
URL:https://stchristina.org/event/hot-lunch-hot-dog-day-4/
END:VEVENT
BEGIN:VEVENT
DTSTART;VALUE=DATE:20230201
DTEND;VALUE=DATE:20230202
DTSTAMP:20260426T043208
CREATED:20220731T150413Z
LAST-MODIFIED:20220731T150413Z
UID:5568-1675209600-1675295999@stchristina.org
SUMMARY:Mass 8:10am
DESCRIPTION:
URL:https://stchristina.org/event/mass-810am-7/
END:VEVENT
BEGIN:VEVENT
DTSTART;VALUE=DATE:20230130
DTEND;VALUE=DATE:20230204
DTSTAMP:20260426T043208
CREATED:20220727T211435Z
LAST-MODIFIED:20220727T211441Z
UID:5557-1675036800-1675468799@stchristina.org
SUMMARY:Catholic Schools Week
DESCRIPTION:
URL:https://stchristina.org/event/catholic-schools-week-3/
END:VEVENT
BEGIN:VEVENT
DTSTART;VALUE=DATE:20230129
DTEND;VALUE=DATE:20230204
DTSTAMP:20260426T043208
CREATED:20220727T211534Z
LAST-MODIFIED:20220731T150249Z
UID:5559-1674950400-1675468799@stchristina.org
SUMMARY:Registration for New Families (23/24 school year)
DESCRIPTION:
URL:https://stchristina.org/event/registration-for-new-families/
END:VEVENT
BEGIN:VEVENT
DTSTART;VALUE=DATE:20230129
DTEND;VALUE=DATE:20230130
DTSTAMP:20260426T043208
CREATED:20220727T211303Z
LAST-MODIFIED:20220727T211308Z
UID:5555-1674950400-1675036799@stchristina.org
SUMMARY:Catholic Schools Week Begins!
DESCRIPTION:
URL:https://stchristina.org/event/catholic-schools-week-begins-2/
END:VEVENT
BEGIN:VEVENT
DTSTART;VALUE=DATE:20230128
DTEND;VALUE=DATE:20230129
DTSTAMP:20260426T043208
CREATED:20220901T181211Z
LAST-MODIFIED:20220901T181211Z
UID:5826-1674864000-1674950399@stchristina.org
SUMMARY:First Scrutiny\, 4pm Mass
DESCRIPTION:
URL:https://stchristina.org/event/first-scrutiny-4pm-mass/
END:VEVENT
BEGIN:VEVENT
DTSTART;VALUE=DATE:20230126
DTEND;VALUE=DATE:20230127
DTSTAMP:20260426T043208
CREATED:20220727T205327Z
LAST-MODIFIED:20220727T205421Z
UID:5536-1674691200-1674777599@stchristina.org
SUMMARY:Hot Lunch\, Pizza Day
DESCRIPTION:
URL:https://stchristina.org/event/hot-lunch-pizza-day-2/
END:VEVENT
BEGIN:VEVENT
DTSTART;VALUE=DATE:20230125
DTEND;VALUE=DATE:20230126
DTSTAMP:20260426T043208
CREATED:20220727T205757Z
LAST-MODIFIED:20220727T205757Z
UID:5542-1674604800-1674691199@stchristina.org
SUMMARY:Mass 8:10am
DESCRIPTION:
URL:https://stchristina.org/event/mass-810am-6-4/
END:VEVENT
BEGIN:VEVENT
DTSTART;VALUE=DATE:20230124
DTEND;VALUE=DATE:20230125
DTSTAMP:20260426T043208
CREATED:20220928T192000Z
LAST-MODIFIED:20220928T192000Z
UID:5877-1674518400-1674604799@stchristina.org
SUMMARY:Retreat and banner pick-up for communicant and parent (last names M-Z)\, 6pm
DESCRIPTION:
URL:https://stchristina.org/event/retreat-and-banner-pick-up-for-communicant-and-parent-last-names-m-z-6pm/
END:VEVENT
BEGIN:VEVENT
DTSTART;VALUE=DATE:20230123
DTEND;VALUE=DATE:20230128
DTSTAMP:20260426T043208
CREATED:20220727T205947Z
LAST-MODIFIED:20230117T143137Z
UID:5548-1674432000-1674863999@stchristina.org
SUMMARY:Registration for School Families (23/24 school year)
DESCRIPTION:
URL:https://stchristina.org/event/martin-luther-king-jr-day-no-school/
END:VEVENT
BEGIN:VEVENT
DTSTART;VALUE=DATE:20230123
DTEND;VALUE=DATE:20230124
DTSTAMP:20260426T043208
CREATED:20220928T191904Z
LAST-MODIFIED:20220928T191904Z
UID:5875-1674432000-1674518399@stchristina.org
SUMMARY:Retreat and banner pick-up for communicant and parent (last names A-L)\, 6pm
DESCRIPTION:
URL:https://stchristina.org/event/retreat-and-banner-pick-up-for-communicant-and-parent-last-names-a-l-6pm/
END:VEVENT
BEGIN:VEVENT
DTSTART;VALUE=DATE:20230119
DTEND;VALUE=DATE:20230120
DTSTAMP:20260426T043208
CREATED:20220727T205538Z
LAST-MODIFIED:20220727T205543Z
UID:5538-1674086400-1674172799@stchristina.org
SUMMARY:Dress Down Day
DESCRIPTION:
URL:https://stchristina.org/event/dress-down-day-28/
END:VEVENT
BEGIN:VEVENT
DTSTART;VALUE=DATE:20230119
DTEND;VALUE=DATE:20230120
DTSTAMP:20260426T043208
CREATED:20220727T205132Z
LAST-MODIFIED:20220727T205139Z
UID:5529-1674086400-1674172799@stchristina.org
SUMMARY:Hot Lunch\, Calabria Day
DESCRIPTION:
URL:https://stchristina.org/event/hot-lunch-calabria-day-2-2/
END:VEVENT
BEGIN:VEVENT
DTSTART;VALUE=DATE:20230118
DTEND;VALUE=DATE:20230119
DTSTAMP:20260426T043208
CREATED:20220727T205734Z
LAST-MODIFIED:20220727T205734Z
UID:5541-1674000000-1674086399@stchristina.org
SUMMARY:Mass 8:10am
DESCRIPTION:
URL:https://stchristina.org/event/mass-810am-6-3/
END:VEVENT
BEGIN:VEVENT
DTSTART;VALUE=DATE:20230116
DTEND;VALUE=DATE:20230117
DTSTAMP:20260426T043208
CREATED:20220727T210323Z
LAST-MODIFIED:20220727T210329Z
UID:5551-1673827200-1673913599@stchristina.org
SUMMARY:Martin Luther King Jr. Day\, No School
DESCRIPTION:
URL:https://stchristina.org/event/martin-luther-king-jr-day-no-school-2/
END:VEVENT
BEGIN:VEVENT
DTSTART;VALUE=DATE:20230112
DTEND;VALUE=DATE:20230113
DTSTAMP:20260426T043208
CREATED:20220727T205200Z
LAST-MODIFIED:20220727T205203Z
UID:5531-1673481600-1673567999@stchristina.org
SUMMARY:Hot Lunch\, Burger Day
DESCRIPTION:
URL:https://stchristina.org/event/hot-lunch-burger-day-2-2-2/
END:VEVENT
BEGIN:VEVENT
DTSTART;VALUE=DATE:20230111
DTEND;VALUE=DATE:20230112
DTSTAMP:20260426T043208
CREATED:20220727T205710Z
LAST-MODIFIED:20220727T205715Z
UID:5540-1673395200-1673481599@stchristina.org
SUMMARY:Mass 8:10am
DESCRIPTION:
URL:https://stchristina.org/event/mass-810am-6-2/
END:VEVENT
BEGIN:VEVENT
DTSTART;VALUE=DATE:20230110
DTEND;VALUE=DATE:20230111
DTSTAMP:20260426T043208
CREATED:20220928T191737Z
LAST-MODIFIED:20220928T191759Z
UID:5872-1673308800-1673395199@stchristina.org
SUMMARY:Second Informative Meeting for parents of communicants regarding retreat\, 6pm church
DESCRIPTION:
URL:https://stchristina.org/event/second-informative-meeting-for-parents-regarding-retreat-6pm-church/
END:VEVENT
BEGIN:VEVENT
DTSTART;VALUE=DATE:20230109
DTEND;VALUE=DATE:20230110
DTSTAMP:20260426T043208
CREATED:20220901T181128Z
LAST-MODIFIED:20220901T181128Z
UID:5824-1673222400-1673308799@stchristina.org
SUMMARY:Confirmation Candidates Outreach Programs completed
DESCRIPTION:
URL:https://stchristina.org/event/confirmation-candidates-outreach-programs-completed/
END:VEVENT
BEGIN:VEVENT
DTSTART;VALUE=DATE:20230105
DTEND;VALUE=DATE:20230106
DTSTAMP:20260426T043208
CREATED:20220727T205255Z
LAST-MODIFIED:20220727T205301Z
UID:5534-1672876800-1672963199@stchristina.org
SUMMARY:Hot Lunch\, Hot Dog Day
DESCRIPTION:
URL:https://stchristina.org/event/hot-lunch-hot-dog-day-3/
END:VEVENT
BEGIN:VEVENT
DTSTART;VALUE=DATE:20230104
DTEND;VALUE=DATE:20230105
DTSTAMP:20260426T043208
CREATED:20220727T205851Z
LAST-MODIFIED:20221216T174731Z
UID:5546-1672790400-1672876799@stchristina.org
SUMMARY:SAC Meeting\, 7pm\, School Library
DESCRIPTION:
URL:https://stchristina.org/event/sac-meeting-7pm-4/
END:VEVENT
END:VCALENDAR