BEGIN:VCALENDAR
VERSION:2.0
PRODID:-//St. Christina Catholic School - ECPv6.15.20//NONSGML v1.0//EN
CALSCALE:GREGORIAN
METHOD:PUBLISH
X-WR-CALNAME:St. Christina Catholic School
X-ORIGINAL-URL:https://stchristina.org
X-WR-CALDESC:Events for St. Christina Catholic School
REFRESH-INTERVAL;VALUE=DURATION:PT1H
X-Robots-Tag:noindex
X-PUBLISHED-TTL:PT1H
BEGIN:VTIMEZONE
TZID:UTC
BEGIN:STANDARD
TZOFFSETFROM:+0000
TZOFFSETTO:+0000
TZNAME:UTC
DTSTART:20230101T000000
END:STANDARD
END:VTIMEZONE
BEGIN:VEVENT
DTSTART;VALUE=DATE:20241027
DTEND;VALUE=DATE:20241028
DTSTAMP:20260425T140008
CREATED:20240715T185106Z
LAST-MODIFIED:20240715T185106Z
UID:7260-1729987200-1730073599@stchristina.org
SUMMARY:2nd Grade Mass\, 10:30am
DESCRIPTION:
URL:https://stchristina.org/event/2nd-grade-mass-1030am/
END:VEVENT
BEGIN:VEVENT
DTSTART;VALUE=DATE:20241025
DTEND;VALUE=DATE:20241026
DTSTAMP:20260425T140008
CREATED:20240717T170614Z
LAST-MODIFIED:20240920T175608Z
UID:7654-1729814400-1729900799@stchristina.org
SUMMARY:FSA Trunk or Treat\, 5:30-7pm
DESCRIPTION:
URL:https://stchristina.org/event/fsa-trunk-or-treat-3/
END:VEVENT
BEGIN:VEVENT
DTSTART;VALUE=DATE:20241024
DTEND;VALUE=DATE:20241025
DTSTAMP:20260425T140008
CREATED:20240715T184950Z
LAST-MODIFIED:20240715T184950Z
UID:7256-1729728000-1729814399@stchristina.org
SUMMARY:Hot Lunch: Home Run Inn Pizza
DESCRIPTION:
URL:https://stchristina.org/event/hot-lunch-home-run-inn-pizza-5/
END:VEVENT
BEGIN:VEVENT
DTSTART;VALUE=DATE:20241023
DTEND;VALUE=DATE:20241024
DTSTAMP:20260425T140008
CREATED:20240715T184917Z
LAST-MODIFIED:20240715T184917Z
UID:7254-1729641600-1729727999@stchristina.org
SUMMARY:Enrichment
DESCRIPTION:
URL:https://stchristina.org/event/enrichment-32/
END:VEVENT
BEGIN:VEVENT
DTSTART;VALUE=DATE:20241023
DTEND;VALUE=DATE:20241024
DTSTAMP:20260425T140008
CREATED:20240715T184755Z
LAST-MODIFIED:20240715T184851Z
UID:7252-1729641600-1729727999@stchristina.org
SUMMARY:8:10am Mass
DESCRIPTION:
URL:https://stchristina.org/event/810am-mass-34/
END:VEVENT
BEGIN:VEVENT
DTSTART;TZID=UTC:20241022T080000
DTEND;TZID=UTC:20241024T170000
DTSTAMP:20260425T140008
CREATED:20240715T185017Z
LAST-MODIFIED:20240715T185017Z
UID:7258-1729584000-1729789200@stchristina.org
SUMMARY:Book Fair
DESCRIPTION:
URL:https://stchristina.org/event/book-fair-2/
END:VEVENT
BEGIN:VEVENT
DTSTART;VALUE=DATE:20241021
DTEND;VALUE=DATE:20241022
DTSTAMP:20260425T140008
CREATED:20240715T184728Z
LAST-MODIFIED:20240715T184728Z
UID:7250-1729468800-1729555199@stchristina.org
SUMMARY:SCAA Meeting
DESCRIPTION:
URL:https://stchristina.org/event/scaa-meeting-3/
END:VEVENT
BEGIN:VEVENT
DTSTART;VALUE=DATE:20241018
DTEND;VALUE=DATE:20241019
DTSTAMP:20260425T140008
CREATED:20241002T012227Z
LAST-MODIFIED:20241002T012234Z
UID:7790-1729209600-1729295999@stchristina.org
SUMMARY:Picture Retake Day
DESCRIPTION:
URL:https://stchristina.org/event/picture-retake-day-5/
END:VEVENT
BEGIN:VEVENT
DTSTART;VALUE=DATE:20241017
DTEND;VALUE=DATE:20241018
DTSTAMP:20260425T140008
CREATED:20240715T184631Z
LAST-MODIFIED:20240715T184702Z
UID:7247-1729123200-1729209599@stchristina.org
SUMMARY:Hot Lunch: Calabria Mostaccioli
DESCRIPTION:
URL:https://stchristina.org/event/hot-lunch-calabria-mostaccioli-9/
END:VEVENT
BEGIN:VEVENT
DTSTART;VALUE=DATE:20241016
DTEND;VALUE=DATE:20241017
DTSTAMP:20260425T140008
CREATED:20240715T184527Z
LAST-MODIFIED:20240715T184527Z
UID:7245-1729036800-1729123199@stchristina.org
SUMMARY:Enrichment
DESCRIPTION:
URL:https://stchristina.org/event/enrichment-31/
END:VEVENT
BEGIN:VEVENT
DTSTART;VALUE=DATE:20241016
DTEND;VALUE=DATE:20241017
DTSTAMP:20260425T140008
CREATED:20240715T184505Z
LAST-MODIFIED:20240715T184505Z
UID:7243-1729036800-1729123199@stchristina.org
SUMMARY:Rosary Prayer Service 8:10am
DESCRIPTION:
URL:https://stchristina.org/event/rosary-prayer-service-810am/
END:VEVENT
BEGIN:VEVENT
DTSTART;VALUE=DATE:20241014
DTEND;VALUE=DATE:20241015
DTSTAMP:20260425T140008
CREATED:20240715T184427Z
LAST-MODIFIED:20240715T184427Z
UID:7241-1728864000-1728950399@stchristina.org
SUMMARY:NO SCHOOL\, Columbus Day
DESCRIPTION:
URL:https://stchristina.org/event/no-school-columbus-day-2/
END:VEVENT
BEGIN:VEVENT
DTSTART;VALUE=DATE:20241012
DTEND;VALUE=DATE:20241013
DTSTAMP:20260425T140008
CREATED:20240717T170550Z
LAST-MODIFIED:20240717T170550Z
UID:7652-1728691200-1728777599@stchristina.org
SUMMARY:FSA Oktoberfest
DESCRIPTION:
URL:https://stchristina.org/event/fsa-oktoberfest-4/
END:VEVENT
BEGIN:VEVENT
DTSTART;VALUE=DATE:20241011
DTEND;VALUE=DATE:20241012
DTSTAMP:20260425T140008
CREATED:20240715T184357Z
LAST-MODIFIED:20240715T184357Z
UID:7239-1728604800-1728691199@stchristina.org
SUMMARY:NO SCHOOL
DESCRIPTION:
URL:https://stchristina.org/event/no-school-14/
END:VEVENT
BEGIN:VEVENT
DTSTART;VALUE=DATE:20241010
DTEND;VALUE=DATE:20241011
DTSTAMP:20260425T140008
CREATED:20240715T184323Z
LAST-MODIFIED:20240715T184323Z
UID:7237-1728518400-1728604799@stchristina.org
SUMMARY:No Extended Care
DESCRIPTION:
URL:https://stchristina.org/event/no-extended-care-17/
END:VEVENT
BEGIN:VEVENT
DTSTART;VALUE=DATE:20241010
DTEND;VALUE=DATE:20241011
DTSTAMP:20260425T140008
CREATED:20240715T184151Z
LAST-MODIFIED:20240715T184151Z
UID:7235-1728518400-1728604799@stchristina.org
SUMMARY:No Hot Lunch
DESCRIPTION:
URL:https://stchristina.org/event/no-hot-lunch-9/
END:VEVENT
BEGIN:VEVENT
DTSTART;VALUE=DATE:20241010
DTEND;VALUE=DATE:20241011
DTSTAMP:20260425T140008
CREATED:20240715T183937Z
LAST-MODIFIED:20240715T183937Z
UID:7233-1728518400-1728604799@stchristina.org
SUMMARY:11:30am Dismissal for Parent/Teacher Conferences 12pm - 7pm
DESCRIPTION:
URL:https://stchristina.org/event/1130am-dismissal-for-parent-teacher-conferences-12pm-7pm/
END:VEVENT
BEGIN:VEVENT
DTSTART;VALUE=DATE:20241009
DTEND;VALUE=DATE:20241010
DTSTAMP:20260425T140008
CREATED:20240715T183852Z
LAST-MODIFIED:20240715T183852Z
UID:7231-1728432000-1728518399@stchristina.org
SUMMARY:Enrichment
DESCRIPTION:
URL:https://stchristina.org/event/enrichment-12/
END:VEVENT
BEGIN:VEVENT
DTSTART;VALUE=DATE:20241009
DTEND;VALUE=DATE:20241010
DTSTAMP:20260425T140008
CREATED:20240715T183833Z
LAST-MODIFIED:20240715T183833Z
UID:7229-1728432000-1728518399@stchristina.org
SUMMARY:8:10am Mass
DESCRIPTION:
URL:https://stchristina.org/event/810am-mass-33/
END:VEVENT
BEGIN:VEVENT
DTSTART;VALUE=DATE:20241008
DTEND;VALUE=DATE:20241009
DTSTAMP:20260425T140008
CREATED:20240715T183559Z
LAST-MODIFIED:20240904T030202Z
UID:7219-1728345600-1728431999@stchristina.org
SUMMARY:SAC Meeting
DESCRIPTION:
URL:https://stchristina.org/event/sac-meeting-3/
END:VEVENT
BEGIN:VEVENT
DTSTART;VALUE=DATE:20241003
DTEND;VALUE=DATE:20241004
DTSTAMP:20260425T140008
CREATED:20240715T183810Z
LAST-MODIFIED:20240715T183810Z
UID:7227-1727913600-1727999999@stchristina.org
SUMMARY:1:45pm Dismissal\, Faculty PD
DESCRIPTION:
URL:https://stchristina.org/event/145pm-dismissal-faculty-pd-2/
END:VEVENT
BEGIN:VEVENT
DTSTART;VALUE=DATE:20241003
DTEND;VALUE=DATE:20241004
DTSTAMP:20260425T140008
CREATED:20240715T183744Z
LAST-MODIFIED:20240715T183744Z
UID:7225-1727913600-1727999999@stchristina.org
SUMMARY:Hot Lunch: Calabria Nuggets/Chips
DESCRIPTION:
URL:https://stchristina.org/event/hot-lunch-calabria-nuggets-chips/
END:VEVENT
BEGIN:VEVENT
DTSTART;VALUE=DATE:20241002
DTEND;VALUE=DATE:20241003
DTSTAMP:20260425T140008
CREATED:20240920T170910Z
LAST-MODIFIED:20240920T175353Z
UID:7786-1727827200-1727913599@stchristina.org
SUMMARY:Boys Basketball Registration\, 5:30-7:30 Parish Center
DESCRIPTION:
URL:https://stchristina.org/event/boys-basketball-registration-530-730-parish-center-2/
END:VEVENT
BEGIN:VEVENT
DTSTART;VALUE=DATE:20241002
DTEND;VALUE=DATE:20241003
DTSTAMP:20260425T140008
CREATED:20240920T170720Z
LAST-MODIFIED:20240920T170720Z
UID:7782-1727827200-1727913599@stchristina.org
SUMMARY:Girls Volleyball Registration\, 5:30-7:30 Parish Center
DESCRIPTION:
URL:https://stchristina.org/event/girls-volleyball-registration-530-730-parish-center-2/
END:VEVENT
BEGIN:VEVENT
DTSTART;VALUE=DATE:20241002
DTEND;VALUE=DATE:20241003
DTSTAMP:20260425T140008
CREATED:20240715T183653Z
LAST-MODIFIED:20240715T183653Z
UID:7223-1727827200-1727913599@stchristina.org
SUMMARY:Enrichment Begins
DESCRIPTION:
URL:https://stchristina.org/event/enrichment-begins/
END:VEVENT
BEGIN:VEVENT
DTSTART;VALUE=DATE:20241002
DTEND;VALUE=DATE:20241003
DTSTAMP:20260425T140008
CREATED:20240715T183630Z
LAST-MODIFIED:20240715T183630Z
UID:7221-1727827200-1727913599@stchristina.org
SUMMARY:8:10am Mass (planned by 5th Grade)
DESCRIPTION:
URL:https://stchristina.org/event/810am-mass-planned-by-5th-grade-2/
END:VEVENT
BEGIN:VEVENT
DTSTART;VALUE=DATE:20241001
DTEND;VALUE=DATE:20241002
DTSTAMP:20260425T140008
CREATED:20240920T170840Z
LAST-MODIFIED:20240920T170840Z
UID:7784-1727740800-1727827199@stchristina.org
SUMMARY:Boys Basketball Registration\, 5:30-7:30 Parish Center
DESCRIPTION:
URL:https://stchristina.org/event/boys-basketball-registration-530-730-parish-center/
END:VEVENT
BEGIN:VEVENT
DTSTART;VALUE=DATE:20241001
DTEND;VALUE=DATE:20241002
DTSTAMP:20260425T140008
CREATED:20240715T183504Z
LAST-MODIFIED:20240718T002043Z
UID:7217-1727740800-1727827199@stchristina.org
SUMMARY:Reconciliation and Communion Meeting for Communicants and Parents\, 6pm
DESCRIPTION:
URL:https://stchristina.org/event/reconciliation-and-communion-meeting-for-communicants-and-parents/
END:VEVENT
BEGIN:VEVENT
DTSTART;VALUE=DATE:20240930
DTEND;VALUE=DATE:20241001
DTSTAMP:20260425T140008
CREATED:20240920T170703Z
LAST-MODIFIED:20240920T170703Z
UID:7780-1727654400-1727740799@stchristina.org
SUMMARY:Girls Volleyball Registration\, 5:30-7:30 Parish Center
DESCRIPTION:
URL:https://stchristina.org/event/girls-volleyball-registration-530-730-parish-center/
END:VEVENT
BEGIN:VEVENT
DTSTART;VALUE=DATE:20240929
DTEND;VALUE=DATE:20240930
DTSTAMP:20260425T140008
CREATED:20240828T234334Z
LAST-MODIFIED:20240828T234334Z
UID:7723-1727568000-1727654399@stchristina.org
SUMMARY:Special First Responder Mass with Elizabeth French\, 10:30am
DESCRIPTION:
URL:https://stchristina.org/event/special-first-responder-mass-with-elizabeth-french-1030am/
END:VEVENT
END:VCALENDAR