BEGIN:VCALENDAR
VERSION:2.0
PRODID:-//St. Christina Catholic School - ECPv6.15.20//NONSGML v1.0//EN
CALSCALE:GREGORIAN
METHOD:PUBLISH
X-ORIGINAL-URL:https://stchristina.org
X-WR-CALDESC:Events for St. Christina Catholic School
REFRESH-INTERVAL;VALUE=DURATION:PT1H
X-Robots-Tag:noindex
X-PUBLISHED-TTL:PT1H
BEGIN:VTIMEZONE
TZID:UTC
BEGIN:STANDARD
TZOFFSETFROM:+0000
TZOFFSETTO:+0000
TZNAME:UTC
DTSTART:20240101T000000
END:STANDARD
END:VTIMEZONE
BEGIN:VEVENT
DTSTART;VALUE=DATE:20250410
DTEND;VALUE=DATE:20250411
DTSTAMP:20260424T162111
CREATED:20240717T120815Z
LAST-MODIFIED:20240717T120815Z
UID:7531-1744243200-1744329599@stchristina.org
SUMMARY:Hot Lunch: Barraco's Burger / Breadsticks
DESCRIPTION:
URL:https://stchristina.org/event/hot-lunch-barracos-burger-breadsticks-10/
END:VEVENT
BEGIN:VEVENT
DTSTART;VALUE=DATE:20250411
DTEND;VALUE=DATE:20250412
DTSTAMP:20260424T162111
CREATED:20240717T120840Z
LAST-MODIFIED:20240717T120840Z
UID:7533-1744329600-1744415999@stchristina.org
SUMMARY:Stations of the Cross
DESCRIPTION:
URL:https://stchristina.org/event/stations-of-the-cross-6/
END:VEVENT
BEGIN:VEVENT
DTSTART;VALUE=DATE:20250413
DTEND;VALUE=DATE:20250414
DTSTAMP:20260424T162111
CREATED:20240717T120906Z
LAST-MODIFIED:20240717T120906Z
UID:7535-1744502400-1744588799@stchristina.org
SUMMARY:Palm Sunday
DESCRIPTION:
URL:https://stchristina.org/event/palm-sunday/
END:VEVENT
BEGIN:VEVENT
DTSTART;VALUE=DATE:20250414
DTEND;VALUE=DATE:20250415
DTSTAMP:20260424T162111
CREATED:20240717T120939Z
LAST-MODIFIED:20240717T120939Z
UID:7537-1744588800-1744675199@stchristina.org
SUMMARY:Rice Bowls Due
DESCRIPTION:
URL:https://stchristina.org/event/rice-bowls-due/
END:VEVENT
BEGIN:VEVENT
DTSTART;VALUE=DATE:20250416
DTEND;VALUE=DATE:20250417
DTSTAMP:20260424T162111
CREATED:20240717T121002Z
LAST-MODIFIED:20240717T121002Z
UID:7539-1744761600-1744847999@stchristina.org
SUMMARY:Enrichment
DESCRIPTION:
URL:https://stchristina.org/event/enrichment-52/
END:VEVENT
BEGIN:VEVENT
DTSTART;VALUE=DATE:20250417
DTEND;VALUE=DATE:20250418
DTSTAMP:20260424T162111
CREATED:20240717T121033Z
LAST-MODIFIED:20240717T121033Z
UID:7541-1744848000-1744934399@stchristina.org
SUMMARY:Holy Thursday Prayer Service
DESCRIPTION:
URL:https://stchristina.org/event/holy-thursday-prayer-service/
END:VEVENT
BEGIN:VEVENT
DTSTART;VALUE=DATE:20250417
DTEND;VALUE=DATE:20250418
DTSTAMP:20260424T162111
CREATED:20240717T121059Z
LAST-MODIFIED:20240717T121059Z
UID:7543-1744848000-1744934399@stchristina.org
SUMMARY:11:30am Dismissal
DESCRIPTION:
URL:https://stchristina.org/event/1130am-dismissal-2/
END:VEVENT
BEGIN:VEVENT
DTSTART;VALUE=DATE:20250417
DTEND;VALUE=DATE:20250418
DTSTAMP:20260424T162111
CREATED:20240717T121118Z
LAST-MODIFIED:20240717T121118Z
UID:7545-1744848000-1744934399@stchristina.org
SUMMARY:No Extended Care
DESCRIPTION:
URL:https://stchristina.org/event/no-extended-care-20/
END:VEVENT
BEGIN:VEVENT
DTSTART;VALUE=DATE:20250418
DTEND;VALUE=DATE:20250419
DTSTAMP:20260424T162111
CREATED:20240717T121213Z
LAST-MODIFIED:20240717T121213Z
UID:7547-1744934400-1745020799@stchristina.org
SUMMARY:Easter Break Begins
DESCRIPTION:
URL:https://stchristina.org/event/easter-break-begins-3/
END:VEVENT
BEGIN:VEVENT
DTSTART;VALUE=DATE:20250420
DTEND;VALUE=DATE:20250421
DTSTAMP:20260424T162111
CREATED:20240717T121232Z
LAST-MODIFIED:20240717T121232Z
UID:7549-1745107200-1745193599@stchristina.org
SUMMARY:Easter Sunday
DESCRIPTION:
URL:https://stchristina.org/event/easter-sunday-2/
END:VEVENT
BEGIN:VEVENT
DTSTART;TZID=UTC:20250420T080000
DTEND;TZID=UTC:20250425T170000
DTSTAMP:20260424T162111
CREATED:20240717T121419Z
LAST-MODIFIED:20240717T121419Z
UID:7553-1745136000-1745600400@stchristina.org
SUMMARY:Easter Break
DESCRIPTION:
URL:https://stchristina.org/event/easter-break-6/
END:VEVENT
BEGIN:VEVENT
DTSTART;VALUE=DATE:20250428
DTEND;VALUE=DATE:20250429
DTSTAMP:20260424T162111
CREATED:20240717T121255Z
LAST-MODIFIED:20250331T140816Z
UID:7551-1745798400-1745884799@stchristina.org
SUMMARY:SCAA Meeting
DESCRIPTION:
URL:https://stchristina.org/event/scaa-meeting-9/
END:VEVENT
BEGIN:VEVENT
DTSTART;VALUE=DATE:20250428
DTEND;VALUE=DATE:20250429
DTSTAMP:20260424T162111
CREATED:20240717T121443Z
LAST-MODIFIED:20240717T121443Z
UID:7555-1745798400-1745884799@stchristina.org
SUMMARY:Classes Resume
DESCRIPTION:
URL:https://stchristina.org/event/classes-resume-13/
END:VEVENT
BEGIN:VEVENT
DTSTART;VALUE=DATE:20250430
DTEND;VALUE=DATE:20250501
DTSTAMP:20260424T162111
CREATED:20240717T121507Z
LAST-MODIFIED:20240717T121507Z
UID:7557-1745971200-1746057599@stchristina.org
SUMMARY:8:10am Mass
DESCRIPTION:
URL:https://stchristina.org/event/810am-mass-45/
END:VEVENT
BEGIN:VEVENT
DTSTART;VALUE=DATE:20250501
DTEND;VALUE=DATE:20250502
DTSTAMP:20260424T162111
CREATED:20240717T161535Z
LAST-MODIFIED:20240717T161535Z
UID:7590-1746057600-1746143999@stchristina.org
SUMMARY:Hot Lunch: Calabria Nuggets/Chips
DESCRIPTION:
URL:https://stchristina.org/event/hot-lunch-calabria-nuggets-chips-6/
END:VEVENT
BEGIN:VEVENT
DTSTART;VALUE=DATE:20250501
DTEND;VALUE=DATE:20250502
DTSTAMP:20260424T162111
CREATED:20240717T161603Z
LAST-MODIFIED:20240717T161603Z
UID:7592-1746057600-1746143999@stchristina.org
SUMMARY:1:45 Dismissal\, Faculty PD
DESCRIPTION:
URL:https://stchristina.org/event/145-dismissal-faculty-pd-2/
END:VEVENT
BEGIN:VEVENT
DTSTART;VALUE=DATE:20250501
DTEND;VALUE=DATE:20250502
DTSTAMP:20260424T162111
CREATED:20240717T161653Z
LAST-MODIFIED:20240717T161653Z
UID:7594-1746057600-1746143999@stchristina.org
SUMMARY:Confirmation Meeting for 7th grade students/parents\, 6pm
DESCRIPTION:
URL:https://stchristina.org/event/confirmation-meeting-for-7th-grade-students-parents-6pm/
END:VEVENT
BEGIN:VEVENT
DTSTART;VALUE=DATE:20250502
DTEND;VALUE=DATE:20250503
DTSTAMP:20260424T162111
CREATED:20240717T161826Z
LAST-MODIFIED:20240717T161826Z
UID:7596-1746144000-1746230399@stchristina.org
SUMMARY:Grandparents/Special Friend Day
DESCRIPTION:
URL:https://stchristina.org/event/grandparents-special-friend-day/
END:VEVENT
BEGIN:VEVENT
DTSTART;VALUE=DATE:20250502
DTEND;VALUE=DATE:20250503
DTSTAMP:20260424T162111
CREATED:20240717T161849Z
LAST-MODIFIED:20240717T161849Z
UID:7598-1746144000-1746230399@stchristina.org
SUMMARY:ArtShow '25
DESCRIPTION:
URL:https://stchristina.org/event/artshow-25/
END:VEVENT
BEGIN:VEVENT
DTSTART;VALUE=DATE:20250506
DTEND;VALUE=DATE:20250507
DTSTAMP:20260424T162111
CREATED:20240717T161925Z
LAST-MODIFIED:20240717T161925Z
UID:7600-1746489600-1746575999@stchristina.org
SUMMARY:SAC Meeting
DESCRIPTION:
URL:https://stchristina.org/event/sac-meeting-11/
END:VEVENT
BEGIN:VEVENT
DTSTART;VALUE=DATE:20250507
DTEND;VALUE=DATE:20250508
DTSTAMP:20260424T162111
CREATED:20240717T163455Z
LAST-MODIFIED:20240717T163455Z
UID:7602-1746576000-1746662399@stchristina.org
SUMMARY:8:10am Ribbon Mass (planned by 8th grade)
DESCRIPTION:
URL:https://stchristina.org/event/810am-ribbon-mass-planned-by-8th-grade/
END:VEVENT
BEGIN:VEVENT
DTSTART;VALUE=DATE:20250507
DTEND;VALUE=DATE:20250508
DTSTAMP:20260424T162111
CREATED:20240717T163518Z
LAST-MODIFIED:20240717T163518Z
UID:7604-1746576000-1746662399@stchristina.org
SUMMARY:Enrichment
DESCRIPTION:
URL:https://stchristina.org/event/enrichment-54/
END:VEVENT
BEGIN:VEVENT
DTSTART;VALUE=DATE:20250508
DTEND;VALUE=DATE:20250509
DTSTAMP:20260424T162111
CREATED:20240717T163557Z
LAST-MODIFIED:20240717T163557Z
UID:7606-1746662400-1746748799@stchristina.org
SUMMARY:Hot Lunch: Barraco's Burger / Breadsticks
DESCRIPTION:
URL:https://stchristina.org/event/hot-lunch-barracos-burger-breadsticks-11/
END:VEVENT
BEGIN:VEVENT
DTSTART;VALUE=DATE:20250508
DTEND;VALUE=DATE:20250509
DTSTAMP:20260424T162111
CREATED:20240724T021652Z
LAST-MODIFIED:20240724T021652Z
UID:7694-1746662400-1746748799@stchristina.org
SUMMARY:Communion Rehearsal
DESCRIPTION:
URL:https://stchristina.org/event/communion-rehearsal-2/
END:VEVENT
BEGIN:VEVENT
DTSTART;VALUE=DATE:20250510
DTEND;VALUE=DATE:20250511
DTSTAMP:20260424T162111
CREATED:20240724T021614Z
LAST-MODIFIED:20240724T021614Z
UID:7692-1746835200-1746921599@stchristina.org
SUMMARY:First Holy Communion
DESCRIPTION:
URL:https://stchristina.org/event/first-holy-communion-4/
END:VEVENT
BEGIN:VEVENT
DTSTART;VALUE=DATE:20250511
DTEND;VALUE=DATE:20250512
DTSTAMP:20260424T162111
CREATED:20240717T163620Z
LAST-MODIFIED:20240717T163620Z
UID:7608-1746921600-1747007999@stchristina.org
SUMMARY:Mother's Day
DESCRIPTION:
URL:https://stchristina.org/event/mothers-day/
END:VEVENT
BEGIN:VEVENT
DTSTART;TZID=UTC:20250512T080000
DTEND;TZID=UTC:20250516T170000
DTSTAMP:20260424T162111
CREATED:20240717T163916Z
LAST-MODIFIED:20240717T163916Z
UID:7616-1747036800-1747414800@stchristina.org
SUMMARY:i-Ready Testing
DESCRIPTION:
URL:https://stchristina.org/event/i-ready-testing/
END:VEVENT
BEGIN:VEVENT
DTSTART;VALUE=DATE:20250514
DTEND;VALUE=DATE:20250515
DTSTAMP:20260424T162111
CREATED:20240717T163738Z
LAST-MODIFIED:20240717T163738Z
UID:7610-1747180800-1747267199@stchristina.org
SUMMARY:May Crowning Prayer Service\, 8:10am
DESCRIPTION:
URL:https://stchristina.org/event/may-crowning-prayer-service-810am/
END:VEVENT
BEGIN:VEVENT
DTSTART;VALUE=DATE:20250514
DTEND;VALUE=DATE:20250515
DTSTAMP:20260424T162111
CREATED:20240717T163758Z
LAST-MODIFIED:20240717T163758Z
UID:7612-1747180800-1747267199@stchristina.org
SUMMARY:Enrichment
DESCRIPTION:
URL:https://stchristina.org/event/enrichment-55/
END:VEVENT
BEGIN:VEVENT
DTSTART;VALUE=DATE:20250515
DTEND;VALUE=DATE:20250516
DTSTAMP:20260424T162111
CREATED:20240717T163832Z
LAST-MODIFIED:20240717T163832Z
UID:7614-1747267200-1747353599@stchristina.org
SUMMARY:Hot Lunch: Calabria Mostaccioli
DESCRIPTION:
URL:https://stchristina.org/event/hot-lunch-calabria-mostaccioli-15/
END:VEVENT
END:VCALENDAR