BEGIN:VCALENDAR
VERSION:2.0
PRODID:-//St. Christina Catholic School - ECPv6.15.20//NONSGML v1.0//EN
CALSCALE:GREGORIAN
METHOD:PUBLISH
X-WR-CALNAME:St. Christina Catholic School
X-ORIGINAL-URL:https://stchristina.org
X-WR-CALDESC:Events for St. Christina Catholic School
REFRESH-INTERVAL;VALUE=DURATION:PT1H
X-Robots-Tag:noindex
X-PUBLISHED-TTL:PT1H
BEGIN:VTIMEZONE
TZID:UTC
BEGIN:STANDARD
TZOFFSETFROM:+0000
TZOFFSETTO:+0000
TZNAME:UTC
DTSTART:20230101T000000
END:STANDARD
END:VTIMEZONE
BEGIN:VEVENT
DTSTART;VALUE=DATE:20240108
DTEND;VALUE=DATE:20240109
DTSTAMP:20260425T132346
CREATED:20231005T143753Z
LAST-MODIFIED:20231005T143753Z
UID:6945-1704672000-1704758399@stchristina.org
SUMMARY:Classes Resume
DESCRIPTION:
URL:https://stchristina.org/event/classes-resume-10/
END:VEVENT
BEGIN:VEVENT
DTSTART;TZID=UTC:20240108T080000
DTEND;TZID=UTC:20240112T170000
DTSTAMP:20260425T132346
CREATED:20230801T003013Z
LAST-MODIFIED:20230802T164812Z
UID:6590-1704700800-1705078800@stchristina.org
SUMMARY:2024-2025 REGISTRATION FOR CURRENT SCHOOL FAMILIES
DESCRIPTION:
URL:https://stchristina.org/event/2024-2025-registration-for-current-school-families/
END:VEVENT
BEGIN:VEVENT
DTSTART;VALUE=DATE:20240109
DTEND;VALUE=DATE:20240110
DTSTAMP:20260425T132346
CREATED:20230801T001525Z
LAST-MODIFIED:20230801T001525Z
UID:6552-1704758400-1704844799@stchristina.org
SUMMARY:SAC Mtg.\, 7pm
DESCRIPTION:
URL:https://stchristina.org/event/sac-mtg-7pm-6/
END:VEVENT
BEGIN:VEVENT
DTSTART;VALUE=DATE:20240110
DTEND;VALUE=DATE:20240111
DTSTAMP:20260425T132346
CREATED:20230801T001553Z
LAST-MODIFIED:20230801T001553Z
UID:6554-1704844800-1704931199@stchristina.org
SUMMARY:8:10am Mass
DESCRIPTION:
URL:https://stchristina.org/event/810am-mass-12/
END:VEVENT
BEGIN:VEVENT
DTSTART;VALUE=DATE:20240111
DTEND;VALUE=DATE:20240112
DTSTAMP:20260425T132346
CREATED:20230801T001641Z
LAST-MODIFIED:20230801T001641Z
UID:6556-1704931200-1705017599@stchristina.org
SUMMARY:Early Dismissal\, 1:45pm\, Teacher PD
DESCRIPTION:
URL:https://stchristina.org/event/early-dismissal-145pm-teacher-pd-3/
END:VEVENT
BEGIN:VEVENT
DTSTART;VALUE=DATE:20240111
DTEND;VALUE=DATE:20240112
DTSTAMP:20260425T132346
CREATED:20230801T001726Z
LAST-MODIFIED:20230801T001726Z
UID:6558-1704931200-1705017599@stchristina.org
SUMMARY:Hot Lunch Barraco's Burgers/Breadsticks
DESCRIPTION:
URL:https://stchristina.org/event/hot-lunch-barracos-burgers-breadsticks-2/
END:VEVENT
BEGIN:VEVENT
DTSTART;VALUE=DATE:20240113
DTEND;VALUE=DATE:20240114
DTSTAMP:20260425T132346
CREATED:20230801T001925Z
LAST-MODIFIED:20230801T001925Z
UID:6562-1705104000-1705190399@stchristina.org
SUMMARY:Second Scrutiny for Confirmation Candidates\, 4pm Mass
DESCRIPTION:
URL:https://stchristina.org/event/second-scrutiny-for-confirmation-candidates-4pm-mass/
END:VEVENT
BEGIN:VEVENT
DTSTART;VALUE=DATE:20240115
DTEND;VALUE=DATE:20240116
DTSTAMP:20260425T132346
CREATED:20230801T002004Z
LAST-MODIFIED:20230801T002004Z
UID:6564-1705276800-1705363199@stchristina.org
SUMMARY:No School\, Martin Luther King Jr. Day
DESCRIPTION:
URL:https://stchristina.org/event/no-school-martin-luther-king-jr-day/
END:VEVENT
BEGIN:VEVENT
DTSTART;VALUE=DATE:20240116
DTEND;VALUE=DATE:20240117
DTSTAMP:20260425T132346
CREATED:20230801T002039Z
LAST-MODIFIED:20230801T002039Z
UID:6566-1705363200-1705449599@stchristina.org
SUMMARY:Communion Parent Meeting
DESCRIPTION:
URL:https://stchristina.org/event/communion-parent-meeting-2/
END:VEVENT
BEGIN:VEVENT
DTSTART;TZID=UTC:20240116T080000
DTEND;TZID=UTC:20240119T170000
DTSTAMP:20260425T132346
CREATED:20230802T164838Z
LAST-MODIFIED:20230802T164838Z
UID:6851-1705392000-1705683600@stchristina.org
SUMMARY:2024-2025 REGISTRATION FOR CURRENT SCHOOL FAMILIES
DESCRIPTION:
URL:https://stchristina.org/event/2024-2025-registration-for-current-school-families-2/
END:VEVENT
BEGIN:VEVENT
DTSTART;VALUE=DATE:20240117
DTEND;VALUE=DATE:20240118
DTSTAMP:20260425T132346
CREATED:20230801T002107Z
LAST-MODIFIED:20230801T002107Z
UID:6568-1705449600-1705535999@stchristina.org
SUMMARY:8:10am Mass
DESCRIPTION:
URL:https://stchristina.org/event/810am-mass-13/
END:VEVENT
BEGIN:VEVENT
DTSTART;VALUE=DATE:20240117
DTEND;VALUE=DATE:20240118
DTSTAMP:20260425T132346
CREATED:20230801T002123Z
LAST-MODIFIED:20230801T002123Z
UID:6570-1705449600-1705535999@stchristina.org
SUMMARY:Enrichment
DESCRIPTION:
URL:https://stchristina.org/event/enrichment-13/
END:VEVENT
BEGIN:VEVENT
DTSTART;VALUE=DATE:20240118
DTEND;VALUE=DATE:20240119
DTSTAMP:20260425T132346
CREATED:20230801T002215Z
LAST-MODIFIED:20230801T002215Z
UID:6572-1705536000-1705622399@stchristina.org
SUMMARY:Hot Lunch Calabria Mostaccioli
DESCRIPTION:
URL:https://stchristina.org/event/hot-lunch-calabria-mostaccioli-4/
END:VEVENT
BEGIN:VEVENT
DTSTART;VALUE=DATE:20240118
DTEND;VALUE=DATE:20240120
DTSTAMP:20260425T132346
CREATED:20230801T002304Z
LAST-MODIFIED:20240110T201608Z
UID:6574-1705536000-1705708799@stchristina.org
SUMMARY:iReady Testing
DESCRIPTION:
URL:https://stchristina.org/event/iready-testing/
END:VEVENT
BEGIN:VEVENT
DTSTART;VALUE=DATE:20240121
DTEND;VALUE=DATE:20240122
DTSTAMP:20260425T132346
CREATED:20230801T002439Z
LAST-MODIFIED:20230801T002439Z
UID:6576-1705795200-1705881599@stchristina.org
SUMMARY:Third Scrutiny for Confirmation Candidates\, 10:30am Mass
DESCRIPTION:
URL:https://stchristina.org/event/third-scrutiny-for-confirmation-candidates-1030am-mass/
END:VEVENT
BEGIN:VEVENT
DTSTART;VALUE=DATE:20240122
DTEND;VALUE=DATE:20240123
DTSTAMP:20260425T132346
CREATED:20230801T002532Z
LAST-MODIFIED:20230801T002532Z
UID:6578-1705881600-1705967999@stchristina.org
SUMMARY:6pm Communion Retreat for the 10am Communion Group
DESCRIPTION:
URL:https://stchristina.org/event/6pm-communion-retreat-for-the-10am-communion-group/
END:VEVENT
BEGIN:VEVENT
DTSTART;VALUE=DATE:20240122
DTEND;VALUE=DATE:20240123
DTSTAMP:20260425T132346
CREATED:20230801T002556Z
LAST-MODIFIED:20230801T002556Z
UID:6580-1705881600-1705967999@stchristina.org
SUMMARY:SCAA Mtg.\, 7:30pm
DESCRIPTION:
URL:https://stchristina.org/event/scaa-mtg-730pm-6/
END:VEVENT
BEGIN:VEVENT
DTSTART;VALUE=DATE:20240122
DTEND;VALUE=DATE:20240124
DTSTAMP:20260425T132346
CREATED:20240110T201651Z
LAST-MODIFIED:20240110T201651Z
UID:7030-1705881600-1706054399@stchristina.org
SUMMARY:iReady Testing
DESCRIPTION:
URL:https://stchristina.org/event/iready-testing-2/
END:VEVENT
BEGIN:VEVENT
DTSTART;VALUE=DATE:20240123
DTEND;VALUE=DATE:20240124
DTSTAMP:20260425T132346
CREATED:20230801T002653Z
LAST-MODIFIED:20230801T002653Z
UID:6582-1705968000-1706054399@stchristina.org
SUMMARY:6pm Communion Retreat for the 1pm Communion Group
DESCRIPTION:
URL:https://stchristina.org/event/6pm-communion-retreat-for-the-1pm-communion-group/
END:VEVENT
BEGIN:VEVENT
DTSTART;VALUE=DATE:20240124
DTEND;VALUE=DATE:20240125
DTSTAMP:20260425T132346
CREATED:20230801T002719Z
LAST-MODIFIED:20230801T002719Z
UID:6584-1706054400-1706140799@stchristina.org
SUMMARY:8:10am Mass
DESCRIPTION:
URL:https://stchristina.org/event/810am-mass-14/
END:VEVENT
BEGIN:VEVENT
DTSTART;VALUE=DATE:20240124
DTEND;VALUE=DATE:20240125
DTSTAMP:20260425T132346
CREATED:20230801T002746Z
LAST-MODIFIED:20230801T002746Z
UID:6586-1706054400-1706140799@stchristina.org
SUMMARY:Enrichment
DESCRIPTION:
URL:https://stchristina.org/event/enrichment-14/
END:VEVENT
BEGIN:VEVENT
DTSTART;VALUE=DATE:20240125
DTEND;VALUE=DATE:20240126
DTSTAMP:20260425T132346
CREATED:20230801T002829Z
LAST-MODIFIED:20230801T002829Z
UID:6588-1706140800-1706227199@stchristina.org
SUMMARY:Hot Lunch Home Run Inn Pizza
DESCRIPTION:
URL:https://stchristina.org/event/hot-lunch-home-run-inn-pizza-2/
END:VEVENT
BEGIN:VEVENT
DTSTART;VALUE=DATE:20240128
DTEND;VALUE=DATE:20240129
DTSTAMP:20260425T132346
CREATED:20230801T003248Z
LAST-MODIFIED:20231214T143251Z
UID:6596-1706400000-1706486399@stchristina.org
SUMMARY:10:30am Family Mass followed by Open House
DESCRIPTION:
URL:https://stchristina.org/event/1030am-family-mass/
END:VEVENT
BEGIN:VEVENT
DTSTART;TZID=UTC:20240128T080000
DTEND;TZID=UTC:20240202T170000
DTSTAMP:20260425T132346
CREATED:20230801T003058Z
LAST-MODIFIED:20230801T003058Z
UID:6592-1706428800-1706893200@stchristina.org
SUMMARY:CATHOLIC SCHOOLS WEEK
DESCRIPTION:
URL:https://stchristina.org/event/catholic-schools-week-4/
END:VEVENT
BEGIN:VEVENT
DTSTART;TZID=UTC:20240128T080000
DTEND;TZID=UTC:20240202T170000
DTSTAMP:20260425T132346
CREATED:20230801T003139Z
LAST-MODIFIED:20230801T003139Z
UID:6594-1706428800-1706893200@stchristina.org
SUMMARY:REGISTRATION FOR NEW FAMILIES
DESCRIPTION:
URL:https://stchristina.org/event/registration-for-new-families-2/
END:VEVENT
BEGIN:VEVENT
DTSTART;VALUE=DATE:20240129
DTEND;VALUE=DATE:20240130
DTSTAMP:20260425T132346
CREATED:20230801T003329Z
LAST-MODIFIED:20230801T003329Z
UID:6598-1706486400-1706572799@stchristina.org
SUMMARY:Family/Parent Appreciation Day
DESCRIPTION:
URL:https://stchristina.org/event/family-parent-appreciation-day/
END:VEVENT
BEGIN:VEVENT
DTSTART;VALUE=DATE:20240130
DTEND;VALUE=DATE:20240131
DTSTAMP:20260425T132346
CREATED:20230801T003412Z
LAST-MODIFIED:20230801T003412Z
UID:6600-1706572800-1706659199@stchristina.org
SUMMARY:Teacher Appreciation Day
DESCRIPTION:
URL:https://stchristina.org/event/teacher-appreciation-day/
END:VEVENT
BEGIN:VEVENT
DTSTART;VALUE=DATE:20240131
DTEND;VALUE=DATE:20240201
DTSTAMP:20260425T132346
CREATED:20230801T003435Z
LAST-MODIFIED:20230801T003435Z
UID:6602-1706659200-1706745599@stchristina.org
SUMMARY:8:10am Mass
DESCRIPTION:
URL:https://stchristina.org/event/810am-mass-15/
END:VEVENT
BEGIN:VEVENT
DTSTART;VALUE=DATE:20240131
DTEND;VALUE=DATE:20240201
DTSTAMP:20260425T132346
CREATED:20230801T003457Z
LAST-MODIFIED:20230801T003457Z
UID:6604-1706659200-1706745599@stchristina.org
SUMMARY:Community Appreciation Day
DESCRIPTION:
URL:https://stchristina.org/event/community-appreciation-day/
END:VEVENT
BEGIN:VEVENT
DTSTART;VALUE=DATE:20240131
DTEND;VALUE=DATE:20240201
DTSTAMP:20260425T132346
CREATED:20230801T003526Z
LAST-MODIFIED:20230801T003526Z
UID:6606-1706659200-1706745599@stchristina.org
SUMMARY:Enrichment
DESCRIPTION:
URL:https://stchristina.org/event/enrichment-15/
END:VEVENT
END:VCALENDAR