BEGIN:VCALENDAR
VERSION:2.0
PRODID:-//St. Christina Catholic School - ECPv6.15.20//NONSGML v1.0//EN
CALSCALE:GREGORIAN
METHOD:PUBLISH
X-WR-CALNAME:St. Christina Catholic School
X-ORIGINAL-URL:https://stchristina.org
X-WR-CALDESC:Events for St. Christina Catholic School
REFRESH-INTERVAL;VALUE=DURATION:PT1H
X-Robots-Tag:noindex
X-PUBLISHED-TTL:PT1H
BEGIN:VTIMEZONE
TZID:UTC
BEGIN:STANDARD
TZOFFSETFROM:+0000
TZOFFSETTO:+0000
TZNAME:UTC
DTSTART:20220101T000000
END:STANDARD
END:VTIMEZONE
BEGIN:VEVENT
DTSTART;VALUE=DATE:20231208
DTEND;VALUE=DATE:20231209
DTSTAMP:20260425T132347
CREATED:20230801T000243Z
LAST-MODIFIED:20231120T144855Z
UID:6514-1701993600-1702079999@stchristina.org
SUMMARY:8:10am Mass Feast of the Immaculate Conception
DESCRIPTION:
URL:https://stchristina.org/event/810am-mass-feast-of-the-immaculate-conception/
END:VEVENT
BEGIN:VEVENT
DTSTART;VALUE=DATE:20231213
DTEND;VALUE=DATE:20231214
DTSTAMP:20260425T132347
CREATED:20230801T000434Z
LAST-MODIFIED:20230801T000434Z
UID:6522-1702425600-1702511999@stchristina.org
SUMMARY:8:10am Mass
DESCRIPTION:
URL:https://stchristina.org/event/810am-mass-11/
END:VEVENT
BEGIN:VEVENT
DTSTART;VALUE=DATE:20231213
DTEND;VALUE=DATE:20231214
DTSTAMP:20260425T132347
CREATED:20230801T000459Z
LAST-MODIFIED:20230801T000459Z
UID:6524-1702425600-1702511999@stchristina.org
SUMMARY:Enrichment
DESCRIPTION:
URL:https://stchristina.org/event/enrichment-10/
END:VEVENT
BEGIN:VEVENT
DTSTART;VALUE=DATE:20231214
DTEND;VALUE=DATE:20231215
DTSTAMP:20260425T132347
CREATED:20230801T000532Z
LAST-MODIFIED:20230801T000532Z
UID:6526-1702512000-1702598399@stchristina.org
SUMMARY:Hot Lunch Calabria Mostaccioli
DESCRIPTION:
URL:https://stchristina.org/event/hot-lunch-calabria-mostaccioli-3/
END:VEVENT
BEGIN:VEVENT
DTSTART;VALUE=DATE:20231214
DTEND;VALUE=DATE:20231215
DTSTAMP:20260425T132347
CREATED:20230801T000555Z
LAST-MODIFIED:20230801T000555Z
UID:6528-1702512000-1702598399@stchristina.org
SUMMARY:FSA Pizza with Santa
DESCRIPTION:
URL:https://stchristina.org/event/fsa-pizza-with-santa/
END:VEVENT
BEGIN:VEVENT
DTSTART;VALUE=DATE:20231215
DTEND;VALUE=DATE:20231216
DTSTAMP:20260425T132347
CREATED:20230801T000616Z
LAST-MODIFIED:20230802T164336Z
UID:6530-1702598400-1702684799@stchristina.org
SUMMARY:Christmas Program\, 1pm\, Church
DESCRIPTION:
URL:https://stchristina.org/event/christmas-program/
END:VEVENT
BEGIN:VEVENT
DTSTART;VALUE=DATE:20231218
DTEND;VALUE=DATE:20231219
DTSTAMP:20260425T132347
CREATED:20230801T000745Z
LAST-MODIFIED:20230801T000745Z
UID:6534-1702857600-1702943999@stchristina.org
SUMMARY:SCAA Mtg.\, 7:30pm
DESCRIPTION:
URL:https://stchristina.org/event/scaa-mtg-730pm-5/
END:VEVENT
BEGIN:VEVENT
DTSTART;TZID=UTC:20231218T080000
DTEND;TZID=UTC:20231219T170000
DTSTAMP:20260425T132347
CREATED:20230801T000720Z
LAST-MODIFIED:20231214T143726Z
UID:6532-1702886400-1703005200@stchristina.org
SUMMARY:Confession Grades 3-8
DESCRIPTION:
URL:https://stchristina.org/event/confession-grades-2-8/
END:VEVENT
BEGIN:VEVENT
DTSTART;VALUE=DATE:20231220
DTEND;VALUE=DATE:20231221
DTSTAMP:20260425T132347
CREATED:20230801T000825Z
LAST-MODIFIED:20230801T000825Z
UID:6536-1703030400-1703116799@stchristina.org
SUMMARY:Classroom Christmas Parties\, Red/Green Dress Down
DESCRIPTION:
URL:https://stchristina.org/event/classroom-christmas-parties-red-green-dress-down/
END:VEVENT
BEGIN:VEVENT
DTSTART;VALUE=DATE:20231220
DTEND;VALUE=DATE:20231221
DTSTAMP:20260425T132347
CREATED:20230801T000843Z
LAST-MODIFIED:20231211T151529Z
UID:6538-1703030400-1703116799@stchristina.org
SUMMARY:No Enrichment
DESCRIPTION:
URL:https://stchristina.org/event/enrichment-11/
END:VEVENT
BEGIN:VEVENT
DTSTART;VALUE=DATE:20231221
DTEND;VALUE=DATE:20231222
DTSTAMP:20260425T132347
CREATED:20230801T000919Z
LAST-MODIFIED:20230801T000919Z
UID:6540-1703116800-1703203199@stchristina.org
SUMMARY:8:10am Mass Planned by 6th Grade
DESCRIPTION:
URL:https://stchristina.org/event/810am-mass-planned-by-6th-grade/
END:VEVENT
BEGIN:VEVENT
DTSTART;VALUE=DATE:20231221
DTEND;VALUE=DATE:20231222
DTSTAMP:20260425T132347
CREATED:20230801T000944Z
LAST-MODIFIED:20230801T000944Z
UID:6542-1703116800-1703203199@stchristina.org
SUMMARY:11:30 Dismissal
DESCRIPTION:
URL:https://stchristina.org/event/1130-dismissal-9/
END:VEVENT
BEGIN:VEVENT
DTSTART;VALUE=DATE:20231221
DTEND;VALUE=DATE:20231222
DTSTAMP:20260425T132347
CREATED:20230801T001012Z
LAST-MODIFIED:20230801T001012Z
UID:6544-1703116800-1703203199@stchristina.org
SUMMARY:No Extended Care
DESCRIPTION:
URL:https://stchristina.org/event/no-extended-care-13/
END:VEVENT
BEGIN:VEVENT
DTSTART;TZID=UTC:20231222T080000
DTEND;TZID=UTC:20240107T170000
DTSTAMP:20260425T132347
CREATED:20230801T001100Z
LAST-MODIFIED:20231005T143709Z
UID:6546-1703232000-1704646800@stchristina.org
SUMMARY:Christmas Break
DESCRIPTION:
URL:https://stchristina.org/event/christmas-break-2/
END:VEVENT
BEGIN:VEVENT
DTSTART;VALUE=DATE:20231229
DTEND;VALUE=DATE:20231230
DTSTAMP:20260425T132347
CREATED:20230801T001135Z
LAST-MODIFIED:20230801T001135Z
UID:6548-1703808000-1703894399@stchristina.org
SUMMARY:FSA Holiday Lights Scavenger Hunt
DESCRIPTION:
URL:https://stchristina.org/event/fsa-holiday-lights-scavenger-hunt-2/
END:VEVENT
BEGIN:VEVENT
DTSTART;VALUE=DATE:20240107
DTEND;VALUE=DATE:20240108
DTSTAMP:20260425T132347
CREATED:20230801T001452Z
LAST-MODIFIED:20230801T001452Z
UID:6550-1704585600-1704671999@stchristina.org
SUMMARY:First Scrutiny for Confirmation Candidates 10:30am Mass
DESCRIPTION:
URL:https://stchristina.org/event/first-scrutiny-for-confirmation-candidates-1030am-mass/
END:VEVENT
BEGIN:VEVENT
DTSTART;VALUE=DATE:20240108
DTEND;VALUE=DATE:20240109
DTSTAMP:20260425T132347
CREATED:20231005T143753Z
LAST-MODIFIED:20231005T143753Z
UID:6945-1704672000-1704758399@stchristina.org
SUMMARY:Classes Resume
DESCRIPTION:
URL:https://stchristina.org/event/classes-resume-10/
END:VEVENT
BEGIN:VEVENT
DTSTART;TZID=UTC:20240108T080000
DTEND;TZID=UTC:20240112T170000
DTSTAMP:20260425T132347
CREATED:20230801T003013Z
LAST-MODIFIED:20230802T164812Z
UID:6590-1704700800-1705078800@stchristina.org
SUMMARY:2024-2025 REGISTRATION FOR CURRENT SCHOOL FAMILIES
DESCRIPTION:
URL:https://stchristina.org/event/2024-2025-registration-for-current-school-families/
END:VEVENT
BEGIN:VEVENT
DTSTART;VALUE=DATE:20240109
DTEND;VALUE=DATE:20240110
DTSTAMP:20260425T132347
CREATED:20230801T001525Z
LAST-MODIFIED:20230801T001525Z
UID:6552-1704758400-1704844799@stchristina.org
SUMMARY:SAC Mtg.\, 7pm
DESCRIPTION:
URL:https://stchristina.org/event/sac-mtg-7pm-6/
END:VEVENT
BEGIN:VEVENT
DTSTART;VALUE=DATE:20240110
DTEND;VALUE=DATE:20240111
DTSTAMP:20260425T132347
CREATED:20230801T001553Z
LAST-MODIFIED:20230801T001553Z
UID:6554-1704844800-1704931199@stchristina.org
SUMMARY:8:10am Mass
DESCRIPTION:
URL:https://stchristina.org/event/810am-mass-12/
END:VEVENT
BEGIN:VEVENT
DTSTART;VALUE=DATE:20240111
DTEND;VALUE=DATE:20240112
DTSTAMP:20260425T132347
CREATED:20230801T001641Z
LAST-MODIFIED:20230801T001641Z
UID:6556-1704931200-1705017599@stchristina.org
SUMMARY:Early Dismissal\, 1:45pm\, Teacher PD
DESCRIPTION:
URL:https://stchristina.org/event/early-dismissal-145pm-teacher-pd-3/
END:VEVENT
BEGIN:VEVENT
DTSTART;VALUE=DATE:20240111
DTEND;VALUE=DATE:20240112
DTSTAMP:20260425T132347
CREATED:20230801T001726Z
LAST-MODIFIED:20230801T001726Z
UID:6558-1704931200-1705017599@stchristina.org
SUMMARY:Hot Lunch Barraco's Burgers/Breadsticks
DESCRIPTION:
URL:https://stchristina.org/event/hot-lunch-barracos-burgers-breadsticks-2/
END:VEVENT
BEGIN:VEVENT
DTSTART;VALUE=DATE:20240113
DTEND;VALUE=DATE:20240114
DTSTAMP:20260425T132347
CREATED:20230801T001925Z
LAST-MODIFIED:20230801T001925Z
UID:6562-1705104000-1705190399@stchristina.org
SUMMARY:Second Scrutiny for Confirmation Candidates\, 4pm Mass
DESCRIPTION:
URL:https://stchristina.org/event/second-scrutiny-for-confirmation-candidates-4pm-mass/
END:VEVENT
BEGIN:VEVENT
DTSTART;VALUE=DATE:20240115
DTEND;VALUE=DATE:20240116
DTSTAMP:20260425T132347
CREATED:20230801T002004Z
LAST-MODIFIED:20230801T002004Z
UID:6564-1705276800-1705363199@stchristina.org
SUMMARY:No School\, Martin Luther King Jr. Day
DESCRIPTION:
URL:https://stchristina.org/event/no-school-martin-luther-king-jr-day/
END:VEVENT
BEGIN:VEVENT
DTSTART;VALUE=DATE:20240116
DTEND;VALUE=DATE:20240117
DTSTAMP:20260425T132347
CREATED:20230801T002039Z
LAST-MODIFIED:20230801T002039Z
UID:6566-1705363200-1705449599@stchristina.org
SUMMARY:Communion Parent Meeting
DESCRIPTION:
URL:https://stchristina.org/event/communion-parent-meeting-2/
END:VEVENT
BEGIN:VEVENT
DTSTART;TZID=UTC:20240116T080000
DTEND;TZID=UTC:20240119T170000
DTSTAMP:20260425T132347
CREATED:20230802T164838Z
LAST-MODIFIED:20230802T164838Z
UID:6851-1705392000-1705683600@stchristina.org
SUMMARY:2024-2025 REGISTRATION FOR CURRENT SCHOOL FAMILIES
DESCRIPTION:
URL:https://stchristina.org/event/2024-2025-registration-for-current-school-families-2/
END:VEVENT
BEGIN:VEVENT
DTSTART;VALUE=DATE:20240117
DTEND;VALUE=DATE:20240118
DTSTAMP:20260425T132347
CREATED:20230801T002107Z
LAST-MODIFIED:20230801T002107Z
UID:6568-1705449600-1705535999@stchristina.org
SUMMARY:8:10am Mass
DESCRIPTION:
URL:https://stchristina.org/event/810am-mass-13/
END:VEVENT
BEGIN:VEVENT
DTSTART;VALUE=DATE:20240117
DTEND;VALUE=DATE:20240118
DTSTAMP:20260425T132347
CREATED:20230801T002123Z
LAST-MODIFIED:20230801T002123Z
UID:6570-1705449600-1705535999@stchristina.org
SUMMARY:Enrichment
DESCRIPTION:
URL:https://stchristina.org/event/enrichment-13/
END:VEVENT
BEGIN:VEVENT
DTSTART;VALUE=DATE:20240118
DTEND;VALUE=DATE:20240119
DTSTAMP:20260425T132347
CREATED:20230801T002215Z
LAST-MODIFIED:20230801T002215Z
UID:6572-1705536000-1705622399@stchristina.org
SUMMARY:Hot Lunch Calabria Mostaccioli
DESCRIPTION:
URL:https://stchristina.org/event/hot-lunch-calabria-mostaccioli-4/
END:VEVENT
BEGIN:VEVENT
DTSTART;VALUE=DATE:20240118
DTEND;VALUE=DATE:20240120
DTSTAMP:20260425T132347
CREATED:20230801T002304Z
LAST-MODIFIED:20240110T201608Z
UID:6574-1705536000-1705708799@stchristina.org
SUMMARY:iReady Testing
DESCRIPTION:
URL:https://stchristina.org/event/iready-testing/
END:VEVENT
END:VCALENDAR