BEGIN:VCALENDAR
VERSION:2.0
PRODID:-//St. Christina Catholic School - ECPv6.15.20//NONSGML v1.0//EN
CALSCALE:GREGORIAN
METHOD:PUBLISH
X-WR-CALNAME:St. Christina Catholic School
X-ORIGINAL-URL:https://stchristina.org
X-WR-CALDESC:Events for St. Christina Catholic School
REFRESH-INTERVAL;VALUE=DURATION:PT1H
X-Robots-Tag:noindex
X-PUBLISHED-TTL:PT1H
BEGIN:VTIMEZONE
TZID:UTC
BEGIN:STANDARD
TZOFFSETFROM:+0000
TZOFFSETTO:+0000
TZNAME:UTC
DTSTART:20250101T000000
END:STANDARD
END:VTIMEZONE
BEGIN:VEVENT
DTSTART;VALUE=DATE:20260313
DTEND;VALUE=DATE:20260314
DTSTAMP:20260423T214436
CREATED:20250909T022115Z
LAST-MODIFIED:20250909T022115Z
UID:9085-1773360000-1773446399@stchristina.org
SUMMARY:Report Cards Sent Home
DESCRIPTION:
URL:https://stchristina.org/event/report-cards-sent-home-2/
END:VEVENT
BEGIN:VEVENT
DTSTART;VALUE=DATE:20260312
DTEND;VALUE=DATE:20260313
DTSTAMP:20260423T214436
CREATED:20250909T022002Z
LAST-MODIFIED:20250909T022002Z
UID:9081-1773273600-1773359999@stchristina.org
SUMMARY:Hot Lunch (Barraco’s Burger/Breadsticks)
DESCRIPTION:
URL:https://stchristina.org/event/hot-lunch-barracos-burger-breadsticks-16/
END:VEVENT
BEGIN:VEVENT
DTSTART;VALUE=DATE:20260311
DTEND;VALUE=DATE:20260312
DTSTAMP:20260423T214436
CREATED:20250909T021927Z
LAST-MODIFIED:20250909T021927Z
UID:9079-1773187200-1773273599@stchristina.org
SUMMARY:Enrichment
DESCRIPTION:
URL:https://stchristina.org/event/enrichment-73/
END:VEVENT
BEGIN:VEVENT
DTSTART;VALUE=DATE:20260311
DTEND;VALUE=DATE:20260312
DTSTAMP:20260423T214436
CREATED:20250909T021908Z
LAST-MODIFIED:20250909T021908Z
UID:9077-1773187200-1773273599@stchristina.org
SUMMARY:8:10am Mass (Planned by 1st Grade)
DESCRIPTION:
URL:https://stchristina.org/event/810am-mass-planned-by-1st-grade-3/
END:VEVENT
BEGIN:VEVENT
DTSTART;VALUE=DATE:20260306
DTEND;VALUE=DATE:20260307
DTSTAMP:20260423T214436
CREATED:20250909T021826Z
LAST-MODIFIED:20250909T021826Z
UID:9075-1772755200-1772841599@stchristina.org
SUMMARY:Trimester 2 Ends
DESCRIPTION:
URL:https://stchristina.org/event/trimester-2-ends-2/
END:VEVENT
BEGIN:VEVENT
DTSTART;VALUE=DATE:20260305
DTEND;VALUE=DATE:20260306
DTSTAMP:20260423T214436
CREATED:20250909T021803Z
LAST-MODIFIED:20250909T021803Z
UID:9073-1772668800-1772755199@stchristina.org
SUMMARY:1:45pm Dismissal (Faculty PD)
DESCRIPTION:
URL:https://stchristina.org/event/145pm-dismissal-faculty-pd-7/
END:VEVENT
BEGIN:VEVENT
DTSTART;VALUE=DATE:20260305
DTEND;VALUE=DATE:20260306
DTSTAMP:20260423T214436
CREATED:20250909T021721Z
LAST-MODIFIED:20250909T021721Z
UID:9071-1772668800-1772755199@stchristina.org
SUMMARY:Hot Lunch (Calabria Nuggets/Chips)
DESCRIPTION:
URL:https://stchristina.org/event/hot-lunch-calabria-nuggets-chips-10/
END:VEVENT
BEGIN:VEVENT
DTSTART;VALUE=DATE:20260304
DTEND;VALUE=DATE:20260305
DTSTAMP:20260423T214436
CREATED:20250909T021552Z
LAST-MODIFIED:20250909T021552Z
UID:9069-1772582400-1772668799@stchristina.org
SUMMARY:Enrichment
DESCRIPTION:
URL:https://stchristina.org/event/enrichment-72/
END:VEVENT
BEGIN:VEVENT
DTSTART;VALUE=DATE:20260304
DTEND;VALUE=DATE:20260305
DTSTAMP:20260423T214436
CREATED:20250909T021530Z
LAST-MODIFIED:20250909T021530Z
UID:9067-1772582400-1772668799@stchristina.org
SUMMARY:8:10am Mass
DESCRIPTION:
URL:https://stchristina.org/event/810am-mass-59/
END:VEVENT
BEGIN:VEVENT
DTSTART;VALUE=DATE:20260303
DTEND;VALUE=DATE:20260304
DTSTAMP:20260423T214436
CREATED:20250909T021349Z
LAST-MODIFIED:20250909T021349Z
UID:9065-1772496000-1772582399@stchristina.org
SUMMARY:SAC Meeting
DESCRIPTION:
URL:https://stchristina.org/event/sac-meeting-18/
END:VEVENT
BEGIN:VEVENT
DTSTART;VALUE=DATE:20260226
DTEND;VALUE=DATE:20260227
DTSTAMP:20260423T214436
CREATED:20250909T021242Z
LAST-MODIFIED:20250909T021242Z
UID:9063-1772064000-1772150399@stchristina.org
SUMMARY:Hot Lunch (Home Run Inn Pizza)
DESCRIPTION:
URL:https://stchristina.org/event/hot-lunch-home-run-inn-pizza-11/
END:VEVENT
BEGIN:VEVENT
DTSTART;VALUE=DATE:20260225
DTEND;VALUE=DATE:20260226
DTSTAMP:20260423T214436
CREATED:20250909T020925Z
LAST-MODIFIED:20250909T020925Z
UID:9055-1771977600-1772063999@stchristina.org
SUMMARY:Enrichment
DESCRIPTION:
URL:https://stchristina.org/event/enrichment-71/
END:VEVENT
BEGIN:VEVENT
DTSTART;VALUE=DATE:20260225
DTEND;VALUE=DATE:20260226
DTSTAMP:20260423T214436
CREATED:20250909T020859Z
LAST-MODIFIED:20250909T020859Z
UID:9053-1771977600-1772063999@stchristina.org
SUMMARY:8:10am Mass
DESCRIPTION:
URL:https://stchristina.org/event/810am-mass-58/
END:VEVENT
BEGIN:VEVENT
DTSTART;VALUE=DATE:20260223
DTEND;VALUE=DATE:20260224
DTSTAMP:20260423T214436
CREATED:20250909T020556Z
LAST-MODIFIED:20250909T020556Z
UID:9047-1771804800-1771891199@stchristina.org
SUMMARY:SCAA Meeting
DESCRIPTION:
URL:https://stchristina.org/event/scaa-meeting-15/
END:VEVENT
BEGIN:VEVENT
DTSTART;VALUE=DATE:20260220
DTEND;VALUE=DATE:20260221
DTSTAMP:20260423T214436
CREATED:20250909T021141Z
LAST-MODIFIED:20250909T021141Z
UID:9061-1771545600-1771631999@stchristina.org
SUMMARY:Stations of the Cross
DESCRIPTION:
URL:https://stchristina.org/event/stations-of-the-cross-7/
END:VEVENT
BEGIN:VEVENT
DTSTART;VALUE=DATE:20260219
DTEND;VALUE=DATE:20260220
DTSTAMP:20260423T214436
CREATED:20250909T021110Z
LAST-MODIFIED:20250909T021110Z
UID:9059-1771459200-1771545599@stchristina.org
SUMMARY:8th Grade Graduation Pictures
DESCRIPTION:
URL:https://stchristina.org/event/8th-grade-graduation-pictures-4/
END:VEVENT
BEGIN:VEVENT
DTSTART;VALUE=DATE:20260219
DTEND;VALUE=DATE:20260220
DTSTAMP:20260423T214436
CREATED:20250909T021032Z
LAST-MODIFIED:20250909T021032Z
UID:9057-1771459200-1771545599@stchristina.org
SUMMARY:Hot Lunch (Calabria  Mostaccioli)
DESCRIPTION:
URL:https://stchristina.org/event/hot-lunch-calabria-mostaccioli-19/
END:VEVENT
BEGIN:VEVENT
DTSTART;VALUE=DATE:20260218
DTEND;VALUE=DATE:20260219
DTSTAMP:20260423T214436
CREATED:20250909T020708Z
LAST-MODIFIED:20250909T020708Z
UID:9051-1771372800-1771459199@stchristina.org
SUMMARY:Enrichment
DESCRIPTION:
URL:https://stchristina.org/event/enrichment-70/
END:VEVENT
BEGIN:VEVENT
DTSTART;VALUE=DATE:20260218
DTEND;VALUE=DATE:20260219
DTSTAMP:20260423T214436
CREATED:20250909T020638Z
LAST-MODIFIED:20250909T020638Z
UID:9049-1771372800-1771459199@stchristina.org
SUMMARY:8:10am Ash Wednesday Prayer Service
DESCRIPTION:
URL:https://stchristina.org/event/810am-ash-wednesday-prayer-service/
END:VEVENT
BEGIN:VEVENT
DTSTART;VALUE=DATE:20260216
DTEND;VALUE=DATE:20260217
DTSTAMP:20260423T214436
CREATED:20250909T020517Z
LAST-MODIFIED:20250909T020528Z
UID:9043-1771200000-1771286399@stchristina.org
SUMMARY:No School (President’s Day)
DESCRIPTION:
URL:https://stchristina.org/event/no-school-presidents-day-4/
END:VEVENT
BEGIN:VEVENT
DTSTART;VALUE=DATE:20260212
DTEND;VALUE=DATE:20260213
DTSTAMP:20260423T214436
CREATED:20250909T020450Z
LAST-MODIFIED:20250909T020450Z
UID:9041-1770854400-1770940799@stchristina.org
SUMMARY:Hot Lunch (Barraco’s Burger/Breadsticks)
DESCRIPTION:
URL:https://stchristina.org/event/hot-lunch-barracos-burger-breadsticks-15/
END:VEVENT
BEGIN:VEVENT
DTSTART;VALUE=DATE:20260211
DTEND;VALUE=DATE:20260212
DTSTAMP:20260423T214436
CREATED:20250909T020423Z
LAST-MODIFIED:20250909T020423Z
UID:9039-1770768000-1770854399@stchristina.org
SUMMARY:Enrichment
DESCRIPTION:
URL:https://stchristina.org/event/enrichment-69/
END:VEVENT
BEGIN:VEVENT
DTSTART;VALUE=DATE:20260211
DTEND;VALUE=DATE:20260212
DTSTAMP:20260423T214436
CREATED:20250909T020355Z
LAST-MODIFIED:20250909T020355Z
UID:9037-1770768000-1770854399@stchristina.org
SUMMARY:8:10am Mass (Planned by 2nd Grade)
DESCRIPTION:
URL:https://stchristina.org/event/810am-mass-planned-by-2nd-grade-2/
END:VEVENT
BEGIN:VEVENT
DTSTART;VALUE=DATE:20260206
DTEND;VALUE=DATE:20260207
DTSTAMP:20260423T214436
CREATED:20250909T020319Z
LAST-MODIFIED:20250909T020319Z
UID:9035-1770336000-1770422399@stchristina.org
SUMMARY:No School (Faculty PD)
DESCRIPTION:
URL:https://stchristina.org/event/no-school-faculty-pd-9/
END:VEVENT
BEGIN:VEVENT
DTSTART;VALUE=DATE:20260205
DTEND;VALUE=DATE:20260206
DTSTAMP:20260423T214436
CREATED:20250909T020251Z
LAST-MODIFIED:20250909T020251Z
UID:9033-1770249600-1770335999@stchristina.org
SUMMARY:No Extended Care
DESCRIPTION:
URL:https://stchristina.org/event/no-extended-care-26/
END:VEVENT
BEGIN:VEVENT
DTSTART;VALUE=DATE:20260205
DTEND;VALUE=DATE:20260206
DTSTAMP:20260423T214436
CREATED:20250909T020228Z
LAST-MODIFIED:20250909T020228Z
UID:9031-1770249600-1770335999@stchristina.org
SUMMARY:No Hot Lunch
DESCRIPTION:
URL:https://stchristina.org/event/no-hot-lunch-16/
END:VEVENT
BEGIN:VEVENT
DTSTART;VALUE=DATE:20260205
DTEND;VALUE=DATE:20260206
DTSTAMP:20260423T214436
CREATED:20250909T020209Z
LAST-MODIFIED:20250909T020209Z
UID:9029-1770249600-1770335999@stchristina.org
SUMMARY:Optional P/T Conferences (12pm - 3pm)
DESCRIPTION:
URL:https://stchristina.org/event/optional-p-t-conferences-12pm-3pm/
END:VEVENT
BEGIN:VEVENT
DTSTART;VALUE=DATE:20260205
DTEND;VALUE=DATE:20260206
DTSTAMP:20260423T214436
CREATED:20250909T020112Z
LAST-MODIFIED:20250909T020112Z
UID:9027-1770249600-1770335999@stchristina.org
SUMMARY:11:30am Dismissal
DESCRIPTION:
URL:https://stchristina.org/event/1130am-dismissal-4/
END:VEVENT
BEGIN:VEVENT
DTSTART;VALUE=DATE:20260204
DTEND;VALUE=DATE:20260205
DTSTAMP:20260423T214436
CREATED:20250909T020017Z
LAST-MODIFIED:20250909T020017Z
UID:9025-1770163200-1770249599@stchristina.org
SUMMARY:Enrichment
DESCRIPTION:
URL:https://stchristina.org/event/enrichment-68/
END:VEVENT
BEGIN:VEVENT
DTSTART;VALUE=DATE:20260204
DTEND;VALUE=DATE:20260205
DTSTAMP:20260423T214436
CREATED:20250909T015957Z
LAST-MODIFIED:20250909T015957Z
UID:9023-1770163200-1770249599@stchristina.org
SUMMARY:8:10am Mass
DESCRIPTION:
URL:https://stchristina.org/event/810am-mass-57/
END:VEVENT
END:VCALENDAR