BEGIN:VCALENDAR
VERSION:2.0
PRODID:-//St. Christina Catholic School - ECPv6.15.20//NONSGML v1.0//EN
CALSCALE:GREGORIAN
METHOD:PUBLISH
X-WR-CALNAME:St. Christina Catholic School
X-ORIGINAL-URL:https://stchristina.org
X-WR-CALDESC:Events for St. Christina Catholic School
REFRESH-INTERVAL;VALUE=DURATION:PT1H
X-Robots-Tag:noindex
X-PUBLISHED-TTL:PT1H
BEGIN:VTIMEZONE
TZID:UTC
BEGIN:STANDARD
TZOFFSETFROM:+0000
TZOFFSETTO:+0000
TZNAME:UTC
DTSTART:20210101T000000
END:STANDARD
END:VTIMEZONE
BEGIN:VEVENT
DTSTART;VALUE=DATE:20221116
DTEND;VALUE=DATE:20221117
DTSTAMP:20260426T043108
CREATED:20220727T200714Z
LAST-MODIFIED:20220727T200717Z
UID:5456-1668556800-1668643199@stchristina.org
SUMMARY:Mass 8:10am
DESCRIPTION:
URL:https://stchristina.org/event/mass-810am-5-5-4/
END:VEVENT
BEGIN:VEVENT
DTSTART;VALUE=DATE:20221112
DTEND;VALUE=DATE:20221113
DTSTAMP:20260426T043108
CREATED:20220901T180941Z
LAST-MODIFIED:20220901T181753Z
UID:5820-1668211200-1668297599@stchristina.org
SUMMARY:Presentation of the Lord's Prayer and Presentation of the Creed\, 4:00pm Mass
DESCRIPTION:
URL:https://stchristina.org/event/presentation-of-the-lords-prayer-and-presentation-of-the-creed-1030am-mass/
END:VEVENT
BEGIN:VEVENT
DTSTART;VALUE=DATE:20221111
DTEND;VALUE=DATE:20221112
DTSTAMP:20260426T043108
CREATED:20220727T202554Z
LAST-MODIFIED:20220727T202600Z
UID:5488-1668124800-1668211199@stchristina.org
SUMMARY:Veteran's Day Program\, 1pm Church
DESCRIPTION:
URL:https://stchristina.org/event/veterans-day-program-1pm-church/
END:VEVENT
BEGIN:VEVENT
DTSTART;VALUE=DATE:20221110
DTEND;VALUE=DATE:20221111
DTSTAMP:20260426T043108
CREATED:20220727T201227Z
LAST-MODIFIED:20220727T201233Z
UID:5468-1668038400-1668124799@stchristina.org
SUMMARY:Hot Lunch\, Burger Day
DESCRIPTION:
URL:https://stchristina.org/event/hot-lunch-burger-day-2/
END:VEVENT
BEGIN:VEVENT
DTSTART;VALUE=DATE:20221109
DTEND;VALUE=DATE:20221110
DTSTAMP:20260426T043108
CREATED:20220727T200652Z
LAST-MODIFIED:20220727T200656Z
UID:5455-1667952000-1668038399@stchristina.org
SUMMARY:Mass 8:10am
DESCRIPTION:
URL:https://stchristina.org/event/mass-810am-5-5-3/
END:VEVENT
BEGIN:VEVENT
DTSTART;VALUE=DATE:20221108
DTEND;VALUE=DATE:20221109
DTSTAMP:20260426T043108
CREATED:20220810T005457Z
LAST-MODIFIED:20220810T005520Z
UID:5770-1667865600-1667951999@stchristina.org
SUMMARY:Reconciliation (all students with last name beginning with M-Z) 6pm
DESCRIPTION:
URL:https://stchristina.org/event/reconciliation-all-students-with-last-name-beginning-with-m-z-6pm/
END:VEVENT
BEGIN:VEVENT
DTSTART;VALUE=DATE:20221107
DTEND;VALUE=DATE:20221108
DTSTAMP:20260426T043108
CREATED:20220810T005250Z
LAST-MODIFIED:20220810T005250Z
UID:5768-1667779200-1667865599@stchristina.org
SUMMARY:Reconciliation (all students with last name beginning with A-L) 6pm
DESCRIPTION:
URL:https://stchristina.org/event/reconciliation-all-students-with-last-name-beginning-with-a-l-6pm/
END:VEVENT
BEGIN:VEVENT
DTSTART;VALUE=DATE:20221103
DTEND;VALUE=DATE:20221104
DTSTAMP:20260426T043108
CREATED:20220727T200947Z
LAST-MODIFIED:20220727T200950Z
UID:5464-1667433600-1667519999@stchristina.org
SUMMARY:Hot Lunch\, Hot Dog Day
DESCRIPTION:
URL:https://stchristina.org/event/hot-lunch-hot-dog-day-2/
END:VEVENT
BEGIN:VEVENT
DTSTART;VALUE=DATE:20221102
DTEND;VALUE=DATE:20221103
DTSTAMP:20260426T043108
CREATED:20220727T200621Z
LAST-MODIFIED:20220727T200628Z
UID:5454-1667347200-1667433599@stchristina.org
SUMMARY:Mass 8:10am
DESCRIPTION:
URL:https://stchristina.org/event/mass-810am-5-5-2/
END:VEVENT
BEGIN:VEVENT
DTSTART;VALUE=DATE:20221101
DTEND;VALUE=DATE:20221102
DTSTAMP:20260426T043108
CREATED:20220727T200853Z
LAST-MODIFIED:20220727T200859Z
UID:5462-1667260800-1667347199@stchristina.org
SUMMARY:SAC Meeting\, 7pm
DESCRIPTION:
URL:https://stchristina.org/event/sac-meeting-7pm-2-2/
END:VEVENT
BEGIN:VEVENT
DTSTART;VALUE=DATE:20221028
DTEND;VALUE=DATE:20221029
DTSTAMP:20260426T043108
CREATED:20220727T200244Z
LAST-MODIFIED:20221019T165953Z
UID:5450-1666915200-1667001599@stchristina.org
SUMMARY:Picture Retake Day
DESCRIPTION:
URL:https://stchristina.org/event/picture-retake-day-3/
END:VEVENT
BEGIN:VEVENT
DTSTART;VALUE=DATE:20221027
DTEND;VALUE=DATE:20221028
DTSTAMP:20260426T043108
CREATED:20220727T200349Z
LAST-MODIFIED:20220727T200355Z
UID:5452-1666828800-1666915199@stchristina.org
SUMMARY:Hot Lunch\, Pizza Day
DESCRIPTION:
URL:https://stchristina.org/event/hot-lunch-pizza-day/
END:VEVENT
BEGIN:VEVENT
DTSTART;VALUE=DATE:20221026
DTEND;VALUE=DATE:20221027
DTSTAMP:20260426T043108
CREATED:20220727T195301Z
LAST-MODIFIED:20220727T195307Z
UID:5431-1666742400-1666828799@stchristina.org
SUMMARY:Mass 8:10am
DESCRIPTION:
URL:https://stchristina.org/event/mass-810am-5-5/
END:VEVENT
BEGIN:VEVENT
DTSTART;VALUE=DATE:20221023
DTEND;VALUE=DATE:20221024
DTSTAMP:20260426T043108
CREATED:20220901T180837Z
LAST-MODIFIED:20220901T180837Z
UID:5818-1666483200-1666569599@stchristina.org
SUMMARY:Blessing of the Senses and Presentation of the Cross\, 10:30 am Mass
DESCRIPTION:
URL:https://stchristina.org/event/blessing-of-the-senses-and-presentation-of-the-cross-1030-am-mass/
END:VEVENT
BEGIN:VEVENT
DTSTART;VALUE=DATE:20221020
DTEND;VALUE=DATE:20221021
DTSTAMP:20260426T043108
CREATED:20220727T200104Z
LAST-MODIFIED:20220727T200206Z
UID:5448-1666224000-1666310399@stchristina.org
SUMMARY:Dress Down Day
DESCRIPTION:
URL:https://stchristina.org/event/dress-down-day-25/
END:VEVENT
BEGIN:VEVENT
DTSTART;VALUE=DATE:20221020
DTEND;VALUE=DATE:20221021
DTSTAMP:20260426T043108
CREATED:20220727T195751Z
LAST-MODIFIED:20220727T195758Z
UID:5444-1666224000-1666310399@stchristina.org
SUMMARY:Hot Lunch\, Calabria
DESCRIPTION:
URL:https://stchristina.org/event/hot-lunch-calabria/
END:VEVENT
BEGIN:VEVENT
DTSTART;VALUE=DATE:20221019
DTEND;VALUE=DATE:20221020
DTSTAMP:20260426T043108
CREATED:20220727T195238Z
LAST-MODIFIED:20220727T195241Z
UID:5430-1666137600-1666223999@stchristina.org
SUMMARY:Mass 8:10am
DESCRIPTION:
URL:https://stchristina.org/event/mass-810am-5-4/
END:VEVENT
BEGIN:VEVENT
DTSTART;VALUE=DATE:20221018
DTEND;VALUE=DATE:20221019
DTSTAMP:20260426T043108
CREATED:20220928T191146Z
LAST-MODIFIED:20220928T191146Z
UID:5868-1666051200-1666137599@stchristina.org
SUMMARY:First Informative Reconciliation Meeting for parents and communicants\, 6pm church
DESCRIPTION:
URL:https://stchristina.org/event/first-informative-reconciliation-meeting-for-parents-and-communicants-6pm-church/
END:VEVENT
BEGIN:VEVENT
DTSTART;VALUE=DATE:20221017
DTEND;VALUE=DATE:20221018
DTSTAMP:20260426T043108
CREATED:20220901T180718Z
LAST-MODIFIED:20220901T181634Z
UID:5816-1665964800-1666051199@stchristina.org
SUMMARY:Confirmation Student Retreat at St. Rita\, 9am-1:30am
DESCRIPTION:
URL:https://stchristina.org/event/confirmation-student-retreat-at-st-rita-9am-1130am/
END:VEVENT
BEGIN:VEVENT
DTSTART;VALUE=DATE:20221016
DTEND;VALUE=DATE:20221017
DTSTAMP:20260426T043108
CREATED:20220928T191307Z
LAST-MODIFIED:20220928T191307Z
UID:5870-1665878400-1665964799@stchristina.org
SUMMARY:Second Grade Mass
DESCRIPTION:
URL:https://stchristina.org/event/second-grade-mass/
END:VEVENT
BEGIN:VEVENT
DTSTART;VALUE=DATE:20221014
DTEND;VALUE=DATE:20221015
DTSTAMP:20260426T043108
CREATED:20220901T180557Z
LAST-MODIFIED:20220901T180557Z
UID:5814-1665705600-1665791999@stchristina.org
SUMMARY:Holy Fire Retreat for St. Christina Confirmation Candidates
DESCRIPTION:
URL:https://stchristina.org/event/holy-fire-retreat-for-st-christina-confirmation-candidates/
END:VEVENT
BEGIN:VEVENT
DTSTART;VALUE=DATE:20221014
DTEND;VALUE=DATE:20221015
DTSTAMP:20260426T043108
CREATED:20220727T200009Z
LAST-MODIFIED:20220727T200016Z
UID:5446-1665705600-1665791999@stchristina.org
SUMMARY:FSA Trunk or Treat
DESCRIPTION:
URL:https://stchristina.org/event/fsa-trunk-or-treat/
END:VEVENT
BEGIN:VEVENT
DTSTART;VALUE=DATE:20221013
DTEND;VALUE=DATE:20221014
DTSTAMP:20260426T043108
CREATED:20220727T195624Z
LAST-MODIFIED:20220727T195630Z
UID:5442-1665619200-1665705599@stchristina.org
SUMMARY:Hot Lunch\, Burger Day
DESCRIPTION:
URL:https://stchristina.org/event/hot-lunch-burger-day/
END:VEVENT
BEGIN:VEVENT
DTSTART;VALUE=DATE:20221012
DTEND;VALUE=DATE:20221013
DTSTAMP:20260426T043108
CREATED:20220727T195219Z
LAST-MODIFIED:20220727T195223Z
UID:5429-1665532800-1665619199@stchristina.org
SUMMARY:Mass 8:10am
DESCRIPTION:
URL:https://stchristina.org/event/mass-810am-5-3/
END:VEVENT
BEGIN:VEVENT
DTSTART;VALUE=DATE:20221010
DTEND;VALUE=DATE:20221011
DTSTAMP:20260426T043108
CREATED:20220727T195550Z
LAST-MODIFIED:20220727T195553Z
UID:5440-1665360000-1665446399@stchristina.org
SUMMARY:Columbus Day\, No School
DESCRIPTION:
URL:https://stchristina.org/event/columbus-day-no-school-3/
END:VEVENT
BEGIN:VEVENT
DTSTART;VALUE=DATE:20221008
DTEND;VALUE=DATE:20221009
DTSTAMP:20260426T043108
CREATED:20220727T195511Z
LAST-MODIFIED:20220727T195517Z
UID:5438-1665187200-1665273599@stchristina.org
SUMMARY:FSA Oktoberfest
DESCRIPTION:
URL:https://stchristina.org/event/fsa-oktoberfest-2/
END:VEVENT
BEGIN:VEVENT
DTSTART;VALUE=DATE:20221006
DTEND;VALUE=DATE:20221007
DTSTAMP:20260426T043108
CREATED:20220727T195407Z
LAST-MODIFIED:20220727T195414Z
UID:5436-1665014400-1665100799@stchristina.org
SUMMARY:Hot Lunch\, Hot Dog Day
DESCRIPTION:
URL:https://stchristina.org/event/hot-lunch-hot-dog-day/
END:VEVENT
BEGIN:VEVENT
DTSTART;VALUE=DATE:20221005
DTEND;VALUE=DATE:20221006
DTSTAMP:20260426T043108
CREATED:20220727T195153Z
LAST-MODIFIED:20220727T195200Z
UID:5428-1664928000-1665014399@stchristina.org
SUMMARY:Mass 8:10am
DESCRIPTION:
URL:https://stchristina.org/event/mass-810am-5-2/
END:VEVENT
BEGIN:VEVENT
DTSTART;VALUE=DATE:20221004
DTEND;VALUE=DATE:20221005
DTSTAMP:20260426T043108
CREATED:20220727T195000Z
LAST-MODIFIED:20220727T195006Z
UID:5425-1664841600-1664927999@stchristina.org
SUMMARY:FSA Meeting\, 7:30pm
DESCRIPTION:
URL:https://stchristina.org/event/fsa-meeting-730pm-2/
END:VEVENT
BEGIN:VEVENT
DTSTART;VALUE=DATE:20221004
DTEND;VALUE=DATE:20221005
DTSTAMP:20260426T043108
CREATED:20220727T194850Z
LAST-MODIFIED:20220727T194856Z
UID:5424-1664841600-1664927999@stchristina.org
SUMMARY:SAC Meeting\, 7pm
DESCRIPTION:
URL:https://stchristina.org/event/sac-meeting-7pm-2/
END:VEVENT
END:VCALENDAR