BEGIN:VCALENDAR
VERSION:2.0
PRODID:-//St. Christina Catholic School - ECPv6.15.20//NONSGML v1.0//EN
CALSCALE:GREGORIAN
METHOD:PUBLISH
X-WR-CALNAME:St. Christina Catholic School
X-ORIGINAL-URL:https://stchristina.org
X-WR-CALDESC:Events for St. Christina Catholic School
REFRESH-INTERVAL;VALUE=DURATION:PT1H
X-Robots-Tag:noindex
X-PUBLISHED-TTL:PT1H
BEGIN:VTIMEZONE
TZID:UTC
BEGIN:STANDARD
TZOFFSETFROM:+0000
TZOFFSETTO:+0000
TZNAME:UTC
DTSTART:20240101T000000
END:STANDARD
END:VTIMEZONE
BEGIN:VEVENT
DTSTART;VALUE=DATE:20250226
DTEND;VALUE=DATE:20250227
DTSTAMP:20260425T123746
CREATED:20240715T201202Z
LAST-MODIFIED:20240715T201202Z
UID:7436-1740528000-1740614399@stchristina.org
SUMMARY:Enrichment
DESCRIPTION:
URL:https://stchristina.org/event/enrichment-45/
END:VEVENT
BEGIN:VEVENT
DTSTART;VALUE=DATE:20250227
DTEND;VALUE=DATE:20250228
DTSTAMP:20260425T123746
CREATED:20240715T201236Z
LAST-MODIFIED:20240715T201236Z
UID:7438-1740614400-1740700799@stchristina.org
SUMMARY:Hot Lunch: Home Run Inn Pizza
DESCRIPTION:
URL:https://stchristina.org/event/hot-lunch-home-run-inn-pizza-7/
END:VEVENT
BEGIN:VEVENT
DTSTART;VALUE=DATE:20250304
DTEND;VALUE=DATE:20250305
DTSTAMP:20260425T123746
CREATED:20240717T032033Z
LAST-MODIFIED:20240717T032033Z
UID:7460-1741046400-1741132799@stchristina.org
SUMMARY:SAC Meeting
DESCRIPTION:
URL:https://stchristina.org/event/sac-meeting-8/
END:VEVENT
BEGIN:VEVENT
DTSTART;VALUE=DATE:20250305
DTEND;VALUE=DATE:20250306
DTSTAMP:20260425T123746
CREATED:20240717T032112Z
LAST-MODIFIED:20240717T032112Z
UID:7462-1741132800-1741219199@stchristina.org
SUMMARY:Ash Wednesday Prayer Service
DESCRIPTION:
URL:https://stchristina.org/event/ash-wednesday-prayer-service/
END:VEVENT
BEGIN:VEVENT
DTSTART;VALUE=DATE:20250305
DTEND;VALUE=DATE:20250306
DTSTAMP:20260425T123746
CREATED:20240717T032137Z
LAST-MODIFIED:20240717T032137Z
UID:7464-1741132800-1741219199@stchristina.org
SUMMARY:Rice Bowls Home
DESCRIPTION:
URL:https://stchristina.org/event/rice-bowls-home/
END:VEVENT
BEGIN:VEVENT
DTSTART;VALUE=DATE:20250305
DTEND;VALUE=DATE:20250306
DTSTAMP:20260425T123746
CREATED:20240717T032205Z
LAST-MODIFIED:20240717T032205Z
UID:7466-1741132800-1741219199@stchristina.org
SUMMARY:Silent Retreat Day
DESCRIPTION:
URL:https://stchristina.org/event/silent-retreat-day/
END:VEVENT
BEGIN:VEVENT
DTSTART;VALUE=DATE:20250305
DTEND;VALUE=DATE:20250306
DTSTAMP:20260425T123746
CREATED:20240717T032226Z
LAST-MODIFIED:20240717T032226Z
UID:7468-1741132800-1741219199@stchristina.org
SUMMARY:Enrichment
DESCRIPTION:
URL:https://stchristina.org/event/enrichment-46/
END:VEVENT
BEGIN:VEVENT
DTSTART;VALUE=DATE:20250306
DTEND;VALUE=DATE:20250307
DTSTAMP:20260425T123746
CREATED:20240717T032305Z
LAST-MODIFIED:20240717T032305Z
UID:7470-1741219200-1741305599@stchristina.org
SUMMARY:Hot Lunch: Calabria Nuggets/Chips
DESCRIPTION:
URL:https://stchristina.org/event/hot-lunch-calabria-nuggets-chips-4/
END:VEVENT
BEGIN:VEVENT
DTSTART;VALUE=DATE:20250306
DTEND;VALUE=DATE:20250307
DTSTAMP:20260425T123746
CREATED:20240717T032409Z
LAST-MODIFIED:20240717T032409Z
UID:7472-1741219200-1741305599@stchristina.org
SUMMARY:1:45 Dismissal\, Faculty PD
DESCRIPTION:
URL:https://stchristina.org/event/145-dismissal-faculty-pd/
END:VEVENT
BEGIN:VEVENT
DTSTART;VALUE=DATE:20250307
DTEND;VALUE=DATE:20250308
DTSTAMP:20260425T123746
CREATED:20240717T032429Z
LAST-MODIFIED:20240717T032429Z
UID:7474-1741305600-1741391999@stchristina.org
SUMMARY:Trimester 2 Ends
DESCRIPTION:
URL:https://stchristina.org/event/trimester-2-ends/
END:VEVENT
BEGIN:VEVENT
DTSTART;VALUE=DATE:20250308
DTEND;VALUE=DATE:20250309
DTSTAMP:20260425T123746
CREATED:20240717T170930Z
LAST-MODIFIED:20240717T170930Z
UID:7666-1741392000-1741478399@stchristina.org
SUMMARY:St. Paddy's Day Party
DESCRIPTION:
URL:https://stchristina.org/event/st-paddys-day-party/
END:VEVENT
BEGIN:VEVENT
DTSTART;VALUE=DATE:20250309
DTEND;VALUE=DATE:20250310
DTSTAMP:20260425T123746
CREATED:20240717T032457Z
LAST-MODIFIED:20240717T032457Z
UID:7476-1741478400-1741564799@stchristina.org
SUMMARY:Family Mass\, 10:30am
DESCRIPTION:
URL:https://stchristina.org/event/family-mass-1030am/
END:VEVENT
BEGIN:VEVENT
DTSTART;VALUE=DATE:20250312
DTEND;VALUE=DATE:20250313
DTSTAMP:20260425T123746
CREATED:20240717T032539Z
LAST-MODIFIED:20240717T032539Z
UID:7478-1741737600-1741823999@stchristina.org
SUMMARY:8:10am Mass (planned by 1st Grade)
DESCRIPTION:
URL:https://stchristina.org/event/810am-mass-planned-by-1st-grade-2/
END:VEVENT
BEGIN:VEVENT
DTSTART;VALUE=DATE:20250312
DTEND;VALUE=DATE:20250313
DTSTAMP:20260425T123746
CREATED:20240717T032634Z
LAST-MODIFIED:20240717T032634Z
UID:7480-1741737600-1741823999@stchristina.org
SUMMARY:Enrichment
DESCRIPTION:
URL:https://stchristina.org/event/enrichment-47/
END:VEVENT
BEGIN:VEVENT
DTSTART;VALUE=DATE:20250313
DTEND;VALUE=DATE:20250314
DTSTAMP:20260425T123746
CREATED:20240717T032709Z
LAST-MODIFIED:20240717T032709Z
UID:7482-1741824000-1741910399@stchristina.org
SUMMARY:Hot Lunch: Barraco's Burger / Breadsticks
DESCRIPTION:
URL:https://stchristina.org/event/hot-lunch-barracos-burger-breadsticks-9/
END:VEVENT
BEGIN:VEVENT
DTSTART;VALUE=DATE:20250313
DTEND;VALUE=DATE:20250314
DTSTAMP:20260425T123746
CREATED:20240717T032730Z
LAST-MODIFIED:20240717T032730Z
UID:7484-1741824000-1741910399@stchristina.org
SUMMARY:Report Cards
DESCRIPTION:
URL:https://stchristina.org/event/report-cards-14/
END:VEVENT
BEGIN:VEVENT
DTSTART;VALUE=DATE:20250314
DTEND;VALUE=DATE:20250315
DTSTAMP:20260425T123746
CREATED:20240717T032938Z
LAST-MODIFIED:20240717T032938Z
UID:7486-1741910400-1741996799@stchristina.org
SUMMARY:Green Dress Down Day
DESCRIPTION:
URL:https://stchristina.org/event/green-dress-down-day/
END:VEVENT
BEGIN:VEVENT
DTSTART;VALUE=DATE:20250314
DTEND;VALUE=DATE:20250315
DTSTAMP:20260425T123746
CREATED:20240717T033003Z
LAST-MODIFIED:20240717T033003Z
UID:7488-1741910400-1741996799@stchristina.org
SUMMARY:Stations of the Cross
DESCRIPTION:
URL:https://stchristina.org/event/stations-of-the-cross-4/
END:VEVENT
BEGIN:VEVENT
DTSTART;VALUE=DATE:20250317
DTEND;VALUE=DATE:20250318
DTSTAMP:20260425T123746
CREATED:20240717T033036Z
LAST-MODIFIED:20240717T033036Z
UID:7490-1742169600-1742255999@stchristina.org
SUMMARY:NO SCHOOL\, Faculty Retreat Day
DESCRIPTION:
URL:https://stchristina.org/event/no-school-faculty-retreat-day/
END:VEVENT
BEGIN:VEVENT
DTSTART;VALUE=DATE:20250318
DTEND;VALUE=DATE:20250319
DTSTAMP:20260425T123746
CREATED:20240717T033121Z
LAST-MODIFIED:20240717T033121Z
UID:7492-1742256000-1742342399@stchristina.org
SUMMARY:8th Grade Graduation Pictures Retake Day
DESCRIPTION:
URL:https://stchristina.org/event/8th-grade-graduation-pictures-retake-day/
END:VEVENT
BEGIN:VEVENT
DTSTART;VALUE=DATE:20250319
DTEND;VALUE=DATE:20250320
DTSTAMP:20260425T123746
CREATED:20240717T033214Z
LAST-MODIFIED:20240717T033214Z
UID:7494-1742342400-1742428799@stchristina.org
SUMMARY:8:10am Mass and Lenten Confessions
DESCRIPTION:
URL:https://stchristina.org/event/810am-mass-and-lenten-confessions/
END:VEVENT
BEGIN:VEVENT
DTSTART;VALUE=DATE:20250319
DTEND;VALUE=DATE:20250320
DTSTAMP:20260425T123746
CREATED:20240717T033235Z
LAST-MODIFIED:20240717T033235Z
UID:7496-1742342400-1742428799@stchristina.org
SUMMARY:Enrichment
DESCRIPTION:
URL:https://stchristina.org/event/enrichment-48/
END:VEVENT
BEGIN:VEVENT
DTSTART;VALUE=DATE:20250320
DTEND;VALUE=DATE:20250321
DTSTAMP:20260425T123746
CREATED:20240717T033309Z
LAST-MODIFIED:20240717T033309Z
UID:7498-1742428800-1742515199@stchristina.org
SUMMARY:Hot Lunch: Calabria Mostaccioli
DESCRIPTION:
URL:https://stchristina.org/event/hot-lunch-calabria-mostaccioli-14/
END:VEVENT
BEGIN:VEVENT
DTSTART;VALUE=DATE:20250324
DTEND;VALUE=DATE:20250325
DTSTAMP:20260425T123746
CREATED:20240717T033328Z
LAST-MODIFIED:20240717T033328Z
UID:7500-1742774400-1742860799@stchristina.org
SUMMARY:SCAA Meeting
DESCRIPTION:
URL:https://stchristina.org/event/scaa-meeting-8/
END:VEVENT
BEGIN:VEVENT
DTSTART;VALUE=DATE:20250326
DTEND;VALUE=DATE:20250327
DTSTAMP:20260425T123746
CREATED:20240717T033433Z
LAST-MODIFIED:20240717T033433Z
UID:7502-1742947200-1743033599@stchristina.org
SUMMARY:8:10am Mass and Lenten Confessions
DESCRIPTION:
URL:https://stchristina.org/event/810am-mass-and-lenten-confessions-2/
END:VEVENT
BEGIN:VEVENT
DTSTART;VALUE=DATE:20250326
DTEND;VALUE=DATE:20250327
DTSTAMP:20260425T123746
CREATED:20240717T033452Z
LAST-MODIFIED:20240717T033452Z
UID:7504-1742947200-1743033599@stchristina.org
SUMMARY:Enrichment
DESCRIPTION:
URL:https://stchristina.org/event/enrichment-49/
END:VEVENT
BEGIN:VEVENT
DTSTART;VALUE=DATE:20250326
DTEND;VALUE=DATE:20250327
DTSTAMP:20260425T123746
CREATED:20240717T033515Z
LAST-MODIFIED:20240717T033515Z
UID:7506-1742947200-1743033599@stchristina.org
SUMMARY:Boosterthon Kick-Off
DESCRIPTION:
URL:https://stchristina.org/event/boosterthon-kick-off-2/
END:VEVENT
BEGIN:VEVENT
DTSTART;VALUE=DATE:20250327
DTEND;VALUE=DATE:20250328
DTSTAMP:20260425T123746
CREATED:20240717T033551Z
LAST-MODIFIED:20240717T033551Z
UID:7508-1743033600-1743119999@stchristina.org
SUMMARY:Hot Lunch: Home Run Inn Pizza
DESCRIPTION:
URL:https://stchristina.org/event/hot-lunch-home-run-inn-pizza-8/
END:VEVENT
BEGIN:VEVENT
DTSTART;VALUE=DATE:20250328
DTEND;VALUE=DATE:20250329
DTSTAMP:20260425T123746
CREATED:20240717T033612Z
LAST-MODIFIED:20240717T033612Z
UID:7510-1743120000-1743206399@stchristina.org
SUMMARY:Stations of the Cross
DESCRIPTION:
URL:https://stchristina.org/event/stations-of-the-cross-5/
END:VEVENT
BEGIN:VEVENT
DTSTART;VALUE=DATE:20250401
DTEND;VALUE=DATE:20250402
DTSTAMP:20260425T123746
CREATED:20240717T120212Z
LAST-MODIFIED:20240717T120212Z
UID:7512-1743465600-1743551999@stchristina.org
SUMMARY:SAC Meeting
DESCRIPTION:
URL:https://stchristina.org/event/sac-meeting-9/
END:VEVENT
END:VCALENDAR