BEGIN:VCALENDAR
VERSION:2.0
PRODID:-//St. Christina Catholic School - ECPv6.15.20//NONSGML v1.0//EN
CALSCALE:GREGORIAN
METHOD:PUBLISH
X-WR-CALNAME:St. Christina Catholic School
X-ORIGINAL-URL:https://stchristina.org
X-WR-CALDESC:Events for St. Christina Catholic School
REFRESH-INTERVAL;VALUE=DURATION:PT1H
X-Robots-Tag:noindex
X-PUBLISHED-TTL:PT1H
BEGIN:VTIMEZONE
TZID:UTC
BEGIN:STANDARD
TZOFFSETFROM:+0000
TZOFFSETTO:+0000
TZNAME:UTC
DTSTART:20230101T000000
END:STANDARD
END:VTIMEZONE
BEGIN:VEVENT
DTSTART;VALUE=DATE:20240319
DTEND;VALUE=DATE:20240321
DTSTAMP:20260425T153027
CREATED:20230801T023652Z
LAST-MODIFIED:20230821T162555Z
UID:6698-1710806400-1710979199@stchristina.org
SUMMARY:Lenten Confessions Grades 2-8
DESCRIPTION:
URL:https://stchristina.org/event/lenten-confessions-grades-2-8/
END:VEVENT
BEGIN:VEVENT
DTSTART;VALUE=DATE:20240319
DTEND;VALUE=DATE:20240320
DTSTAMP:20260425T153027
CREATED:20230801T023746Z
LAST-MODIFIED:20230801T023746Z
UID:6702-1710806400-1710892799@stchristina.org
SUMMARY:8th Grade Graduation Pictures Retakes
DESCRIPTION:
URL:https://stchristina.org/event/8th-grade-graduation-pictures-retakes/
END:VEVENT
BEGIN:VEVENT
DTSTART;VALUE=DATE:20240318
DTEND;VALUE=DATE:20240319
DTSTAMP:20260425T153027
CREATED:20230801T023718Z
LAST-MODIFIED:20230801T023718Z
UID:6700-1710720000-1710806399@stchristina.org
SUMMARY:SCAA Mtg.\, 7:30pm
DESCRIPTION:
URL:https://stchristina.org/event/scaa-mtg-730pm-8/
END:VEVENT
BEGIN:VEVENT
DTSTART;VALUE=DATE:20240318
DTEND;VALUE=DATE:20240319
DTSTAMP:20260425T153027
CREATED:20230801T023346Z
LAST-MODIFIED:20230821T145837Z
UID:6686-1710720000-1710806399@stchristina.org
SUMMARY:No School Faculty Retreat
DESCRIPTION:
URL:https://stchristina.org/event/no-school-faculty-retreat/
END:VEVENT
BEGIN:VEVENT
DTSTART;VALUE=DATE:20240315
DTEND;VALUE=DATE:20240316
DTSTAMP:20260425T153027
CREATED:20230801T023605Z
LAST-MODIFIED:20230801T023605Z
UID:6696-1710460800-1710547199@stchristina.org
SUMMARY:Stations of the Cross
DESCRIPTION:
URL:https://stchristina.org/event/stations-of-the-cross-3/
END:VEVENT
BEGIN:VEVENT
DTSTART;VALUE=DATE:20240315
DTEND;VALUE=DATE:20240316
DTSTAMP:20260425T153027
CREATED:20230801T023544Z
LAST-MODIFIED:20230801T023544Z
UID:6694-1710460800-1710547199@stchristina.org
SUMMARY:Green Dress Down for St. Patrick's Day
DESCRIPTION:
URL:https://stchristina.org/event/green-dress-down-for-st-patricks-day/
END:VEVENT
BEGIN:VEVENT
DTSTART;VALUE=DATE:20240314
DTEND;VALUE=DATE:20240315
DTSTAMP:20260425T153027
CREATED:20230801T023510Z
LAST-MODIFIED:20230801T023510Z
UID:6692-1710374400-1710460799@stchristina.org
SUMMARY:Hot Lunch Barraco's Burgers/Breadsticks
DESCRIPTION:
URL:https://stchristina.org/event/hot-lunch-barracos-burgers-breadsticks-3/
END:VEVENT
BEGIN:VEVENT
DTSTART;VALUE=DATE:20240313
DTEND;VALUE=DATE:20240314
DTSTAMP:20260425T153027
CREATED:20230801T023438Z
LAST-MODIFIED:20230801T023438Z
UID:6690-1710288000-1710374399@stchristina.org
SUMMARY:Enrichment
DESCRIPTION:
URL:https://stchristina.org/event/enrichment-21/
END:VEVENT
BEGIN:VEVENT
DTSTART;VALUE=DATE:20240313
DTEND;VALUE=DATE:20240314
DTSTAMP:20260425T153027
CREATED:20230801T023417Z
LAST-MODIFIED:20230801T023417Z
UID:6688-1710288000-1710374399@stchristina.org
SUMMARY:8:10am Mass Planned by 1st Grade
DESCRIPTION:
URL:https://stchristina.org/event/810am-mass-planned-by-1st-grade/
END:VEVENT
BEGIN:VEVENT
DTSTART;VALUE=DATE:20240310
DTEND;VALUE=DATE:20240311
DTSTAMP:20260425T153027
CREATED:20230801T023325Z
LAST-MODIFIED:20230801T023325Z
UID:6684-1710028800-1710115199@stchristina.org
SUMMARY:FSA Breakfast with the Easter Bunny
DESCRIPTION:
URL:https://stchristina.org/event/fsa-breakfast-with-the-easter-bunny-2/
END:VEVENT
BEGIN:VEVENT
DTSTART;VALUE=DATE:20240308
DTEND;VALUE=DATE:20240309
DTSTAMP:20260425T153027
CREATED:20230801T023255Z
LAST-MODIFIED:20230801T023255Z
UID:6682-1709856000-1709942399@stchristina.org
SUMMARY:Stations of the Cross
DESCRIPTION:
URL:https://stchristina.org/event/stations-of-the-cross-2/
END:VEVENT
BEGIN:VEVENT
DTSTART;VALUE=DATE:20240307
DTEND;VALUE=DATE:20240308
DTSTAMP:20260425T153027
CREATED:20230801T023234Z
LAST-MODIFIED:20230801T023234Z
UID:6680-1709769600-1709855999@stchristina.org
SUMMARY:Report Cards
DESCRIPTION:
URL:https://stchristina.org/event/report-cards-11/
END:VEVENT
BEGIN:VEVENT
DTSTART;VALUE=DATE:20240307
DTEND;VALUE=DATE:20240308
DTSTAMP:20260425T153027
CREATED:20230801T023208Z
LAST-MODIFIED:20230801T023208Z
UID:6678-1709769600-1709855999@stchristina.org
SUMMARY:Hot Lunch Calabria Nuggets
DESCRIPTION:
URL:https://stchristina.org/event/hot-lunch-calabria-nuggets-2/
END:VEVENT
BEGIN:VEVENT
DTSTART;VALUE=DATE:20240307
DTEND;VALUE=DATE:20240308
DTSTAMP:20260425T153027
CREATED:20230801T023128Z
LAST-MODIFIED:20230801T023128Z
UID:6676-1709769600-1709855999@stchristina.org
SUMMARY:Early Dismissal\, 1:45pm\, Teacher PD
DESCRIPTION:
URL:https://stchristina.org/event/early-dismissal-145pm-teacher-pd-4/
END:VEVENT
BEGIN:VEVENT
DTSTART;VALUE=DATE:20240306
DTEND;VALUE=DATE:20240307
DTSTAMP:20260425T153027
CREATED:20230801T023055Z
LAST-MODIFIED:20230801T023055Z
UID:6674-1709683200-1709769599@stchristina.org
SUMMARY:Enrichment
DESCRIPTION:
URL:https://stchristina.org/event/enrichment-20/
END:VEVENT
BEGIN:VEVENT
DTSTART;VALUE=DATE:20240306
DTEND;VALUE=DATE:20240307
DTSTAMP:20260425T153027
CREATED:20230801T023035Z
LAST-MODIFIED:20230801T023035Z
UID:6672-1709683200-1709769599@stchristina.org
SUMMARY:8:10am Mass
DESCRIPTION:
URL:https://stchristina.org/event/810am-mass-20/
END:VEVENT
BEGIN:VEVENT
DTSTART;VALUE=DATE:20240305
DTEND;VALUE=DATE:20240306
DTSTAMP:20260425T153027
CREATED:20230801T023009Z
LAST-MODIFIED:20230801T023009Z
UID:6670-1709596800-1709683199@stchristina.org
SUMMARY:SAC Mtg.\, 7pm
DESCRIPTION:
URL:https://stchristina.org/event/sac-mtg-7pm-8/
END:VEVENT
BEGIN:VEVENT
DTSTART;VALUE=DATE:20240301
DTEND;VALUE=DATE:20240302
DTSTAMP:20260425T153027
CREATED:20230801T022938Z
LAST-MODIFIED:20230801T022938Z
UID:6668-1709251200-1709337599@stchristina.org
SUMMARY:Trimester Ends
DESCRIPTION:
URL:https://stchristina.org/event/trimester-ends-4/
END:VEVENT
BEGIN:VEVENT
DTSTART;VALUE=DATE:20240301
DTEND;VALUE=DATE:20240302
DTSTAMP:20260425T153027
CREATED:20230801T022917Z
LAST-MODIFIED:20230801T022917Z
UID:6666-1709251200-1709337599@stchristina.org
SUMMARY:No School\, Faculty PD
DESCRIPTION:
URL:https://stchristina.org/event/no-school-faculty-pd-2/
END:VEVENT
BEGIN:VEVENT
DTSTART;VALUE=DATE:20240229
DTEND;VALUE=DATE:20240301
DTSTAMP:20260425T153027
CREATED:20230801T022305Z
LAST-MODIFIED:20230801T022305Z
UID:6662-1709164800-1709251199@stchristina.org
SUMMARY:No Hot Lunch
DESCRIPTION:
URL:https://stchristina.org/event/no-hot-lunch-7/
END:VEVENT
BEGIN:VEVENT
DTSTART;VALUE=DATE:20240228
DTEND;VALUE=DATE:20240229
DTSTAMP:20260425T153027
CREATED:20230801T022239Z
LAST-MODIFIED:20230801T022239Z
UID:6660-1709078400-1709164799@stchristina.org
SUMMARY:Enrichment
DESCRIPTION:
URL:https://stchristina.org/event/enrichment-19/
END:VEVENT
BEGIN:VEVENT
DTSTART;VALUE=DATE:20240228
DTEND;VALUE=DATE:20240229
DTSTAMP:20260425T153027
CREATED:20230801T022219Z
LAST-MODIFIED:20230801T022219Z
UID:6658-1709078400-1709164799@stchristina.org
SUMMARY:8:10am Mass
DESCRIPTION:
URL:https://stchristina.org/event/810am-mass-19/
END:VEVENT
BEGIN:VEVENT
DTSTART;VALUE=DATE:20240225
DTEND;VALUE=DATE:20240226
DTSTAMP:20260425T153027
CREATED:20230801T022158Z
LAST-MODIFIED:20230801T022158Z
UID:6656-1708819200-1708905599@stchristina.org
SUMMARY:FSA Father/Son Bowling
DESCRIPTION:
URL:https://stchristina.org/event/fsa-father-son-bowling-2/
END:VEVENT
BEGIN:VEVENT
DTSTART;VALUE=DATE:20240223
DTEND;VALUE=DATE:20240224
DTSTAMP:20260425T153027
CREATED:20230801T022131Z
LAST-MODIFIED:20230801T022131Z
UID:6654-1708646400-1708732799@stchristina.org
SUMMARY:Stations of the cross
DESCRIPTION:
URL:https://stchristina.org/event/stations-of-the-cross/
END:VEVENT
BEGIN:VEVENT
DTSTART;VALUE=DATE:20240223
DTEND;VALUE=DATE:20240224
DTSTAMP:20260425T153027
CREATED:20230801T022108Z
LAST-MODIFIED:20230801T022108Z
UID:6652-1708646400-1708732799@stchristina.org
SUMMARY:8th Grade Graduation Pictures
DESCRIPTION:
URL:https://stchristina.org/event/8th-grade-graduation-pictures-2/
END:VEVENT
BEGIN:VEVENT
DTSTART;VALUE=DATE:20240222
DTEND;VALUE=DATE:20240223
DTSTAMP:20260425T153027
CREATED:20230801T022021Z
LAST-MODIFIED:20230801T022021Z
UID:6650-1708560000-1708646399@stchristina.org
SUMMARY:Hot Lunch Home Run Inn
DESCRIPTION:
URL:https://stchristina.org/event/hot-lunch-home-run-inn/
END:VEVENT
BEGIN:VEVENT
DTSTART;VALUE=DATE:20240221
DTEND;VALUE=DATE:20240222
DTSTAMP:20260425T153027
CREATED:20230801T021953Z
LAST-MODIFIED:20230801T021953Z
UID:6648-1708473600-1708559999@stchristina.org
SUMMARY:Enrichment
DESCRIPTION:
URL:https://stchristina.org/event/enrichment-18/
END:VEVENT
BEGIN:VEVENT
DTSTART;VALUE=DATE:20240221
DTEND;VALUE=DATE:20240222
DTSTAMP:20260425T153027
CREATED:20230801T021932Z
LAST-MODIFIED:20230801T021932Z
UID:6646-1708473600-1708559999@stchristina.org
SUMMARY:8:10am Mass
DESCRIPTION:
URL:https://stchristina.org/event/810am-mass-18/
END:VEVENT
BEGIN:VEVENT
DTSTART;VALUE=DATE:20240219
DTEND;VALUE=DATE:20240220
DTSTAMP:20260425T153027
CREATED:20230801T021907Z
LAST-MODIFIED:20230801T021907Z
UID:6644-1708300800-1708387199@stchristina.org
SUMMARY:SCAA Mtg.\, 7:30pm
DESCRIPTION:
URL:https://stchristina.org/event/scaa-mtg-730pm-7/
END:VEVENT
BEGIN:VEVENT
DTSTART;VALUE=DATE:20240219
DTEND;VALUE=DATE:20240220
DTSTAMP:20260425T153027
CREATED:20230801T021838Z
LAST-MODIFIED:20230801T021838Z
UID:6642-1708300800-1708387199@stchristina.org
SUMMARY:No School President's Day
DESCRIPTION:
URL:https://stchristina.org/event/no-school-presidents-day-2/
END:VEVENT
END:VCALENDAR