BEGIN:VCALENDAR
VERSION:2.0
PRODID:-//St. Christina Catholic School - ECPv6.15.20//NONSGML v1.0//EN
CALSCALE:GREGORIAN
METHOD:PUBLISH
X-WR-CALNAME:St. Christina Catholic School
X-ORIGINAL-URL:https://stchristina.org
X-WR-CALDESC:Events for St. Christina Catholic School
REFRESH-INTERVAL;VALUE=DURATION:PT1H
X-Robots-Tag:noindex
X-PUBLISHED-TTL:PT1H
BEGIN:VTIMEZONE
TZID:UTC
BEGIN:STANDARD
TZOFFSETFROM:+0000
TZOFFSETTO:+0000
TZNAME:UTC
DTSTART:20230101T000000
END:STANDARD
END:VTIMEZONE
BEGIN:VEVENT
DTSTART;VALUE=DATE:20240603
DTEND;VALUE=DATE:20240604
DTSTAMP:20260425T112252
CREATED:20230801T200147Z
LAST-MODIFIED:20230801T200147Z
UID:6820-1717372800-1717459199@stchristina.org
SUMMARY:FSA Year End Carnival (PreK-6th)\, Movie Field Trip (7th)
DESCRIPTION:
URL:https://stchristina.org/event/fsa-year-end-carnival-prek-6th-movie-field-trip-7th/
END:VEVENT
BEGIN:VEVENT
DTSTART;VALUE=DATE:20240531
DTEND;VALUE=DATE:20240601
DTSTAMP:20260425T112252
CREATED:20230801T200021Z
LAST-MODIFIED:20230801T200021Z
UID:6818-1717113600-1717199999@stchristina.org
SUMMARY:No Extended Care
DESCRIPTION:
URL:https://stchristina.org/event/no-extended-care-15/
END:VEVENT
BEGIN:VEVENT
DTSTART;VALUE=DATE:20240531
DTEND;VALUE=DATE:20240601
DTSTAMP:20260425T112252
CREATED:20230801T195957Z
LAST-MODIFIED:20230801T195957Z
UID:6816-1717113600-1717199999@stchristina.org
SUMMARY:8th Grade Awards Ceremony & Dance 6pm - 10pm
DESCRIPTION:
URL:https://stchristina.org/event/8th-grade-awards-ceremony-dance-6pm-10pm/
END:VEVENT
BEGIN:VEVENT
DTSTART;VALUE=DATE:20240530
DTEND;VALUE=DATE:20240531
DTSTAMP:20260425T112252
CREATED:20230801T195811Z
LAST-MODIFIED:20230801T195852Z
UID:6814-1717027200-1717113599@stchristina.org
SUMMARY:8th Grade Great America Trip
DESCRIPTION:
URL:https://stchristina.org/event/8th-grade-great-america-trip-2/
END:VEVENT
BEGIN:VEVENT
DTSTART;VALUE=DATE:20240530
DTEND;VALUE=DATE:20240531
DTSTAMP:20260425T112252
CREATED:20230801T195737Z
LAST-MODIFIED:20230801T195737Z
UID:6812-1717027200-1717113599@stchristina.org
SUMMARY:No Hot Lunch
DESCRIPTION:
URL:https://stchristina.org/event/no-hot-lunch-8/
END:VEVENT
BEGIN:VEVENT
DTSTART;VALUE=DATE:20240529
DTEND;VALUE=DATE:20240530
DTSTAMP:20260425T112252
CREATED:20230801T195713Z
LAST-MODIFIED:20230801T195713Z
UID:6810-1716940800-1717027199@stchristina.org
SUMMARY:Enrichment
DESCRIPTION:
URL:https://stchristina.org/event/enrichment-30/
END:VEVENT
BEGIN:VEVENT
DTSTART;VALUE=DATE:20240529
DTEND;VALUE=DATE:20240530
DTSTAMP:20260425T112252
CREATED:20230801T195651Z
LAST-MODIFIED:20230801T195651Z
UID:6808-1716940800-1717027199@stchristina.org
SUMMARY:8th Grade Graduation Practice at 9am and 8th Grade BBQ at 11:30am
DESCRIPTION:
URL:https://stchristina.org/event/8th-grade-graduation-practice-at-9am-and-8th-grade-bbq-at-1130am/
END:VEVENT
BEGIN:VEVENT
DTSTART;VALUE=DATE:20240529
DTEND;VALUE=DATE:20240530
DTSTAMP:20260425T112252
CREATED:20230801T195601Z
LAST-MODIFIED:20230801T195601Z
UID:6806-1716940800-1717027199@stchristina.org
SUMMARY:8:10am Mass
DESCRIPTION:
URL:https://stchristina.org/event/810am-mass-27/
END:VEVENT
BEGIN:VEVENT
DTSTART;VALUE=DATE:20240527
DTEND;VALUE=DATE:20240528
DTSTAMP:20260425T112252
CREATED:20230801T195414Z
LAST-MODIFIED:20230801T195414Z
UID:6804-1716768000-1716854399@stchristina.org
SUMMARY:No School Memorial Day
DESCRIPTION:
URL:https://stchristina.org/event/no-school-memorial-day/
END:VEVENT
BEGIN:VEVENT
DTSTART;VALUE=DATE:20240524
DTEND;VALUE=DATE:20240525
DTSTAMP:20260425T112252
CREATED:20230801T195345Z
LAST-MODIFIED:20230801T195345Z
UID:6802-1716508800-1716595199@stchristina.org
SUMMARY:No School
DESCRIPTION:
URL:https://stchristina.org/event/no-school-13/
END:VEVENT
BEGIN:VEVENT
DTSTART;VALUE=DATE:20240523
DTEND;VALUE=DATE:20240524
DTSTAMP:20260425T112252
CREATED:20230801T195325Z
LAST-MODIFIED:20230801T195325Z
UID:6800-1716422400-1716508799@stchristina.org
SUMMARY:Hot Lunch Home Run Inn Pizza
DESCRIPTION:
URL:https://stchristina.org/event/hot-lunch-home-run-inn-pizza-4/
END:VEVENT
BEGIN:VEVENT
DTSTART;VALUE=DATE:20240522
DTEND;VALUE=DATE:20240523
DTSTAMP:20260425T112252
CREATED:20230801T195300Z
LAST-MODIFIED:20230801T195300Z
UID:6798-1716336000-1716422399@stchristina.org
SUMMARY:Enrichment
DESCRIPTION:
URL:https://stchristina.org/event/enrichment-29/
END:VEVENT
BEGIN:VEVENT
DTSTART;VALUE=DATE:20240522
DTEND;VALUE=DATE:20240523
DTSTAMP:20260425T112252
CREATED:20230801T195238Z
LAST-MODIFIED:20230801T195238Z
UID:6796-1716336000-1716422399@stchristina.org
SUMMARY:8:10am Mass
DESCRIPTION:
URL:https://stchristina.org/event/810am-mass-26/
END:VEVENT
BEGIN:VEVENT
DTSTART;VALUE=DATE:20240520
DTEND;VALUE=DATE:20240521
DTSTAMP:20260425T112252
CREATED:20230801T195212Z
LAST-MODIFIED:20230801T195212Z
UID:6794-1716163200-1716249599@stchristina.org
SUMMARY:SCAA Mtg.\, 7:30pm
DESCRIPTION:
URL:https://stchristina.org/event/scaa-mtg-730pm-10/
END:VEVENT
BEGIN:VEVENT
DTSTART;VALUE=DATE:20240516
DTEND;VALUE=DATE:20240517
DTSTAMP:20260425T112252
CREATED:20230801T195137Z
LAST-MODIFIED:20230801T195137Z
UID:6792-1715817600-1715903999@stchristina.org
SUMMARY:Hot Lunch Calabria Mostaccioli
DESCRIPTION:
URL:https://stchristina.org/event/hot-lunch-calabria-mostaccioli-8/
END:VEVENT
BEGIN:VEVENT
DTSTART;VALUE=DATE:20240515
DTEND;VALUE=DATE:20240516
DTSTAMP:20260425T112252
CREATED:20230801T195102Z
LAST-MODIFIED:20230801T195102Z
UID:6790-1715731200-1715817599@stchristina.org
SUMMARY:Enrichment
DESCRIPTION:
URL:https://stchristina.org/event/enrichment-28/
END:VEVENT
BEGIN:VEVENT
DTSTART;VALUE=DATE:20240515
DTEND;VALUE=DATE:20240516
DTSTAMP:20260425T112252
CREATED:20230801T195031Z
LAST-MODIFIED:20230801T195031Z
UID:6788-1715731200-1715817599@stchristina.org
SUMMARY:8:10 am Mass
DESCRIPTION:
URL:https://stchristina.org/event/810-am-mass/
END:VEVENT
BEGIN:VEVENT
DTSTART;VALUE=DATE:20240511
DTEND;VALUE=DATE:20240512
DTSTAMP:20260425T112252
CREATED:20230801T190451Z
LAST-MODIFIED:20230801T190451Z
UID:6784-1715385600-1715471999@stchristina.org
SUMMARY:FSA Mother/Daughter Event
DESCRIPTION:
URL:https://stchristina.org/event/fsa-mother-daughter-event-2/
END:VEVENT
BEGIN:VEVENT
DTSTART;VALUE=DATE:20240509
DTEND;VALUE=DATE:20240510
DTSTAMP:20260425T112252
CREATED:20230801T190410Z
LAST-MODIFIED:20230801T190410Z
UID:6782-1715212800-1715299199@stchristina.org
SUMMARY:Hot Lunch Barraco's Burger/Breadsticks
DESCRIPTION:
URL:https://stchristina.org/event/hot-lunch-barracos-burger-breadsticks-5/
END:VEVENT
BEGIN:VEVENT
DTSTART;VALUE=DATE:20240509
DTEND;VALUE=DATE:20240510
DTSTAMP:20260425T112252
CREATED:20230801T190321Z
LAST-MODIFIED:20240424T141546Z
UID:6780-1715212800-1715299199@stchristina.org
SUMMARY:Ribbon Mass and Feast of the Ascension 8:10am planned by 8th Grade
DESCRIPTION:
URL:https://stchristina.org/event/ribbon-mass-and-feast-of-the-assumption-810am-planned-by-8th-grade/
END:VEVENT
BEGIN:VEVENT
DTSTART;VALUE=DATE:20240508
DTEND;VALUE=DATE:20240509
DTSTAMP:20260425T112252
CREATED:20230801T190209Z
LAST-MODIFIED:20230801T190209Z
UID:6778-1715126400-1715212799@stchristina.org
SUMMARY:Enrichment
DESCRIPTION:
URL:https://stchristina.org/event/enrichment-27/
END:VEVENT
BEGIN:VEVENT
DTSTART;VALUE=DATE:20240507
DTEND;VALUE=DATE:20240508
DTSTAMP:20260425T112252
CREATED:20230801T190145Z
LAST-MODIFIED:20230801T190145Z
UID:6776-1715040000-1715126399@stchristina.org
SUMMARY:SAC Mtg.\, 7pm
DESCRIPTION:
URL:https://stchristina.org/event/sac-mtg-7pm-10/
END:VEVENT
BEGIN:VEVENT
DTSTART;TZID=UTC:20240506T080000
DTEND;TZID=UTC:20240510T170000
DTSTAMP:20260425T112252
CREATED:20230801T192253Z
LAST-MODIFIED:20230801T194935Z
UID:6786-1714982400-1715360400@stchristina.org
SUMMARY:iReady Diagnostic Testing
DESCRIPTION:
URL:https://stchristina.org/event/iready-diagnostic-testing-2/
END:VEVENT
BEGIN:VEVENT
DTSTART;VALUE=DATE:20240503
DTEND;VALUE=DATE:20240504
DTSTAMP:20260425T112252
CREATED:20230801T190109Z
LAST-MODIFIED:20230801T190109Z
UID:6774-1714694400-1714780799@stchristina.org
SUMMARY:Grandparent/Special Friend Day\, 1pm
DESCRIPTION:
URL:https://stchristina.org/event/grandparent-special-friend-day-1pm/
END:VEVENT
BEGIN:VEVENT
DTSTART;VALUE=DATE:20240502
DTEND;VALUE=DATE:20240503
DTSTAMP:20260425T112252
CREATED:20230801T185951Z
LAST-MODIFIED:20230801T185951Z
UID:6772-1714608000-1714694399@stchristina.org
SUMMARY:Pre-K New Family Meeting\, 6pm Church
DESCRIPTION:
URL:https://stchristina.org/event/pre-k-new-family-meeting-6pm-church/
END:VEVENT
BEGIN:VEVENT
DTSTART;VALUE=DATE:20240502
DTEND;VALUE=DATE:20240503
DTSTAMP:20260425T112252
CREATED:20230801T185855Z
LAST-MODIFIED:20230801T185855Z
UID:6770-1714608000-1714694399@stchristina.org
SUMMARY:Hot Lunch Calabria Nuggets
DESCRIPTION:
URL:https://stchristina.org/event/hot-lunch-calabria-nuggets-3/
END:VEVENT
BEGIN:VEVENT
DTSTART;VALUE=DATE:20240502
DTEND;VALUE=DATE:20240503
DTSTAMP:20260425T112252
CREATED:20230801T185812Z
LAST-MODIFIED:20230801T185812Z
UID:6768-1714608000-1714694399@stchristina.org
SUMMARY:Early Dismissal\, 1:45pm\, Teacher PD
DESCRIPTION:
URL:https://stchristina.org/event/early-dismissal-145pm-teacher-pd-5/
END:VEVENT
BEGIN:VEVENT
DTSTART;VALUE=DATE:20240501
DTEND;VALUE=DATE:20240502
DTSTAMP:20260425T112252
CREATED:20230801T185415Z
LAST-MODIFIED:20230801T185535Z
UID:6766-1714521600-1714607999@stchristina.org
SUMMARY:Enrichment
DESCRIPTION:
URL:https://stchristina.org/event/enrichment-26/
END:VEVENT
BEGIN:VEVENT
DTSTART;VALUE=DATE:20240501
DTEND;VALUE=DATE:20240502
DTSTAMP:20260425T112252
CREATED:20230801T185352Z
LAST-MODIFIED:20230801T185352Z
UID:6764-1714521600-1714607999@stchristina.org
SUMMARY:May Crowning 8:10am Mass planned by 8th Grade
DESCRIPTION:
URL:https://stchristina.org/event/may-crowning-810am-mass-planned-by-8th-grade/
END:VEVENT
BEGIN:VEVENT
DTSTART;VALUE=DATE:20240426
DTEND;VALUE=DATE:20240427
DTSTAMP:20260425T112252
CREATED:20230801T184816Z
LAST-MODIFIED:20230801T184816Z
UID:6762-1714089600-1714175999@stchristina.org
SUMMARY:No School Faculty PD
DESCRIPTION:
URL:https://stchristina.org/event/no-school-faculty-pd-3/
END:VEVENT
END:VCALENDAR