BEGIN:VCALENDAR
VERSION:2.0
PRODID:-//St. Christina Catholic School - ECPv6.15.20//NONSGML v1.0//EN
CALSCALE:GREGORIAN
METHOD:PUBLISH
X-WR-CALNAME:St. Christina Catholic School
X-ORIGINAL-URL:https://stchristina.org
X-WR-CALDESC:Events for St. Christina Catholic School
REFRESH-INTERVAL;VALUE=DURATION:PT1H
X-Robots-Tag:noindex
X-PUBLISHED-TTL:PT1H
BEGIN:VTIMEZONE
TZID:UTC
BEGIN:STANDARD
TZOFFSETFROM:+0000
TZOFFSETTO:+0000
TZNAME:UTC
DTSTART:20240101T000000
END:STANDARD
END:VTIMEZONE
BEGIN:VEVENT
DTSTART;VALUE=DATE:20250914
DTEND;VALUE=DATE:20250915
DTSTAMP:20260424T034819
CREATED:20250908T203504Z
LAST-MODIFIED:20250908T203504Z
UID:8825-1757808000-1757894399@stchristina.org
SUMMARY:10:30am Mass of Enrollment for 8th Grade Confirmation Candidates
DESCRIPTION:
URL:https://stchristina.org/event/1030am-mass-of-enrollment-for-8th-grade-confirmation-candidates/
END:VEVENT
BEGIN:VEVENT
DTSTART;TZID=UTC:20250915T080000
DTEND;TZID=UTC:20250916T100000
DTSTAMP:20260424T034819
CREATED:20250908T203812Z
LAST-MODIFIED:20250908T203812Z
UID:8832-1757923200-1758016800@stchristina.org
SUMMARY:i-Ready Diagnostic Testing
DESCRIPTION:
URL:https://stchristina.org/event/i-ready-diagnostic-testing-4/
END:VEVENT
BEGIN:VEVENT
DTSTART;VALUE=DATE:20250917
DTEND;VALUE=DATE:20250918
DTSTAMP:20260424T034819
CREATED:20250908T203539Z
LAST-MODIFIED:20250908T203712Z
UID:8827-1758067200-1758153599@stchristina.org
SUMMARY:8:10am Mass
DESCRIPTION:
URL:https://stchristina.org/event/i-ready-diagnostic-testing-3/
END:VEVENT
BEGIN:VEVENT
DTSTART;VALUE=DATE:20250918
DTEND;VALUE=DATE:20250919
DTSTAMP:20260424T034819
CREATED:20250910T235418Z
LAST-MODIFIED:20250910T235418Z
UID:9609-1758153600-1758239999@stchristina.org
SUMMARY:In-School Service Project (Lower Wacker Lunches)
DESCRIPTION:
URL:https://stchristina.org/event/in-school-service-project-lower-wacker-lunches/
END:VEVENT
BEGIN:VEVENT
DTSTART;VALUE=DATE:20250921
DTEND;VALUE=DATE:20250922
DTSTAMP:20260424T034819
CREATED:20250910T235459Z
LAST-MODIFIED:20250910T235459Z
UID:9611-1758412800-1758499199@stchristina.org
SUMMARY:10:30am Mass\, Catechetical Sunday
DESCRIPTION:
URL:https://stchristina.org/event/1030am-mass-catechetical-sunday/
END:VEVENT
BEGIN:VEVENT
DTSTART;VALUE=DATE:20250922
DTEND;VALUE=DATE:20250923
DTSTAMP:20260424T034819
CREATED:20250910T235558Z
LAST-MODIFIED:20250910T235558Z
UID:9613-1758499200-1758585599@stchristina.org
SUMMARY:SCAA Meeting
DESCRIPTION:
URL:https://stchristina.org/event/scaa-meeting-20/
END:VEVENT
BEGIN:VEVENT
DTSTART;VALUE=DATE:20250924
DTEND;VALUE=DATE:20250925
DTSTAMP:20260424T034819
CREATED:20250908T203641Z
LAST-MODIFIED:20250908T203641Z
UID:8830-1758672000-1758758399@stchristina.org
SUMMARY:8:10am Mass
DESCRIPTION:
URL:https://stchristina.org/event/810am-mass-47/
END:VEVENT
BEGIN:VEVENT
DTSTART;VALUE=DATE:20250925
DTEND;VALUE=DATE:20250926
DTSTAMP:20260424T034819
CREATED:20250912T042440Z
LAST-MODIFIED:20250912T042440Z
UID:9699-1758758400-1758844799@stchristina.org
SUMMARY:All School Assembly
DESCRIPTION:
URL:https://stchristina.org/event/all-school-assembly/
END:VEVENT
BEGIN:VEVENT
DTSTART;VALUE=DATE:20250926
DTEND;VALUE=DATE:20250927
DTSTAMP:20260424T034819
CREATED:20250908T203854Z
LAST-MODIFIED:20250908T203854Z
UID:8834-1758844800-1758931199@stchristina.org
SUMMARY:No School (Faculty PD)
DESCRIPTION:
URL:https://stchristina.org/event/no-school-faculty-pd-7/
END:VEVENT
BEGIN:VEVENT
DTSTART;VALUE=DATE:20251001
DTEND;VALUE=DATE:20251002
DTSTAMP:20260424T034819
CREATED:20250908T204653Z
LAST-MODIFIED:20250908T204653Z
UID:8836-1759276800-1759363199@stchristina.org
SUMMARY:8:10am Mass (planned by 5th Grade)
DESCRIPTION:
URL:https://stchristina.org/event/810am-mass-planned-by-5th-grade-3/
END:VEVENT
BEGIN:VEVENT
DTSTART;VALUE=DATE:20251001
DTEND;VALUE=DATE:20251002
DTSTAMP:20260424T034819
CREATED:20250908T204708Z
LAST-MODIFIED:20250908T204732Z
UID:8838-1759276800-1759363199@stchristina.org
SUMMARY:Enrichment Begins
DESCRIPTION:
URL:https://stchristina.org/event/enrichment-begins-2/
END:VEVENT
BEGIN:VEVENT
DTSTART;VALUE=DATE:20251002
DTEND;VALUE=DATE:20251003
DTSTAMP:20260424T034819
CREATED:20250908T204806Z
LAST-MODIFIED:20250908T204806Z
UID:8840-1759363200-1759449599@stchristina.org
SUMMARY:Hot Lunch (Calabria Nuggets/Chips)
DESCRIPTION:
URL:https://stchristina.org/event/hot-lunch-calabria-nuggets-chips-7/
END:VEVENT
BEGIN:VEVENT
DTSTART;VALUE=DATE:20251002
DTEND;VALUE=DATE:20251003
DTSTAMP:20260424T034819
CREATED:20250908T204836Z
LAST-MODIFIED:20250908T204836Z
UID:8842-1759363200-1759449599@stchristina.org
SUMMARY:1:45 Dismissal (Faculty PD)
DESCRIPTION:
URL:https://stchristina.org/event/145-dismissal-faculty-pd-3/
END:VEVENT
BEGIN:VEVENT
DTSTART;VALUE=DATE:20251007
DTEND;VALUE=DATE:20251008
DTSTAMP:20260424T034819
CREATED:20250908T204900Z
LAST-MODIFIED:20250908T204900Z
UID:8844-1759795200-1759881599@stchristina.org
SUMMARY:SAC Meeting
DESCRIPTION:
URL:https://stchristina.org/event/sac-meeting-12/
END:VEVENT
BEGIN:VEVENT
DTSTART;VALUE=DATE:20251008
DTEND;VALUE=DATE:20251009
DTSTAMP:20260424T034819
CREATED:20250908T204944Z
LAST-MODIFIED:20250908T204944Z
UID:8846-1759881600-1759967999@stchristina.org
SUMMARY:8:10am Rosary Prayer Service
DESCRIPTION:
URL:https://stchristina.org/event/810am-rosary-prayer-service/
END:VEVENT
BEGIN:VEVENT
DTSTART;VALUE=DATE:20251008
DTEND;VALUE=DATE:20251009
DTSTAMP:20260424T034819
CREATED:20250908T205004Z
LAST-MODIFIED:20250908T205004Z
UID:8848-1759881600-1759967999@stchristina.org
SUMMARY:Enrichment
DESCRIPTION:
URL:https://stchristina.org/event/enrichment-53/
END:VEVENT
BEGIN:VEVENT
DTSTART;VALUE=DATE:20251009
DTEND;VALUE=DATE:20251010
DTSTAMP:20260424T034819
CREATED:20250908T205053Z
LAST-MODIFIED:20250908T205053Z
UID:8850-1759968000-1760054399@stchristina.org
SUMMARY:11:30am Dismissal for Parent/Teacher Conferences (12pm-6pm)
DESCRIPTION:
URL:https://stchristina.org/event/1130am-dismissal-for-parent-teacher-conferences-12pm-6pm/
END:VEVENT
BEGIN:VEVENT
DTSTART;VALUE=DATE:20251009
DTEND;VALUE=DATE:20251010
DTSTAMP:20260424T034819
CREATED:20250908T205135Z
LAST-MODIFIED:20250908T205223Z
UID:8852-1759968000-1760054399@stchristina.org
SUMMARY:No Hot Lunch
DESCRIPTION:
URL:https://stchristina.org/event/no-hot-lunch-no-extended-care/
END:VEVENT
BEGIN:VEVENT
DTSTART;VALUE=DATE:20251009
DTEND;VALUE=DATE:20251010
DTSTAMP:20260424T034819
CREATED:20250908T205248Z
LAST-MODIFIED:20250908T205248Z
UID:8855-1759968000-1760054399@stchristina.org
SUMMARY:No Extended Care
DESCRIPTION:
URL:https://stchristina.org/event/no-extended-care-23/
END:VEVENT
BEGIN:VEVENT
DTSTART;VALUE=DATE:20251010
DTEND;VALUE=DATE:20251011
DTSTAMP:20260424T034819
CREATED:20250908T205534Z
LAST-MODIFIED:20250908T205534Z
UID:8857-1760054400-1760140799@stchristina.org
SUMMARY:No School
DESCRIPTION:
URL:https://stchristina.org/event/no-school-15/
END:VEVENT
BEGIN:VEVENT
DTSTART;VALUE=DATE:20251013
DTEND;VALUE=DATE:20251014
DTSTAMP:20260424T034819
CREATED:20250908T205557Z
LAST-MODIFIED:20250908T205557Z
UID:8859-1760313600-1760399999@stchristina.org
SUMMARY:No School (Columbus Day)
DESCRIPTION:
URL:https://stchristina.org/event/no-school-columbus-day-3/
END:VEVENT
BEGIN:VEVENT
DTSTART;VALUE=DATE:20251015
DTEND;VALUE=DATE:20251016
DTSTAMP:20260424T034819
CREATED:20250908T205622Z
LAST-MODIFIED:20250908T205622Z
UID:8861-1760486400-1760572799@stchristina.org
SUMMARY:8:10am Mass
DESCRIPTION:
URL:https://stchristina.org/event/810am-mass-48/
END:VEVENT
BEGIN:VEVENT
DTSTART;VALUE=DATE:20251015
DTEND;VALUE=DATE:20251016
DTSTAMP:20260424T034819
CREATED:20250908T205640Z
LAST-MODIFIED:20250908T205640Z
UID:8863-1760486400-1760572799@stchristina.org
SUMMARY:Enrichment
DESCRIPTION:
URL:https://stchristina.org/event/enrichment-57/
END:VEVENT
BEGIN:VEVENT
DTSTART;VALUE=DATE:20251015
DTEND;VALUE=DATE:20251016
DTSTAMP:20260424T034819
CREATED:20250923T223210Z
LAST-MODIFIED:20250923T223345Z
UID:9790-1760486400-1760572799@stchristina.org
SUMMARY:Smart Families Parent Meeting 6pm\, Church
DESCRIPTION:
URL:https://stchristina.org/event/smart-families-parent-meeting-6pm-church/
END:VEVENT
BEGIN:VEVENT
DTSTART;VALUE=DATE:20251016
DTEND;VALUE=DATE:20251017
DTSTAMP:20260424T034819
CREATED:20250908T205836Z
LAST-MODIFIED:20250908T205836Z
UID:8865-1760572800-1760659199@stchristina.org
SUMMARY:Hot Lunch (Mostaccioli)
DESCRIPTION:
URL:https://stchristina.org/event/hot-lunch-mostaccioli/
END:VEVENT
BEGIN:VEVENT
DTSTART;VALUE=DATE:20251017
DTEND;VALUE=DATE:20251018
DTSTAMP:20260424T034819
CREATED:20250908T205855Z
LAST-MODIFIED:20250908T205855Z
UID:8867-1760659200-1760745599@stchristina.org
SUMMARY:Picture Retake Day
DESCRIPTION:
URL:https://stchristina.org/event/picture-retake-day-6/
END:VEVENT
BEGIN:VEVENT
DTSTART;VALUE=DATE:20251017
DTEND;VALUE=DATE:20251018
DTSTAMP:20260424T034819
CREATED:20250923T223531Z
LAST-MODIFIED:20250923T223742Z
UID:9792-1760659200-1760745599@stchristina.org
SUMMARY:1:45pm Early Dismissal
DESCRIPTION:Smart Training for Faculty + Staff
URL:https://stchristina.org/event/145pm-early-dismissal/
END:VEVENT
BEGIN:VEVENT
DTSTART;VALUE=DATE:20251020
DTEND;VALUE=DATE:20251021
DTSTAMP:20260424T034819
CREATED:20250908T205920Z
LAST-MODIFIED:20250908T205920Z
UID:8869-1760918400-1761004799@stchristina.org
SUMMARY:SCAA Meeting
DESCRIPTION:
URL:https://stchristina.org/event/scaa-meeting-12/
END:VEVENT
BEGIN:VEVENT
DTSTART;VALUE=DATE:20251022
DTEND;VALUE=DATE:20251023
DTSTAMP:20260424T034819
CREATED:20250908T210003Z
LAST-MODIFIED:20250908T210003Z
UID:8871-1761091200-1761177599@stchristina.org
SUMMARY:8:10am Mass
DESCRIPTION:
URL:https://stchristina.org/event/810am-mass-49/
END:VEVENT
BEGIN:VEVENT
DTSTART;VALUE=DATE:20251022
DTEND;VALUE=DATE:20251023
DTSTAMP:20260424T034819
CREATED:20250908T210018Z
LAST-MODIFIED:20250908T210018Z
UID:8873-1761091200-1761177599@stchristina.org
SUMMARY:Enrichment
DESCRIPTION:
URL:https://stchristina.org/event/enrichment-58/
END:VEVENT
END:VCALENDAR