BEGIN:VCALENDAR
VERSION:2.0
PRODID:-//St. Christina Catholic School - ECPv6.15.20//NONSGML v1.0//EN
CALSCALE:GREGORIAN
METHOD:PUBLISH
X-WR-CALNAME:St. Christina Catholic School
X-ORIGINAL-URL:https://stchristina.org
X-WR-CALDESC:Events for St. Christina Catholic School
REFRESH-INTERVAL;VALUE=DURATION:PT1H
X-Robots-Tag:noindex
X-PUBLISHED-TTL:PT1H
BEGIN:VTIMEZONE
TZID:UTC
BEGIN:STANDARD
TZOFFSETFROM:+0000
TZOFFSETTO:+0000
TZNAME:UTC
DTSTART:20250101T000000
END:STANDARD
END:VTIMEZONE
BEGIN:VEVENT
DTSTART;VALUE=DATE:20260423
DTEND;VALUE=DATE:20260424
DTSTAMP:20260423T184728
CREATED:20250909T025320Z
LAST-MODIFIED:20250909T025320Z
UID:9156-1776902400-1776988799@stchristina.org
SUMMARY:Hot Lunch (Home Run Inn Pizza)
DESCRIPTION:
URL:https://stchristina.org/event/hot-lunch-home-run-inn-pizza-13/
END:VEVENT
BEGIN:VEVENT
DTSTART;VALUE=DATE:20260422
DTEND;VALUE=DATE:20260423
DTSTAMP:20260423T184728
CREATED:20260401T170004Z
LAST-MODIFIED:20260401T170004Z
UID:10030-1776816000-1776902399@stchristina.org
SUMMARY:Jr. High Springfield Trip
DESCRIPTION:
URL:https://stchristina.org/event/jr-high-springfield-trip/
END:VEVENT
BEGIN:VEVENT
DTSTART;VALUE=DATE:20260422
DTEND;VALUE=DATE:20260423
DTSTAMP:20260423T184728
CREATED:20250909T025249Z
LAST-MODIFIED:20250909T025249Z
UID:9154-1776816000-1776902399@stchristina.org
SUMMARY:Enrichment
DESCRIPTION:
URL:https://stchristina.org/event/enrichment-76/
END:VEVENT
BEGIN:VEVENT
DTSTART;VALUE=DATE:20260422
DTEND;VALUE=DATE:20260423
DTSTAMP:20260423T184728
CREATED:20250909T025147Z
LAST-MODIFIED:20260323T170852Z
UID:9152-1776816000-1776902399@stchristina.org
SUMMARY:8:10am Mass
DESCRIPTION:
URL:https://stchristina.org/event/810am-mass-planned-by-7th-grade/
END:VEVENT
BEGIN:VEVENT
DTSTART;VALUE=DATE:20260421
DTEND;VALUE=DATE:20260422
DTSTAMP:20260423T184728
CREATED:20260401T165937Z
LAST-MODIFIED:20260401T165937Z
UID:10028-1776729600-1776815999@stchristina.org
SUMMARY:7th + 8th Grade Science Fair
DESCRIPTION:
URL:https://stchristina.org/event/7th-8th-grade-science-fair/
END:VEVENT
BEGIN:VEVENT
DTSTART;VALUE=DATE:20260420
DTEND;VALUE=DATE:20260421
DTSTAMP:20260423T184728
CREATED:20250909T025031Z
LAST-MODIFIED:20250909T025031Z
UID:9150-1776643200-1776729599@stchristina.org
SUMMARY:SCAA Meeting
DESCRIPTION:
URL:https://stchristina.org/event/scaa-meeting-17/
END:VEVENT
BEGIN:VEVENT
DTSTART;VALUE=DATE:20260416
DTEND;VALUE=DATE:20260417
DTSTAMP:20260423T184728
CREATED:20250909T025005Z
LAST-MODIFIED:20250909T025005Z
UID:9148-1776297600-1776383999@stchristina.org
SUMMARY:Hot Lunch (Calabria  Mostaccioli)
DESCRIPTION:
URL:https://stchristina.org/event/hot-lunch-calabria-mostaccioli-21/
END:VEVENT
BEGIN:VEVENT
DTSTART;VALUE=DATE:20260415
DTEND;VALUE=DATE:20260416
DTSTAMP:20260423T184728
CREATED:20260303T223223Z
LAST-MODIFIED:20260303T223223Z
UID:10010-1776211200-1776297599@stchristina.org
SUMMARY:SmartFamilies Family Code Night\, 6:15\, School Gym
DESCRIPTION:
URL:https://stchristina.org/event/smartfamilies-family-code-night-615-school-gym/
END:VEVENT
BEGIN:VEVENT
DTSTART;VALUE=DATE:20260415
DTEND;VALUE=DATE:20260416
DTSTAMP:20260423T184728
CREATED:20260116T180821Z
LAST-MODIFIED:20260116T180821Z
UID:9959-1776211200-1776297599@stchristina.org
SUMMARY:Family Code Workshop for parents and students in the Gym/Parish Center\, 6:15-7:45pm
DESCRIPTION:
URL:https://stchristina.org/event/family-code-workshop-for-parents-and-students-in-the-gym-parish-center-615-745pm/
END:VEVENT
BEGIN:VEVENT
DTSTART;VALUE=DATE:20260415
DTEND;VALUE=DATE:20260416
DTSTAMP:20260423T184728
CREATED:20250909T024925Z
LAST-MODIFIED:20250909T024925Z
UID:9146-1776211200-1776297599@stchristina.org
SUMMARY:No Enrichment
DESCRIPTION:
URL:https://stchristina.org/event/no-enrichment-4/
END:VEVENT
BEGIN:VEVENT
DTSTART;VALUE=DATE:20260415
DTEND;VALUE=DATE:20260416
DTSTAMP:20260423T184728
CREATED:20250909T024856Z
LAST-MODIFIED:20250909T024856Z
UID:9144-1776211200-1776297599@stchristina.org
SUMMARY:8:10am Mass
DESCRIPTION:
URL:https://stchristina.org/event/810am-mass-62/
END:VEVENT
BEGIN:VEVENT
DTSTART;VALUE=DATE:20260413
DTEND;VALUE=DATE:20260414
DTSTAMP:20260423T184728
CREATED:20250909T024738Z
LAST-MODIFIED:20250909T024738Z
UID:9140-1776038400-1776124799@stchristina.org
SUMMARY:Classes Resume
DESCRIPTION:
URL:https://stchristina.org/event/classes-resume-16/
END:VEVENT
BEGIN:VEVENT
DTSTART;VALUE=DATE:20260411
DTEND;VALUE=DATE:20260412
DTSTAMP:20260423T184728
CREATED:20250909T024708Z
LAST-MODIFIED:20250909T024708Z
UID:9138-1775865600-1775951999@stchristina.org
SUMMARY:St. Christina Parish 100 Year Celebration Kick Off
DESCRIPTION:
URL:https://stchristina.org/event/st-christina-parish-100-year-celebration-kick-off/
END:VEVENT
BEGIN:VEVENT
DTSTART;TZID=UTC:20260403T080000
DTEND;TZID=UTC:20260410T170000
DTSTAMP:20260423T184728
CREATED:20250909T024552Z
LAST-MODIFIED:20250909T024552Z
UID:9136-1775203200-1775840400@stchristina.org
SUMMARY:Easter Break
DESCRIPTION:
URL:https://stchristina.org/event/easter-break-7/
END:VEVENT
BEGIN:VEVENT
DTSTART;VALUE=DATE:20260403
DTEND;VALUE=DATE:20260404
DTSTAMP:20260423T184728
CREATED:20250909T024516Z
LAST-MODIFIED:20250909T024516Z
UID:9134-1775174400-1775260799@stchristina.org
SUMMARY:No School
DESCRIPTION:
URL:https://stchristina.org/event/no-school-17/
END:VEVENT
BEGIN:VEVENT
DTSTART;VALUE=DATE:20260403
DTEND;VALUE=DATE:20260404
DTSTAMP:20260423T184728
CREATED:20250909T024444Z
LAST-MODIFIED:20250909T024444Z
UID:9132-1775174400-1775260799@stchristina.org
SUMMARY:Good Friday
DESCRIPTION:
URL:https://stchristina.org/event/good-friday-3/
END:VEVENT
BEGIN:VEVENT
DTSTART;VALUE=DATE:20260402
DTEND;VALUE=DATE:20260403
DTSTAMP:20260423T184728
CREATED:20250909T024352Z
LAST-MODIFIED:20250909T024352Z
UID:9130-1775088000-1775174399@stchristina.org
SUMMARY:No Extended Care
DESCRIPTION:
URL:https://stchristina.org/event/no-extended-care-27/
END:VEVENT
BEGIN:VEVENT
DTSTART;VALUE=DATE:20260402
DTEND;VALUE=DATE:20260403
DTSTAMP:20260423T184728
CREATED:20250909T024327Z
LAST-MODIFIED:20250909T024327Z
UID:9128-1775088000-1775174399@stchristina.org
SUMMARY:11:30am Dismissal
DESCRIPTION:
URL:https://stchristina.org/event/1130am-dismissal-5/
END:VEVENT
BEGIN:VEVENT
DTSTART;VALUE=DATE:20260402
DTEND;VALUE=DATE:20260403
DTSTAMP:20260423T184728
CREATED:20250909T024259Z
LAST-MODIFIED:20250909T024259Z
UID:9126-1775088000-1775174399@stchristina.org
SUMMARY:Holy Thursday Prayer Service
DESCRIPTION:
URL:https://stchristina.org/event/holy-thursday-prayer-service-2/
END:VEVENT
BEGIN:VEVENT
DTSTART;VALUE=DATE:20260401
DTEND;VALUE=DATE:20260402
DTSTAMP:20260423T184728
CREATED:20250909T024216Z
LAST-MODIFIED:20250909T024216Z
UID:9124-1775001600-1775087999@stchristina.org
SUMMARY:No Enrichment
DESCRIPTION:
URL:https://stchristina.org/event/no-enrichment-3/
END:VEVENT
BEGIN:VEVENT
DTSTART;VALUE=DATE:20260331
DTEND;VALUE=DATE:20260401
DTSTAMP:20260423T184728
CREATED:20260116T180714Z
LAST-MODIFIED:20260116T180714Z
UID:9957-1774915200-1775001599@stchristina.org
SUMMARY:Smart Families Follow Me student presentations (during the school day for students)
DESCRIPTION:
URL:https://stchristina.org/event/smart-families-follow-me-student-presentations-during-the-school-day-for-students/
END:VEVENT
BEGIN:VEVENT
DTSTART;VALUE=DATE:20260329
DTEND;VALUE=DATE:20260330
DTSTAMP:20260423T184728
CREATED:20250909T023512Z
LAST-MODIFIED:20250909T023512Z
UID:9122-1774742400-1774828799@stchristina.org
SUMMARY:Palm Sunday
DESCRIPTION:
URL:https://stchristina.org/event/palm-sunday-2/
END:VEVENT
BEGIN:VEVENT
DTSTART;VALUE=DATE:20260327
DTEND;VALUE=DATE:20260328
DTSTAMP:20260423T184728
CREATED:20250909T023447Z
LAST-MODIFIED:20250909T023447Z
UID:9120-1774569600-1774655999@stchristina.org
SUMMARY:Boosterthon Fun Run
DESCRIPTION:
URL:https://stchristina.org/event/boosterthon-fun-run-5/
END:VEVENT
BEGIN:VEVENT
DTSTART;VALUE=DATE:20260326
DTEND;VALUE=DATE:20260327
DTSTAMP:20260423T184728
CREATED:20250909T023418Z
LAST-MODIFIED:20250909T023418Z
UID:9117-1774483200-1774569599@stchristina.org
SUMMARY:Hot Lunch (Home Run Inn Pizza)
DESCRIPTION:
URL:https://stchristina.org/event/hot-lunch-home-run-inn-pizza-12/
END:VEVENT
BEGIN:VEVENT
DTSTART;VALUE=DATE:20260326
DTEND;VALUE=DATE:20260327
DTSTAMP:20260423T184728
CREATED:20240717T032009Z
LAST-MODIFIED:20260306T001144Z
UID:7458-1774483200-1774569599@stchristina.org
SUMMARY:Communion Retreat (in school)
DESCRIPTION:
URL:https://stchristina.org/event/communion-retreat-in-school/
END:VEVENT
BEGIN:VEVENT
DTSTART;VALUE=DATE:20260325
DTEND;VALUE=DATE:20260326
DTSTAMP:20260423T184728
CREATED:20250909T023300Z
LAST-MODIFIED:20250909T023300Z
UID:9115-1774396800-1774483199@stchristina.org
SUMMARY:Enrichment
DESCRIPTION:
URL:https://stchristina.org/event/enrichment-75/
END:VEVENT
BEGIN:VEVENT
DTSTART;VALUE=DATE:20260325
DTEND;VALUE=DATE:20260326
DTSTAMP:20260423T184728
CREATED:20250909T023040Z
LAST-MODIFIED:20250909T023040Z
UID:9112-1774396800-1774483199@stchristina.org
SUMMARY:8:10am Mass
DESCRIPTION:
URL:https://stchristina.org/event/810am-mass-61/
END:VEVENT
BEGIN:VEVENT
DTSTART;VALUE=DATE:20260320
DTEND;VALUE=DATE:20260321
DTSTAMP:20260423T184728
CREATED:20250909T022537Z
LAST-MODIFIED:20250909T022537Z
UID:9105-1773964800-1774051199@stchristina.org
SUMMARY:Stations of the Cross
DESCRIPTION:
URL:https://stchristina.org/event/stations-of-the-cross-9/
END:VEVENT
BEGIN:VEVENT
DTSTART;VALUE=DATE:20260319
DTEND;VALUE=DATE:20260320
DTSTAMP:20260423T184728
CREATED:20250909T022510Z
LAST-MODIFIED:20250909T022510Z
UID:9103-1773878400-1773964799@stchristina.org
SUMMARY:Hot Lunch (Calabria  Mostaccioli)
DESCRIPTION:
URL:https://stchristina.org/event/hot-lunch-calabria-mostaccioli-20/
END:VEVENT
BEGIN:VEVENT
DTSTART;VALUE=DATE:20260318
DTEND;VALUE=DATE:20260319
DTSTAMP:20260423T184728
CREATED:20250909T022444Z
LAST-MODIFIED:20250909T022444Z
UID:9101-1773792000-1773878399@stchristina.org
SUMMARY:Boosterthon Kick-Off
DESCRIPTION:
URL:https://stchristina.org/event/boosterthon-kick-off-3/
END:VEVENT
END:VCALENDAR