BEGIN:VCALENDAR
VERSION:2.0
PRODID:-//St. Christina Catholic School - ECPv6.15.20//NONSGML v1.0//EN
CALSCALE:GREGORIAN
METHOD:PUBLISH
X-WR-CALNAME:St. Christina Catholic School
X-ORIGINAL-URL:https://stchristina.org
X-WR-CALDESC:Events for St. Christina Catholic School
REFRESH-INTERVAL;VALUE=DURATION:PT1H
X-Robots-Tag:noindex
X-PUBLISHED-TTL:PT1H
BEGIN:VTIMEZONE
TZID:UTC
BEGIN:STANDARD
TZOFFSETFROM:+0000
TZOFFSETTO:+0000
TZNAME:UTC
DTSTART:20240101T000000
END:STANDARD
END:VTIMEZONE
BEGIN:VEVENT
DTSTART;VALUE=DATE:20260108
DTEND;VALUE=DATE:20260109
DTSTAMP:20260424T001005
CREATED:20250909T014604Z
LAST-MODIFIED:20251219T023824Z
UID:8985-1767830400-1767916799@stchristina.org
SUMMARY:6:30pm Confirmation Retreat for 8th Grade Confirmation Candidates
DESCRIPTION:
URL:https://stchristina.org/event/5pm-confirmation-retreat-for-8th-grade-confirmation-candidates/
END:VEVENT
BEGIN:VEVENT
DTSTART;VALUE=DATE:20260108
DTEND;VALUE=DATE:20260109
DTSTAMP:20260424T001005
CREATED:20250909T014512Z
LAST-MODIFIED:20250909T014512Z
UID:8983-1767830400-1767916799@stchristina.org
SUMMARY:1:45pm Dismissal (Faculty PD)
DESCRIPTION:
URL:https://stchristina.org/event/145pm-dismissal-faculty-pd-6/
END:VEVENT
BEGIN:VEVENT
DTSTART;VALUE=DATE:20260108
DTEND;VALUE=DATE:20260109
DTSTAMP:20260424T001005
CREATED:20250909T014439Z
LAST-MODIFIED:20250909T014439Z
UID:8981-1767830400-1767916799@stchristina.org
SUMMARY:Hot Lunch (Barraco’s Burger/Breadsticks)
DESCRIPTION:
URL:https://stchristina.org/event/hot-lunch-barracos-burger-breadsticks-14/
END:VEVENT
BEGIN:VEVENT
DTSTART;VALUE=DATE:20260107
DTEND;VALUE=DATE:20260108
DTSTAMP:20260424T001005
CREATED:20250909T014408Z
LAST-MODIFIED:20250909T014408Z
UID:8979-1767744000-1767830399@stchristina.org
SUMMARY:No Enrichment
DESCRIPTION:
URL:https://stchristina.org/event/no-enrichment-2/
END:VEVENT
BEGIN:VEVENT
DTSTART;VALUE=DATE:20260107
DTEND;VALUE=DATE:20260108
DTSTAMP:20260424T001005
CREATED:20250909T014347Z
LAST-MODIFIED:20250909T014347Z
UID:8977-1767744000-1767830399@stchristina.org
SUMMARY:8:10am Mass
DESCRIPTION:
URL:https://stchristina.org/event/810am-mass-54/
END:VEVENT
BEGIN:VEVENT
DTSTART;VALUE=DATE:20260106
DTEND;VALUE=DATE:20260107
DTSTAMP:20260424T001005
CREATED:20250909T014235Z
LAST-MODIFIED:20250909T014235Z
UID:8975-1767657600-1767743999@stchristina.org
SUMMARY:SAC Meeting
DESCRIPTION:
URL:https://stchristina.org/event/sac-meeting-16/
END:VEVENT
BEGIN:VEVENT
DTSTART;VALUE=DATE:20260105
DTEND;VALUE=DATE:20260106
DTSTAMP:20260424T001005
CREATED:20250909T014153Z
LAST-MODIFIED:20250909T014153Z
UID:8973-1767571200-1767657599@stchristina.org
SUMMARY:Classes Resume
DESCRIPTION:
URL:https://stchristina.org/event/classes-resume-15/
END:VEVENT
BEGIN:VEVENT
DTSTART;TZID=UTC:20251222T080000
DTEND;TZID=UTC:20260102T170000
DTSTAMP:20260424T001005
CREATED:20250909T014121Z
LAST-MODIFIED:20250909T014121Z
UID:8971-1766390400-1767373200@stchristina.org
SUMMARY:Christmas Break
DESCRIPTION:
URL:https://stchristina.org/event/christmas-break-6/
END:VEVENT
BEGIN:VEVENT
DTSTART;VALUE=DATE:20251219
DTEND;VALUE=DATE:20251220
DTSTAMP:20260424T001005
CREATED:20251112T151420Z
LAST-MODIFIED:20251112T151420Z
UID:9885-1766102400-1766188799@stchristina.org
SUMMARY:K-8 Christmas Program\, 10:15am in Church
DESCRIPTION:
URL:https://stchristina.org/event/k-8-christmas-program-1015am-in-church/
END:VEVENT
BEGIN:VEVENT
DTSTART;VALUE=DATE:20251219
DTEND;VALUE=DATE:20251220
DTSTAMP:20260424T001005
CREATED:20250909T014020Z
LAST-MODIFIED:20250909T014020Z
UID:8969-1766102400-1766188799@stchristina.org
SUMMARY:No Extended Care
DESCRIPTION:
URL:https://stchristina.org/event/no-extended-care-25/
END:VEVENT
BEGIN:VEVENT
DTSTART;VALUE=DATE:20251219
DTEND;VALUE=DATE:20251220
DTSTAMP:20260424T001005
CREATED:20250909T013956Z
LAST-MODIFIED:20250909T013956Z
UID:8967-1766102400-1766188799@stchristina.org
SUMMARY:11:30am Dismissal
DESCRIPTION:
URL:https://stchristina.org/event/1130am-dismissal-3/
END:VEVENT
BEGIN:VEVENT
DTSTART;VALUE=DATE:20251219
DTEND;VALUE=DATE:20251220
DTSTAMP:20260424T001005
CREATED:20250909T013931Z
LAST-MODIFIED:20251112T151347Z
UID:8965-1766102400-1766188799@stchristina.org
SUMMARY:PreK Christmas Program\, 8:15am in Church
DESCRIPTION:
URL:https://stchristina.org/event/christmas-program-2/
END:VEVENT
BEGIN:VEVENT
DTSTART;VALUE=DATE:20251218
DTEND;VALUE=DATE:20251219
DTSTAMP:20260424T001005
CREATED:20250909T013908Z
LAST-MODIFIED:20250909T013908Z
UID:8963-1766016000-1766102399@stchristina.org
SUMMARY:School-wide Christmas Event
DESCRIPTION:
URL:https://stchristina.org/event/school-wide-christmas-event/
END:VEVENT
BEGIN:VEVENT
DTSTART;VALUE=DATE:20251218
DTEND;VALUE=DATE:20251219
DTSTAMP:20260424T001005
CREATED:20250909T013841Z
LAST-MODIFIED:20250909T013841Z
UID:8961-1766016000-1766102399@stchristina.org
SUMMARY:Hot Lunch (Calabria  Mostaccioli)
DESCRIPTION:
URL:https://stchristina.org/event/hot-lunch-calabria-mostaccioli-17/
END:VEVENT
BEGIN:VEVENT
DTSTART;VALUE=DATE:20251217
DTEND;VALUE=DATE:20251218
DTSTAMP:20260424T001005
CREATED:20250909T013630Z
LAST-MODIFIED:20250909T013630Z
UID:8957-1765929600-1766015999@stchristina.org
SUMMARY:Enrichment
DESCRIPTION:
URL:https://stchristina.org/event/enrichment-64/
END:VEVENT
BEGIN:VEVENT
DTSTART;VALUE=DATE:20251217
DTEND;VALUE=DATE:20251218
DTSTAMP:20260424T001005
CREATED:20250909T013600Z
LAST-MODIFIED:20250909T013600Z
UID:8955-1765929600-1766015999@stchristina.org
SUMMARY:8:10am Mass (Planned by 6th Grade)
DESCRIPTION:
URL:https://stchristina.org/event/810am-mass-planned-by-6th-grade-3/
END:VEVENT
BEGIN:VEVENT
DTSTART;TZID=UTC:20251215T080000
DTEND;TZID=UTC:20251217T170000
DTSTAMP:20260424T001005
CREATED:20250909T013702Z
LAST-MODIFIED:20250909T013702Z
UID:8959-1765785600-1765990800@stchristina.org
SUMMARY:Santa’s Secret Workshop
DESCRIPTION:
URL:https://stchristina.org/event/santas-secret-workshop-3/
END:VEVENT
BEGIN:VEVENT
DTSTART;VALUE=DATE:20251215
DTEND;VALUE=DATE:20251216
DTSTAMP:20260424T001005
CREATED:20250909T013516Z
LAST-MODIFIED:20250909T013516Z
UID:8953-1765756800-1765843199@stchristina.org
SUMMARY:SAC Meeting
DESCRIPTION:
URL:https://stchristina.org/event/sac-meeting-15/
END:VEVENT
BEGIN:VEVENT
DTSTART;VALUE=DATE:20251211
DTEND;VALUE=DATE:20251212
DTSTAMP:20260424T001005
CREATED:20250909T013419Z
LAST-MODIFIED:20250909T013447Z
UID:8951-1765411200-1765497599@stchristina.org
SUMMARY:Hot Lunch (Barraco’s Burger/Breadsticks)
DESCRIPTION:
URL:https://stchristina.org/event/hot-lunch-barracos-burger-breadsticks-13/
END:VEVENT
BEGIN:VEVENT
DTSTART;VALUE=DATE:20251210
DTEND;VALUE=DATE:20251211
DTSTAMP:20260424T001005
CREATED:20250909T013349Z
LAST-MODIFIED:20250909T013349Z
UID:8949-1765324800-1765411199@stchristina.org
SUMMARY:Enrichment
DESCRIPTION:
URL:https://stchristina.org/event/enrichment-63/
END:VEVENT
BEGIN:VEVENT
DTSTART;VALUE=DATE:20251208
DTEND;VALUE=DATE:20251209
DTSTAMP:20260424T001005
CREATED:20250909T013324Z
LAST-MODIFIED:20250909T013324Z
UID:8947-1765152000-1765238399@stchristina.org
SUMMARY:8:10am Mass Feast of the Immaculate Conception
DESCRIPTION:
URL:https://stchristina.org/event/810am-mass-feast-of-the-immaculate-conception-2/
END:VEVENT
BEGIN:VEVENT
DTSTART;VALUE=DATE:20251206
DTEND;VALUE=DATE:20251207
DTSTAMP:20260424T001005
CREATED:20250909T013247Z
LAST-MODIFIED:20250909T013247Z
UID:8945-1764979200-1765065599@stchristina.org
SUMMARY:High School  Entrance Exams
DESCRIPTION:
URL:https://stchristina.org/event/high-school-entrance-exams-2/
END:VEVENT
BEGIN:VEVENT
DTSTART;VALUE=DATE:20251204
DTEND;VALUE=DATE:20251205
DTSTAMP:20260424T001005
CREATED:20250909T013052Z
LAST-MODIFIED:20251112T152744Z
UID:8943-1764806400-1764892799@stchristina.org
SUMMARY:1:45pm Dismissal (Faculty PD)
DESCRIPTION:
URL:https://stchristina.org/event/145pm-dismissal-faculty-pd-5/
END:VEVENT
BEGIN:VEVENT
DTSTART;VALUE=DATE:20251204
DTEND;VALUE=DATE:20251205
DTSTAMP:20260424T001005
CREATED:20250909T012957Z
LAST-MODIFIED:20250909T012957Z
UID:8941-1764806400-1764892799@stchristina.org
SUMMARY:Hot Lunch (Calabria Nuggets/Chips)
DESCRIPTION:
URL:https://stchristina.org/event/hot-lunch-calabria-nuggets-chips-9/
END:VEVENT
BEGIN:VEVENT
DTSTART;VALUE=DATE:20251203
DTEND;VALUE=DATE:20251204
DTSTAMP:20260424T001005
CREATED:20250909T012918Z
LAST-MODIFIED:20250909T012918Z
UID:8939-1764720000-1764806399@stchristina.org
SUMMARY:Enrichment
DESCRIPTION:
URL:https://stchristina.org/event/enrichment-62/
END:VEVENT
BEGIN:VEVENT
DTSTART;VALUE=DATE:20251203
DTEND;VALUE=DATE:20251204
DTSTAMP:20260424T001005
CREATED:20250909T012840Z
LAST-MODIFIED:20250909T012840Z
UID:8937-1764720000-1764806399@stchristina.org
SUMMARY:8:10am Mass
DESCRIPTION:
URL:https://stchristina.org/event/810am-mass-53/
END:VEVENT
BEGIN:VEVENT
DTSTART;VALUE=DATE:20251202
DTEND;VALUE=DATE:20251203
DTSTAMP:20260424T001005
CREATED:20250909T012812Z
LAST-MODIFIED:20250909T012812Z
UID:8935-1764633600-1764719999@stchristina.org
SUMMARY:SAC Meeting
DESCRIPTION:
URL:https://stchristina.org/event/sac-meeting-14/
END:VEVENT
BEGIN:VEVENT
DTSTART;VALUE=DATE:20251201
DTEND;VALUE=DATE:20251202
DTSTAMP:20260424T001005
CREATED:20250909T012741Z
LAST-MODIFIED:20250909T012741Z
UID:8933-1764547200-1764633599@stchristina.org
SUMMARY:Classes Resume
DESCRIPTION:
URL:https://stchristina.org/event/classes-resume-14/
END:VEVENT
BEGIN:VEVENT
DTSTART;TZID=UTC:20251124T080000
DTEND;TZID=UTC:20251128T170000
DTSTAMP:20260424T001005
CREATED:20250909T012707Z
LAST-MODIFIED:20250909T012707Z
UID:8931-1763971200-1764349200@stchristina.org
SUMMARY:Thanksgiving Break
DESCRIPTION:
URL:https://stchristina.org/event/thanksgiving-break-3/
END:VEVENT
BEGIN:VEVENT
DTSTART;VALUE=DATE:20251121
DTEND;VALUE=DATE:20251122
DTSTAMP:20260424T001005
CREATED:20250909T012553Z
LAST-MODIFIED:20250909T012553Z
UID:8929-1763683200-1763769599@stchristina.org
SUMMARY:Report Cards Sent Home
DESCRIPTION:
URL:https://stchristina.org/event/report-cards-sent-home/
END:VEVENT
END:VCALENDAR