BEGIN:VCALENDAR
VERSION:2.0
PRODID:-//St. Christina Catholic School - ECPv6.15.20//NONSGML v1.0//EN
CALSCALE:GREGORIAN
METHOD:PUBLISH
X-WR-CALNAME:St. Christina Catholic School
X-ORIGINAL-URL:https://stchristina.org
X-WR-CALDESC:Events for St. Christina Catholic School
REFRESH-INTERVAL;VALUE=DURATION:PT1H
X-Robots-Tag:noindex
X-PUBLISHED-TTL:PT1H
BEGIN:VTIMEZONE
TZID:UTC
BEGIN:STANDARD
TZOFFSETFROM:+0000
TZOFFSETTO:+0000
TZNAME:UTC
DTSTART:20240101T000000
END:STANDARD
END:VTIMEZONE
BEGIN:VEVENT
DTSTART;VALUE=DATE:20250306
DTEND;VALUE=DATE:20250307
DTSTAMP:20260424T125506
CREATED:20240717T032409Z
LAST-MODIFIED:20240717T032409Z
UID:7472-1741219200-1741305599@stchristina.org
SUMMARY:1:45 Dismissal\, Faculty PD
DESCRIPTION:
URL:https://stchristina.org/event/145-dismissal-faculty-pd/
END:VEVENT
BEGIN:VEVENT
DTSTART;VALUE=DATE:20250306
DTEND;VALUE=DATE:20250307
DTSTAMP:20260424T125506
CREATED:20240717T032305Z
LAST-MODIFIED:20240717T032305Z
UID:7470-1741219200-1741305599@stchristina.org
SUMMARY:Hot Lunch: Calabria Nuggets/Chips
DESCRIPTION:
URL:https://stchristina.org/event/hot-lunch-calabria-nuggets-chips-4/
END:VEVENT
BEGIN:VEVENT
DTSTART;VALUE=DATE:20250305
DTEND;VALUE=DATE:20250306
DTSTAMP:20260424T125506
CREATED:20240717T032226Z
LAST-MODIFIED:20240717T032226Z
UID:7468-1741132800-1741219199@stchristina.org
SUMMARY:Enrichment
DESCRIPTION:
URL:https://stchristina.org/event/enrichment-46/
END:VEVENT
BEGIN:VEVENT
DTSTART;VALUE=DATE:20250305
DTEND;VALUE=DATE:20250306
DTSTAMP:20260424T125506
CREATED:20240717T032205Z
LAST-MODIFIED:20240717T032205Z
UID:7466-1741132800-1741219199@stchristina.org
SUMMARY:Silent Retreat Day
DESCRIPTION:
URL:https://stchristina.org/event/silent-retreat-day/
END:VEVENT
BEGIN:VEVENT
DTSTART;VALUE=DATE:20250305
DTEND;VALUE=DATE:20250306
DTSTAMP:20260424T125506
CREATED:20240717T032137Z
LAST-MODIFIED:20240717T032137Z
UID:7464-1741132800-1741219199@stchristina.org
SUMMARY:Rice Bowls Home
DESCRIPTION:
URL:https://stchristina.org/event/rice-bowls-home/
END:VEVENT
BEGIN:VEVENT
DTSTART;VALUE=DATE:20250305
DTEND;VALUE=DATE:20250306
DTSTAMP:20260424T125506
CREATED:20240717T032112Z
LAST-MODIFIED:20240717T032112Z
UID:7462-1741132800-1741219199@stchristina.org
SUMMARY:Ash Wednesday Prayer Service
DESCRIPTION:
URL:https://stchristina.org/event/ash-wednesday-prayer-service/
END:VEVENT
BEGIN:VEVENT
DTSTART;VALUE=DATE:20250304
DTEND;VALUE=DATE:20250305
DTSTAMP:20260424T125506
CREATED:20240717T032033Z
LAST-MODIFIED:20240717T032033Z
UID:7460-1741046400-1741132799@stchristina.org
SUMMARY:SAC Meeting
DESCRIPTION:
URL:https://stchristina.org/event/sac-meeting-8/
END:VEVENT
BEGIN:VEVENT
DTSTART;VALUE=DATE:20250227
DTEND;VALUE=DATE:20250228
DTSTAMP:20260424T125506
CREATED:20240715T201236Z
LAST-MODIFIED:20240715T201236Z
UID:7438-1740614400-1740700799@stchristina.org
SUMMARY:Hot Lunch: Home Run Inn Pizza
DESCRIPTION:
URL:https://stchristina.org/event/hot-lunch-home-run-inn-pizza-7/
END:VEVENT
BEGIN:VEVENT
DTSTART;VALUE=DATE:20250226
DTEND;VALUE=DATE:20250227
DTSTAMP:20260424T125506
CREATED:20240715T201202Z
LAST-MODIFIED:20240715T201202Z
UID:7436-1740528000-1740614399@stchristina.org
SUMMARY:Enrichment
DESCRIPTION:
URL:https://stchristina.org/event/enrichment-45/
END:VEVENT
BEGIN:VEVENT
DTSTART;VALUE=DATE:20250226
DTEND;VALUE=DATE:20250227
DTSTAMP:20260424T125506
CREATED:20240715T201142Z
LAST-MODIFIED:20240715T201142Z
UID:7434-1740528000-1740614399@stchristina.org
SUMMARY:8:10am Mass
DESCRIPTION:
URL:https://stchristina.org/event/810am-mass-43/
END:VEVENT
BEGIN:VEVENT
DTSTART;VALUE=DATE:20250225
DTEND;VALUE=DATE:20250226
DTSTAMP:20260424T125506
CREATED:20240724T021523Z
LAST-MODIFIED:20240724T021908Z
UID:7690-1740441600-1740527999@stchristina.org
SUMMARY:Confirmation\, 6pm
DESCRIPTION:
URL:https://stchristina.org/event/confirmation/
END:VEVENT
BEGIN:VEVENT
DTSTART;VALUE=DATE:20250224
DTEND;VALUE=DATE:20250225
DTSTAMP:20260424T125506
CREATED:20240715T201405Z
LAST-MODIFIED:20240715T201405Z
UID:7440-1740355200-1740441599@stchristina.org
SUMMARY:SCAA Meeting
DESCRIPTION:
URL:https://stchristina.org/event/scaa-meeting-7/
END:VEVENT
BEGIN:VEVENT
DTSTART;VALUE=DATE:20250221
DTEND;VALUE=DATE:20250222
DTSTAMP:20260424T125506
CREATED:20241205T140635Z
LAST-MODIFIED:20241205T144513Z
UID:7819-1740096000-1740182399@stchristina.org
SUMMARY:FSA Father/Daughter Dance\, 5pm-8pm
DESCRIPTION:
URL:https://stchristina.org/event/fsa-father-daughter-dance-5pm-8pm/
END:VEVENT
BEGIN:VEVENT
DTSTART;VALUE=DATE:20250220
DTEND;VALUE=DATE:20250221
DTSTAMP:20260424T125506
CREATED:20240724T021455Z
LAST-MODIFIED:20240724T021947Z
UID:7688-1740009600-1740095999@stchristina.org
SUMMARY:Confirmation Practice\, 3:15pm
DESCRIPTION:
URL:https://stchristina.org/event/confirmation-practice/
END:VEVENT
BEGIN:VEVENT
DTSTART;VALUE=DATE:20250220
DTEND;VALUE=DATE:20250221
DTSTAMP:20260424T125506
CREATED:20240715T201101Z
LAST-MODIFIED:20240715T201101Z
UID:7432-1740009600-1740095999@stchristina.org
SUMMARY:8th Grade Graduation Pictures
DESCRIPTION:
URL:https://stchristina.org/event/8th-grade-graduation-pictures-3/
END:VEVENT
BEGIN:VEVENT
DTSTART;VALUE=DATE:20250220
DTEND;VALUE=DATE:20250221
DTSTAMP:20260424T125506
CREATED:20240715T201032Z
LAST-MODIFIED:20240715T201032Z
UID:7430-1740009600-1740095999@stchristina.org
SUMMARY:Hot Lunch: Calabria Mostaccioli
DESCRIPTION:
URL:https://stchristina.org/event/hot-lunch-calabria-mostaccioli-13/
END:VEVENT
BEGIN:VEVENT
DTSTART;VALUE=DATE:20250219
DTEND;VALUE=DATE:20250220
DTSTAMP:20260424T125506
CREATED:20240715T200959Z
LAST-MODIFIED:20240715T200959Z
UID:7428-1739923200-1740009599@stchristina.org
SUMMARY:Enrichment
DESCRIPTION:
URL:https://stchristina.org/event/enrichment-44/
END:VEVENT
BEGIN:VEVENT
DTSTART;VALUE=DATE:20250219
DTEND;VALUE=DATE:20250220
DTSTAMP:20260424T125506
CREATED:20240715T200941Z
LAST-MODIFIED:20240715T200941Z
UID:7426-1739923200-1740009599@stchristina.org
SUMMARY:8:10am Mass (planned by 2nd Grade)
DESCRIPTION:
URL:https://stchristina.org/event/810am-mass-planned-by-2nd-grade/
END:VEVENT
BEGIN:VEVENT
DTSTART;VALUE=DATE:20250217
DTEND;VALUE=DATE:20250218
DTSTAMP:20260424T125506
CREATED:20240715T200903Z
LAST-MODIFIED:20240715T200903Z
UID:7424-1739750400-1739836799@stchristina.org
SUMMARY:NO SCHOOL\, President's Day
DESCRIPTION:
URL:https://stchristina.org/event/no-school-presidents-day-3/
END:VEVENT
BEGIN:VEVENT
DTSTART;VALUE=DATE:20250214
DTEND;VALUE=DATE:20250215
DTSTAMP:20260424T125506
CREATED:20240715T200840Z
LAST-MODIFIED:20240715T200840Z
UID:7422-1739491200-1739577599@stchristina.org
SUMMARY:Valentine's Red/Pink Dress Down Day
DESCRIPTION:
URL:https://stchristina.org/event/valentines-red-pink-dress-down-day/
END:VEVENT
BEGIN:VEVENT
DTSTART;VALUE=DATE:20250213
DTEND;VALUE=DATE:20250214
DTSTAMP:20260424T125506
CREATED:20240715T200803Z
LAST-MODIFIED:20240715T200803Z
UID:7420-1739404800-1739491199@stchristina.org
SUMMARY:Hot Lunch: Barraco's Burger / Breadsticks
DESCRIPTION:
URL:https://stchristina.org/event/hot-lunch-barracos-burger-breadsticks-8/
END:VEVENT
BEGIN:VEVENT
DTSTART;VALUE=DATE:20250212
DTEND;VALUE=DATE:20250213
DTSTAMP:20260424T125506
CREATED:20240715T200712Z
LAST-MODIFIED:20240715T200712Z
UID:7418-1739318400-1739404799@stchristina.org
SUMMARY:Enrichment
DESCRIPTION:
URL:https://stchristina.org/event/enrichment-43/
END:VEVENT
BEGIN:VEVENT
DTSTART;VALUE=DATE:20250212
DTEND;VALUE=DATE:20250213
DTSTAMP:20260424T125506
CREATED:20240715T200650Z
LAST-MODIFIED:20240715T200650Z
UID:7416-1739318400-1739404799@stchristina.org
SUMMARY:8:10am Mass
DESCRIPTION:
URL:https://stchristina.org/event/810am-mass-42/
END:VEVENT
BEGIN:VEVENT
DTSTART;VALUE=DATE:20250211
DTEND;VALUE=DATE:20250212
DTSTAMP:20260424T125506
CREATED:20240717T170735Z
LAST-MODIFIED:20240717T170735Z
UID:7660-1739232000-1739318399@stchristina.org
SUMMARY:FSA Meeting
DESCRIPTION:
URL:https://stchristina.org/event/fsa-meeting-6/
END:VEVENT
BEGIN:VEVENT
DTSTART;VALUE=DATE:20250207
DTEND;VALUE=DATE:20250208
DTSTAMP:20260424T125506
CREATED:20240715T200551Z
LAST-MODIFIED:20240715T200551Z
UID:7412-1738886400-1738972799@stchristina.org
SUMMARY:NO SCHOOL\, Faculty PD
DESCRIPTION:
URL:https://stchristina.org/event/no-school-faculty-pd-6/
END:VEVENT
BEGIN:VEVENT
DTSTART;VALUE=DATE:20250206
DTEND;VALUE=DATE:20250207
DTSTAMP:20260424T125506
CREATED:20240715T200446Z
LAST-MODIFIED:20240715T200446Z
UID:7410-1738800000-1738886399@stchristina.org
SUMMARY:No Extended Care
DESCRIPTION:
URL:https://stchristina.org/event/no-extended-care-19/
END:VEVENT
BEGIN:VEVENT
DTSTART;VALUE=DATE:20250206
DTEND;VALUE=DATE:20250207
DTSTAMP:20260424T125506
CREATED:20240715T200421Z
LAST-MODIFIED:20240715T200421Z
UID:7408-1738800000-1738886399@stchristina.org
SUMMARY:No Hot Lunch
DESCRIPTION:
URL:https://stchristina.org/event/no-hot-lunch-12/
END:VEVENT
BEGIN:VEVENT
DTSTART;VALUE=DATE:20250206
DTEND;VALUE=DATE:20250207
DTSTAMP:20260424T125506
CREATED:20240715T200403Z
LAST-MODIFIED:20240715T200403Z
UID:7406-1738800000-1738886399@stchristina.org
SUMMARY:11:30am Dismissal Parent/Teacher Conferences\, 12pm - 3pm
DESCRIPTION:
URL:https://stchristina.org/event/1130am-dismissal-parent-teacher-conferences-12pm-3pm/
END:VEVENT
BEGIN:VEVENT
DTSTART;VALUE=DATE:20250205
DTEND;VALUE=DATE:20250206
DTSTAMP:20260424T125506
CREATED:20240715T200306Z
LAST-MODIFIED:20240715T200306Z
UID:7404-1738713600-1738799999@stchristina.org
SUMMARY:Enrichment
DESCRIPTION:
URL:https://stchristina.org/event/enrichment-42/
END:VEVENT
BEGIN:VEVENT
DTSTART;VALUE=DATE:20250205
DTEND;VALUE=DATE:20250206
DTSTAMP:20260424T125506
CREATED:20240715T200245Z
LAST-MODIFIED:20240715T200245Z
UID:7402-1738713600-1738799999@stchristina.org
SUMMARY:8:10am Mass
DESCRIPTION:
URL:https://stchristina.org/event/810am-mass-41/
END:VEVENT
END:VCALENDAR