BEGIN:VCALENDAR
VERSION:2.0
PRODID:-//St. Christina Catholic School - ECPv6.15.20//NONSGML v1.0//EN
CALSCALE:GREGORIAN
METHOD:PUBLISH
X-WR-CALNAME:St. Christina Catholic School
X-ORIGINAL-URL:https://stchristina.org
X-WR-CALDESC:Events for St. Christina Catholic School
REFRESH-INTERVAL;VALUE=DURATION:PT1H
X-Robots-Tag:noindex
X-PUBLISHED-TTL:PT1H
BEGIN:VTIMEZONE
TZID:UTC
BEGIN:STANDARD
TZOFFSETFROM:+0000
TZOFFSETTO:+0000
TZNAME:UTC
DTSTART:20230101T000000
END:STANDARD
END:VTIMEZONE
BEGIN:VEVENT
DTSTART;VALUE=DATE:20241220
DTEND;VALUE=DATE:20241221
DTSTAMP:20260424T162603
CREATED:20240715T193724Z
LAST-MODIFIED:20240715T193724Z
UID:7354-1734652800-1734739199@stchristina.org
SUMMARY:No Extended Care
DESCRIPTION:
URL:https://stchristina.org/event/no-extended-care-18/
END:VEVENT
BEGIN:VEVENT
DTSTART;VALUE=DATE:20241220
DTEND;VALUE=DATE:20241221
DTSTAMP:20260424T162603
CREATED:20240715T193702Z
LAST-MODIFIED:20240715T193702Z
UID:7352-1734652800-1734739199@stchristina.org
SUMMARY:11:30am Dismissal
DESCRIPTION:
URL:https://stchristina.org/event/1130am-dismissal/
END:VEVENT
BEGIN:VEVENT
DTSTART;VALUE=DATE:20241220
DTEND;VALUE=DATE:20241221
DTSTAMP:20260424T162603
CREATED:20240715T193613Z
LAST-MODIFIED:20240715T193613Z
UID:7350-1734652800-1734739199@stchristina.org
SUMMARY:Christmas Program\, 10:15am
DESCRIPTION:
URL:https://stchristina.org/event/christmas-program-1015am/
END:VEVENT
BEGIN:VEVENT
DTSTART;VALUE=DATE:20241219
DTEND;VALUE=DATE:20241220
DTSTAMP:20260424T162603
CREATED:20240715T193533Z
LAST-MODIFIED:20240715T193533Z
UID:7348-1734566400-1734652799@stchristina.org
SUMMARY:Hot Lunch: Calabria Mostaccioli
DESCRIPTION:
URL:https://stchristina.org/event/hot-lunch-calabria-mostaccioli-11/
END:VEVENT
BEGIN:VEVENT
DTSTART;VALUE=DATE:20241218
DTEND;VALUE=DATE:20241219
DTSTAMP:20260424T162603
CREATED:20240715T193258Z
LAST-MODIFIED:20240715T193258Z
UID:7346-1734480000-1734566399@stchristina.org
SUMMARY:Enrichment
DESCRIPTION:
URL:https://stchristina.org/event/enrichment-38/
END:VEVENT
BEGIN:VEVENT
DTSTART;VALUE=DATE:20241218
DTEND;VALUE=DATE:20241219
DTSTAMP:20260424T162603
CREATED:20240715T193232Z
LAST-MODIFIED:20240715T193232Z
UID:7344-1734480000-1734566399@stchristina.org
SUMMARY:Classroom Parties\, 1pm
DESCRIPTION:
URL:https://stchristina.org/event/classroom-parties-1pm/
END:VEVENT
BEGIN:VEVENT
DTSTART;VALUE=DATE:20241218
DTEND;VALUE=DATE:20241219
DTSTAMP:20260424T162603
CREATED:20240715T193209Z
LAST-MODIFIED:20240715T193209Z
UID:7342-1734480000-1734566399@stchristina.org
SUMMARY:8:10am Mass (planned by 6th Grade)
DESCRIPTION:
URL:https://stchristina.org/event/810am-mass-planned-by-6th-grade-2/
END:VEVENT
BEGIN:VEVENT
DTSTART;TZID=UTC:20241216T080000
DTEND;TZID=UTC:20241217T170000
DTSTAMP:20260424T162603
CREATED:20240715T193103Z
LAST-MODIFIED:20240715T193103Z
UID:7340-1734336000-1734454800@stchristina.org
SUMMARY:Santa's Secret Workshop
DESCRIPTION:
URL:https://stchristina.org/event/santas-secret-workshop-2/
END:VEVENT
BEGIN:VEVENT
DTSTART;VALUE=DATE:20241216
DTEND;VALUE=DATE:20241217
DTSTAMP:20260424T162603
CREATED:20240715T193024Z
LAST-MODIFIED:20240715T193024Z
UID:7338-1734307200-1734393599@stchristina.org
SUMMARY:Red/Green Dress Down Day
DESCRIPTION:
URL:https://stchristina.org/event/red-green-dress-down-day/
END:VEVENT
BEGIN:VEVENT
DTSTART;VALUE=DATE:20241216
DTEND;VALUE=DATE:20241217
DTSTAMP:20260424T162603
CREATED:20240715T192958Z
LAST-MODIFIED:20240715T192958Z
UID:7336-1734307200-1734393599@stchristina.org
SUMMARY:SCAA Meeting
DESCRIPTION:
URL:https://stchristina.org/event/scaa-meeting-5/
END:VEVENT
BEGIN:VEVENT
DTSTART;VALUE=DATE:20241212
DTEND;VALUE=DATE:20241213
DTSTAMP:20260424T162603
CREATED:20240715T192912Z
LAST-MODIFIED:20240715T193924Z
UID:7334-1733961600-1734047999@stchristina.org
SUMMARY:Hot Lunch: Barraco's Burger / Breadsticks
DESCRIPTION:
URL:https://stchristina.org/event/hot-lunch-barracos-burger-breadsticks-7/
END:VEVENT
BEGIN:VEVENT
DTSTART;VALUE=DATE:20241211
DTEND;VALUE=DATE:20241212
DTSTAMP:20260424T162603
CREATED:20240715T192824Z
LAST-MODIFIED:20240715T192824Z
UID:7332-1733875200-1733961599@stchristina.org
SUMMARY:Enrichment
DESCRIPTION:
URL:https://stchristina.org/event/enrichment-37/
END:VEVENT
BEGIN:VEVENT
DTSTART;VALUE=DATE:20241211
DTEND;VALUE=DATE:20241212
DTSTAMP:20260424T162603
CREATED:20240715T192756Z
LAST-MODIFIED:20240715T192756Z
UID:7330-1733875200-1733961599@stchristina.org
SUMMARY:8:10am Mass / Advent Confessions
DESCRIPTION:
URL:https://stchristina.org/event/810am-mass-advent-confessions-2/
END:VEVENT
BEGIN:VEVENT
DTSTART;VALUE=DATE:20241207
DTEND;VALUE=DATE:20241208
DTSTAMP:20260424T162603
CREATED:20240717T170820Z
LAST-MODIFIED:20240717T170820Z
UID:7664-1733529600-1733615999@stchristina.org
SUMMARY:FSA Christmas Crawl
DESCRIPTION:
URL:https://stchristina.org/event/fsa-christmas-crawl-3/
END:VEVENT
BEGIN:VEVENT
DTSTART;VALUE=DATE:20241207
DTEND;VALUE=DATE:20241208
DTSTAMP:20260424T162603
CREATED:20240715T192554Z
LAST-MODIFIED:20240715T192554Z
UID:7328-1733529600-1733615999@stchristina.org
SUMMARY:High School Entrance Exams
DESCRIPTION:
URL:https://stchristina.org/event/high-school-entrance-exams/
END:VEVENT
BEGIN:VEVENT
DTSTART;VALUE=DATE:20241205
DTEND;VALUE=DATE:20241206
DTSTAMP:20260424T162603
CREATED:20240717T170711Z
LAST-MODIFIED:20240909T140309Z
UID:7658-1733356800-1733443199@stchristina.org
SUMMARY:Pizza with Santa\, 5:30-8pm
DESCRIPTION:
URL:https://stchristina.org/event/pizza-with-santa/
END:VEVENT
BEGIN:VEVENT
DTSTART;VALUE=DATE:20241205
DTEND;VALUE=DATE:20241206
DTSTAMP:20260424T162603
CREATED:20240715T192534Z
LAST-MODIFIED:20240715T192534Z
UID:7326-1733356800-1733443199@stchristina.org
SUMMARY:1:45pm Dismissal\, Faculty PD
DESCRIPTION:
URL:https://stchristina.org/event/145pm-dismissal-faculty-pd-3/
END:VEVENT
BEGIN:VEVENT
DTSTART;VALUE=DATE:20241205
DTEND;VALUE=DATE:20241206
DTSTAMP:20260424T162603
CREATED:20240715T191724Z
LAST-MODIFIED:20240715T191724Z
UID:7322-1733356800-1733443199@stchristina.org
SUMMARY:Hot Lunch: Calabria Nuggets/Chips
DESCRIPTION:
URL:https://stchristina.org/event/hot-lunch-calabria-nuggets-chips-3/
END:VEVENT
BEGIN:VEVENT
DTSTART;VALUE=DATE:20241204
DTEND;VALUE=DATE:20241205
DTSTAMP:20260424T162603
CREATED:20240715T191805Z
LAST-MODIFIED:20240715T191805Z
UID:7324-1733270400-1733356799@stchristina.org
SUMMARY:Enrichment
DESCRIPTION:
URL:https://stchristina.org/event/enrichment-36/
END:VEVENT
BEGIN:VEVENT
DTSTART;VALUE=DATE:20241204
DTEND;VALUE=DATE:20241205
DTSTAMP:20260424T162603
CREATED:20240715T191651Z
LAST-MODIFIED:20240715T191651Z
UID:7320-1733270400-1733356799@stchristina.org
SUMMARY:8:10am Mass / Advent Confessions
DESCRIPTION:
URL:https://stchristina.org/event/810am-mass-advent-confessions/
END:VEVENT
BEGIN:VEVENT
DTSTART;VALUE=DATE:20241204
DTEND;VALUE=DATE:20241205
DTSTAMP:20260424T162603
CREATED:20240715T191546Z
LAST-MODIFIED:20241025T001738Z
UID:7318-1733270400-1733356799@stchristina.org
SUMMARY:SAC Meeting
DESCRIPTION:
URL:https://stchristina.org/event/sac-meeting-5/
END:VEVENT
BEGIN:VEVENT
DTSTART;VALUE=DATE:20241202
DTEND;VALUE=DATE:20241203
DTSTAMP:20260424T162603
CREATED:20240715T191525Z
LAST-MODIFIED:20240715T191525Z
UID:7316-1733097600-1733183999@stchristina.org
SUMMARY:Classes Resume
DESCRIPTION:
URL:https://stchristina.org/event/classes-resume-11/
END:VEVENT
BEGIN:VEVENT
DTSTART;VALUE=DATE:20241201
DTEND;VALUE=DATE:20241202
DTSTAMP:20260424T162603
CREATED:20240715T191505Z
LAST-MODIFIED:20240715T191505Z
UID:7314-1733011200-1733097599@stchristina.org
SUMMARY:Advent Begins
DESCRIPTION:
URL:https://stchristina.org/event/advent-begins/
END:VEVENT
BEGIN:VEVENT
DTSTART;TZID=UTC:20241125T080000
DTEND;TZID=UTC:20241129T170000
DTSTAMP:20260424T162603
CREATED:20240715T191211Z
LAST-MODIFIED:20240715T191211Z
UID:7312-1732521600-1732899600@stchristina.org
SUMMARY:Thanksgiving Break
DESCRIPTION:
URL:https://stchristina.org/event/thanksgiving-break-2/
END:VEVENT
BEGIN:VEVENT
DTSTART;VALUE=DATE:20241121
DTEND;VALUE=DATE:20241122
DTSTAMP:20260424T162603
CREATED:20240715T191134Z
LAST-MODIFIED:20240715T191134Z
UID:7310-1732147200-1732233599@stchristina.org
SUMMARY:Report Cards
DESCRIPTION:
URL:https://stchristina.org/event/report-cards-13/
END:VEVENT
BEGIN:VEVENT
DTSTART;VALUE=DATE:20241121
DTEND;VALUE=DATE:20241122
DTSTAMP:20260424T162603
CREATED:20240715T191102Z
LAST-MODIFIED:20240715T191102Z
UID:7308-1732147200-1732233599@stchristina.org
SUMMARY:Hot Lunch: Calabria Mostaccioli
DESCRIPTION:
URL:https://stchristina.org/event/hot-lunch-calabria-mostaccioli-10/
END:VEVENT
BEGIN:VEVENT
DTSTART;VALUE=DATE:20241120
DTEND;VALUE=DATE:20241121
DTSTAMP:20260424T162603
CREATED:20240715T191018Z
LAST-MODIFIED:20240715T191018Z
UID:7306-1732060800-1732147199@stchristina.org
SUMMARY:Enrichment
DESCRIPTION:
URL:https://stchristina.org/event/enrichment-35/
END:VEVENT
BEGIN:VEVENT
DTSTART;VALUE=DATE:20241120
DTEND;VALUE=DATE:20241121
DTSTAMP:20260424T162603
CREATED:20240715T190954Z
LAST-MODIFIED:20240715T190954Z
UID:7304-1732060800-1732147199@stchristina.org
SUMMARY:8:10am Mass
DESCRIPTION:
URL:https://stchristina.org/event/810am-mass-37/
END:VEVENT
BEGIN:VEVENT
DTSTART;VALUE=DATE:20241118
DTEND;VALUE=DATE:20241119
DTSTAMP:20260424T162603
CREATED:20240715T190933Z
LAST-MODIFIED:20240715T190933Z
UID:7302-1731888000-1731974399@stchristina.org
SUMMARY:SCAA Meeting
DESCRIPTION:
URL:https://stchristina.org/event/scaa-meeting-4/
END:VEVENT
BEGIN:VEVENT
DTSTART;VALUE=DATE:20241115
DTEND;VALUE=DATE:20241116
DTSTAMP:20260424T162603
CREATED:20240715T190725Z
LAST-MODIFIED:20240715T190725Z
UID:7298-1731628800-1731715199@stchristina.org
SUMMARY:Trimester 1 Ends
DESCRIPTION:
URL:https://stchristina.org/event/trimester-1-ends/
END:VEVENT
END:VCALENDAR