BEGIN:VCALENDAR
VERSION:2.0
PRODID:-//St. Christina Catholic School - ECPv6.15.20//NONSGML v1.0//EN
CALSCALE:GREGORIAN
METHOD:PUBLISH
X-WR-CALNAME:St. Christina Catholic School
X-ORIGINAL-URL:https://stchristina.org
X-WR-CALDESC:Events for St. Christina Catholic School
REFRESH-INTERVAL;VALUE=DURATION:PT1H
X-Robots-Tag:noindex
X-PUBLISHED-TTL:PT1H
BEGIN:VTIMEZONE
TZID:UTC
BEGIN:STANDARD
TZOFFSETFROM:+0000
TZOFFSETTO:+0000
TZNAME:UTC
DTSTART:20250101T000000
END:STANDARD
END:VTIMEZONE
BEGIN:VEVENT
DTSTART;VALUE=DATE:20260415
DTEND;VALUE=DATE:20260416
DTSTAMP:20260423T154624
CREATED:20250909T024856Z
LAST-MODIFIED:20250909T024856Z
UID:9144-1776211200-1776297599@stchristina.org
SUMMARY:8:10am Mass
DESCRIPTION:
URL:https://stchristina.org/event/810am-mass-62/
END:VEVENT
BEGIN:VEVENT
DTSTART;VALUE=DATE:20260415
DTEND;VALUE=DATE:20260416
DTSTAMP:20260423T154624
CREATED:20250909T024925Z
LAST-MODIFIED:20250909T024925Z
UID:9146-1776211200-1776297599@stchristina.org
SUMMARY:No Enrichment
DESCRIPTION:
URL:https://stchristina.org/event/no-enrichment-4/
END:VEVENT
BEGIN:VEVENT
DTSTART;VALUE=DATE:20260415
DTEND;VALUE=DATE:20260416
DTSTAMP:20260423T154624
CREATED:20260116T180821Z
LAST-MODIFIED:20260116T180821Z
UID:9959-1776211200-1776297599@stchristina.org
SUMMARY:Family Code Workshop for parents and students in the Gym/Parish Center\, 6:15-7:45pm
DESCRIPTION:
URL:https://stchristina.org/event/family-code-workshop-for-parents-and-students-in-the-gym-parish-center-615-745pm/
END:VEVENT
BEGIN:VEVENT
DTSTART;VALUE=DATE:20260415
DTEND;VALUE=DATE:20260416
DTSTAMP:20260423T154624
CREATED:20260303T223223Z
LAST-MODIFIED:20260303T223223Z
UID:10010-1776211200-1776297599@stchristina.org
SUMMARY:SmartFamilies Family Code Night\, 6:15\, School Gym
DESCRIPTION:
URL:https://stchristina.org/event/smartfamilies-family-code-night-615-school-gym/
END:VEVENT
END:VCALENDAR