BEGIN:VCALENDAR
VERSION:2.0
PRODID:-//St. Christina Catholic School - ECPv6.15.20//NONSGML v1.0//EN
CALSCALE:GREGORIAN
METHOD:PUBLISH
X-ORIGINAL-URL:https://stchristina.org
X-WR-CALDESC:Events for St. Christina Catholic School
REFRESH-INTERVAL;VALUE=DURATION:PT1H
X-Robots-Tag:noindex
X-PUBLISHED-TTL:PT1H
BEGIN:VTIMEZONE
TZID:UTC
BEGIN:STANDARD
TZOFFSETFROM:+0000
TZOFFSETTO:+0000
TZNAME:UTC
DTSTART:20250101T000000
END:STANDARD
END:VTIMEZONE
BEGIN:VEVENT
DTSTART;VALUE=DATE:20260326
DTEND;VALUE=DATE:20260327
DTSTAMP:20260423T170758
CREATED:20240717T032009Z
LAST-MODIFIED:20260306T001144Z
UID:7458-1774483200-1774569599@stchristina.org
SUMMARY:Communion Retreat (in school)
DESCRIPTION:
URL:https://stchristina.org/event/communion-retreat-in-school/
END:VEVENT
BEGIN:VEVENT
DTSTART;VALUE=DATE:20260326
DTEND;VALUE=DATE:20260327
DTSTAMP:20260423T170758
CREATED:20250909T023418Z
LAST-MODIFIED:20250909T023418Z
UID:9117-1774483200-1774569599@stchristina.org
SUMMARY:Hot Lunch (Home Run Inn Pizza)
DESCRIPTION:
URL:https://stchristina.org/event/hot-lunch-home-run-inn-pizza-12/
END:VEVENT
END:VCALENDAR