BEGIN:VCALENDAR
VERSION:2.0
PRODID:-//St. Christina Catholic School - ECPv6.15.20//NONSGML v1.0//EN
CALSCALE:GREGORIAN
METHOD:PUBLISH
X-WR-CALNAME:St. Christina Catholic School
X-ORIGINAL-URL:https://stchristina.org
X-WR-CALDESC:Events for St. Christina Catholic School
REFRESH-INTERVAL;VALUE=DURATION:PT1H
X-Robots-Tag:noindex
X-PUBLISHED-TTL:PT1H
BEGIN:VTIMEZONE
TZID:UTC
BEGIN:STANDARD
TZOFFSETFROM:+0000
TZOFFSETTO:+0000
TZNAME:UTC
DTSTART:20250101T000000
END:STANDARD
END:VTIMEZONE
BEGIN:VEVENT
DTSTART;VALUE=DATE:20260305
DTEND;VALUE=DATE:20260306
DTSTAMP:20260423T184206
CREATED:20250909T021721Z
LAST-MODIFIED:20250909T021721Z
UID:9071-1772668800-1772755199@stchristina.org
SUMMARY:Hot Lunch (Calabria Nuggets/Chips)
DESCRIPTION:
URL:https://stchristina.org/event/hot-lunch-calabria-nuggets-chips-10/
END:VEVENT
BEGIN:VEVENT
DTSTART;VALUE=DATE:20260305
DTEND;VALUE=DATE:20260306
DTSTAMP:20260423T184206
CREATED:20250909T021803Z
LAST-MODIFIED:20250909T021803Z
UID:9073-1772668800-1772755199@stchristina.org
SUMMARY:1:45pm Dismissal (Faculty PD)
DESCRIPTION:
URL:https://stchristina.org/event/145pm-dismissal-faculty-pd-7/
END:VEVENT
END:VCALENDAR