BEGIN:VCALENDAR
VERSION:2.0
PRODID:-//St. Christina Catholic School - ECPv6.15.20//NONSGML v1.0//EN
CALSCALE:GREGORIAN
METHOD:PUBLISH
X-WR-CALNAME:St. Christina Catholic School
X-ORIGINAL-URL:https://stchristina.org
X-WR-CALDESC:Events for St. Christina Catholic School
REFRESH-INTERVAL;VALUE=DURATION:PT1H
X-Robots-Tag:noindex
X-PUBLISHED-TTL:PT1H
BEGIN:VTIMEZONE
TZID:UTC
BEGIN:STANDARD
TZOFFSETFROM:+0000
TZOFFSETTO:+0000
TZNAME:UTC
DTSTART:20250101T000000
END:STANDARD
END:VTIMEZONE
BEGIN:VEVENT
DTSTART;VALUE=DATE:20260205
DTEND;VALUE=DATE:20260206
DTSTAMP:20260423T184205
CREATED:20250909T020112Z
LAST-MODIFIED:20250909T020112Z
UID:9027-1770249600-1770335999@stchristina.org
SUMMARY:11:30am Dismissal
DESCRIPTION:
URL:https://stchristina.org/event/1130am-dismissal-4/
END:VEVENT
BEGIN:VEVENT
DTSTART;VALUE=DATE:20260205
DTEND;VALUE=DATE:20260206
DTSTAMP:20260423T184205
CREATED:20250909T020209Z
LAST-MODIFIED:20250909T020209Z
UID:9029-1770249600-1770335999@stchristina.org
SUMMARY:Optional P/T Conferences (12pm - 3pm)
DESCRIPTION:
URL:https://stchristina.org/event/optional-p-t-conferences-12pm-3pm/
END:VEVENT
BEGIN:VEVENT
DTSTART;VALUE=DATE:20260205
DTEND;VALUE=DATE:20260206
DTSTAMP:20260423T184205
CREATED:20250909T020228Z
LAST-MODIFIED:20250909T020228Z
UID:9031-1770249600-1770335999@stchristina.org
SUMMARY:No Hot Lunch
DESCRIPTION:
URL:https://stchristina.org/event/no-hot-lunch-16/
END:VEVENT
BEGIN:VEVENT
DTSTART;VALUE=DATE:20260205
DTEND;VALUE=DATE:20260206
DTSTAMP:20260423T184205
CREATED:20250909T020251Z
LAST-MODIFIED:20250909T020251Z
UID:9033-1770249600-1770335999@stchristina.org
SUMMARY:No Extended Care
DESCRIPTION:
URL:https://stchristina.org/event/no-extended-care-26/
END:VEVENT
END:VCALENDAR