BEGIN:VCALENDAR
VERSION:2.0
PRODID:-//St. Christina Catholic School - ECPv6.15.20//NONSGML v1.0//EN
CALSCALE:GREGORIAN
METHOD:PUBLISH
X-ORIGINAL-URL:https://stchristina.org
X-WR-CALDESC:Events for St. Christina Catholic School
REFRESH-INTERVAL;VALUE=DURATION:PT1H
X-Robots-Tag:noindex
X-PUBLISHED-TTL:PT1H
BEGIN:VTIMEZONE
TZID:UTC
BEGIN:STANDARD
TZOFFSETFROM:+0000
TZOFFSETTO:+0000
TZNAME:UTC
DTSTART:20240101T000000
END:STANDARD
END:VTIMEZONE
BEGIN:VEVENT
DTSTART;TZID=UTC:20251118T080000
DTEND;TZID=UTC:20251120T170000
DTSTAMP:20260423T224824
CREATED:20250912T042709Z
LAST-MODIFIED:20250912T042709Z
UID:9701-1763452800-1763658000@stchristina.org
SUMMARY:Book Fair
DESCRIPTION:
URL:https://stchristina.org/event/book-fair-3/
END:VEVENT
BEGIN:VEVENT
DTSTART;VALUE=DATE:20251120
DTEND;VALUE=DATE:20251121
DTSTAMP:20260423T224824
CREATED:20250909T012519Z
LAST-MODIFIED:20250909T012519Z
UID:8927-1763596800-1763683199@stchristina.org
SUMMARY:Hot Lunch (Calabria Mostaccioli)
DESCRIPTION:
URL:https://stchristina.org/event/hot-lunch-calabria-mostaccioli-16/
END:VEVENT
END:VCALENDAR