BEGIN:VCALENDAR
VERSION:2.0
PRODID:-//St. Christina Catholic School - ECPv6.15.20//NONSGML v1.0//EN
CALSCALE:GREGORIAN
METHOD:PUBLISH
X-WR-CALNAME:St. Christina Catholic School
X-ORIGINAL-URL:https://stchristina.org
X-WR-CALDESC:Events for St. Christina Catholic School
REFRESH-INTERVAL;VALUE=DURATION:PT1H
X-Robots-Tag:noindex
X-PUBLISHED-TTL:PT1H
BEGIN:VTIMEZONE
TZID:UTC
BEGIN:STANDARD
TZOFFSETFROM:+0000
TZOFFSETTO:+0000
TZNAME:UTC
DTSTART:20240101T000000
END:STANDARD
END:VTIMEZONE
BEGIN:VEVENT
DTSTART;VALUE=DATE:20251031
DTEND;VALUE=DATE:20251101
DTSTAMP:20260423T225101
CREATED:20250908T210613Z
LAST-MODIFIED:20250908T210613Z
UID:8889-1761868800-1761955199@stchristina.org
SUMMARY:1:45 Dismissal
DESCRIPTION:
URL:https://stchristina.org/event/145-dismissal/
END:VEVENT
BEGIN:VEVENT
DTSTART;VALUE=DATE:20251031
DTEND;VALUE=DATE:20251101
DTSTAMP:20260423T225101
CREATED:20250908T210709Z
LAST-MODIFIED:20250908T210709Z
UID:8891-1761868800-1761955199@stchristina.org
SUMMARY:Dress Down (costumes PreK-6th / orange & black 7th-8th)
DESCRIPTION:
URL:https://stchristina.org/event/dress-down-costumes-prek-6th-orange-black-7th-8th-2/
END:VEVENT
BEGIN:VEVENT
DTSTART;VALUE=DATE:20251031
DTEND;VALUE=DATE:20251101
DTSTAMP:20260423T225101
CREATED:20250908T210728Z
LAST-MODIFIED:20250908T210728Z
UID:8893-1761868800-1761955199@stchristina.org
SUMMARY:No Extended Care
DESCRIPTION:
URL:https://stchristina.org/event/no-extended-care-24/
END:VEVENT
BEGIN:VEVENT
DTSTART;VALUE=DATE:20251031
DTEND;VALUE=DATE:20251101
DTSTAMP:20260423T225101
CREATED:20250908T210753Z
LAST-MODIFIED:20250908T210753Z
UID:8895-1761868800-1761955199@stchristina.org
SUMMARY:Halloween Parties
DESCRIPTION:
URL:https://stchristina.org/event/halloween-parties/
END:VEVENT
END:VCALENDAR