BEGIN:VCALENDAR
VERSION:2.0
PRODID:-//St. Christina Catholic School - ECPv6.15.20//NONSGML v1.0//EN
CALSCALE:GREGORIAN
METHOD:PUBLISH
X-WR-CALNAME:St. Christina Catholic School
X-ORIGINAL-URL:https://stchristina.org
X-WR-CALDESC:Events for St. Christina Catholic School
REFRESH-INTERVAL;VALUE=DURATION:PT1H
X-Robots-Tag:noindex
X-PUBLISHED-TTL:PT1H
BEGIN:VTIMEZONE
TZID:UTC
BEGIN:STANDARD
TZOFFSETFROM:+0000
TZOFFSETTO:+0000
TZNAME:UTC
DTSTART:20240101T000000
END:STANDARD
END:VTIMEZONE
BEGIN:VEVENT
DTSTART;VALUE=DATE:20251026
DTEND;VALUE=DATE:20251027
DTSTAMP:20260423T225126
CREATED:20250908T210206Z
LAST-MODIFIED:20250908T210206Z
UID:8877-1761436800-1761523199@stchristina.org
SUMMARY:10:30am Mass for 2nd Graders (Honoring Children Preparing for Reconciliation and Communion)
DESCRIPTION:
URL:https://stchristina.org/event/1030am-mass-for-2nd-graders-honoring-children-preparing-for-reconciliation-and-communion/
END:VEVENT
END:VCALENDAR