BEGIN:VCALENDAR
VERSION:2.0
PRODID:-//St. Christina Catholic School - ECPv6.15.20//NONSGML v1.0//EN
CALSCALE:GREGORIAN
METHOD:PUBLISH
X-WR-CALNAME:St. Christina Catholic School
X-ORIGINAL-URL:https://stchristina.org
X-WR-CALDESC:Events for St. Christina Catholic School
REFRESH-INTERVAL;VALUE=DURATION:PT1H
X-Robots-Tag:noindex
X-PUBLISHED-TTL:PT1H
BEGIN:VTIMEZONE
TZID:UTC
BEGIN:STANDARD
TZOFFSETFROM:+0000
TZOFFSETTO:+0000
TZNAME:UTC
DTSTART:20240101T000000
END:STANDARD
END:VTIMEZONE
BEGIN:VEVENT
DTSTART;VALUE=DATE:20250604
DTEND;VALUE=DATE:20250605
DTSTAMP:20260424T052016
CREATED:20240717T121852Z
LAST-MODIFIED:20240717T121852Z
UID:7565-1748995200-1749081599@stchristina.org
SUMMARY:PreK and Kindergarten End-of-Year Programs
DESCRIPTION:
URL:https://stchristina.org/event/prek-and-kindergarten-end-of-year-programs/
END:VEVENT
BEGIN:VEVENT
DTSTART;VALUE=DATE:20250604
DTEND;VALUE=DATE:20250605
DTSTAMP:20260424T052016
CREATED:20240717T121922Z
LAST-MODIFIED:20240717T121922Z
UID:7567-1748995200-1749081599@stchristina.org
SUMMARY:PreK Afternoon Assessments
DESCRIPTION:
URL:https://stchristina.org/event/prek-afternoon-assessments/
END:VEVENT
END:VCALENDAR