BEGIN:VCALENDAR
VERSION:2.0
PRODID:-//St. Christina Catholic School - ECPv6.15.20//NONSGML v1.0//EN
CALSCALE:GREGORIAN
METHOD:PUBLISH
X-ORIGINAL-URL:https://stchristina.org
X-WR-CALDESC:Events for St. Christina Catholic School
REFRESH-INTERVAL;VALUE=DURATION:PT1H
X-Robots-Tag:noindex
X-PUBLISHED-TTL:PT1H
BEGIN:VTIMEZONE
TZID:UTC
BEGIN:STANDARD
TZOFFSETFROM:+0000
TZOFFSETTO:+0000
TZNAME:UTC
DTSTART:20240101T000000
END:STANDARD
END:VTIMEZONE
BEGIN:VEVENT
DTSTART;VALUE=DATE:20250306
DTEND;VALUE=DATE:20250307
DTSTAMP:20260424T093501
CREATED:20240717T032305Z
LAST-MODIFIED:20240717T032305Z
UID:7470-1741219200-1741305599@stchristina.org
SUMMARY:Hot Lunch: Calabria Nuggets/Chips
DESCRIPTION:
URL:https://stchristina.org/event/hot-lunch-calabria-nuggets-chips-4/
END:VEVENT
BEGIN:VEVENT
DTSTART;VALUE=DATE:20250306
DTEND;VALUE=DATE:20250307
DTSTAMP:20260424T093501
CREATED:20240717T032409Z
LAST-MODIFIED:20240717T032409Z
UID:7472-1741219200-1741305599@stchristina.org
SUMMARY:1:45 Dismissal\, Faculty PD
DESCRIPTION:
URL:https://stchristina.org/event/145-dismissal-faculty-pd/
END:VEVENT
END:VCALENDAR