BEGIN:VCALENDAR
VERSION:2.0
PRODID:-//St. Christina Catholic School - ECPv6.15.20//NONSGML v1.0//EN
CALSCALE:GREGORIAN
METHOD:PUBLISH
X-WR-CALNAME:St. Christina Catholic School
X-ORIGINAL-URL:https://stchristina.org
X-WR-CALDESC:Events for St. Christina Catholic School
REFRESH-INTERVAL;VALUE=DURATION:PT1H
X-Robots-Tag:noindex
X-PUBLISHED-TTL:PT1H
BEGIN:VTIMEZONE
TZID:UTC
BEGIN:STANDARD
TZOFFSETFROM:+0000
TZOFFSETTO:+0000
TZNAME:UTC
DTSTART:20240101T000000
END:STANDARD
END:VTIMEZONE
BEGIN:VEVENT
DTSTART;TZID=UTC:20250127T080000
DTEND;TZID=UTC:20250131T170000
DTSTAMP:20260424T110639
CREATED:20240715T195320Z
LAST-MODIFIED:20240715T195320Z
UID:7396-1737964800-1738342800@stchristina.org
SUMMARY:Catholic Schools Week
DESCRIPTION:
URL:https://stchristina.org/event/catholic-schools-week-5/
END:VEVENT
BEGIN:VEVENT
DTSTART;VALUE=DATE:20250129
DTEND;VALUE=DATE:20250130
DTSTAMP:20260424T110639
CREATED:20240715T195102Z
LAST-MODIFIED:20240715T195102Z
UID:7390-1738108800-1738195199@stchristina.org
SUMMARY:8:10am Mass
DESCRIPTION:
URL:https://stchristina.org/event/810am-mass-40/
END:VEVENT
BEGIN:VEVENT
DTSTART;VALUE=DATE:20250129
DTEND;VALUE=DATE:20250130
DTSTAMP:20260424T110639
CREATED:20240715T195446Z
LAST-MODIFIED:20240715T195446Z
UID:7398-1738108800-1738195199@stchristina.org
SUMMARY:Enrichment
DESCRIPTION:
URL:https://stchristina.org/event/enrichment-41/
END:VEVENT
END:VCALENDAR