BEGIN:VCALENDAR
VERSION:2.0
PRODID:-//St. Christina Catholic School - ECPv6.15.20//NONSGML v1.0//EN
CALSCALE:GREGORIAN
METHOD:PUBLISH
X-ORIGINAL-URL:https://stchristina.org
X-WR-CALDESC:Events for St. Christina Catholic School
REFRESH-INTERVAL;VALUE=DURATION:PT1H
X-Robots-Tag:noindex
X-PUBLISHED-TTL:PT1H
BEGIN:VTIMEZONE
TZID:UTC
BEGIN:STANDARD
TZOFFSETFROM:+0000
TZOFFSETTO:+0000
TZNAME:UTC
DTSTART:20230101T000000
END:STANDARD
END:VTIMEZONE
BEGIN:VEVENT
DTSTART;VALUE=DATE:20241218
DTEND;VALUE=DATE:20241219
DTSTAMP:20260424T143019
CREATED:20240715T193209Z
LAST-MODIFIED:20240715T193209Z
UID:7342-1734480000-1734566399@stchristina.org
SUMMARY:8:10am Mass (planned by 6th Grade)
DESCRIPTION:
URL:https://stchristina.org/event/810am-mass-planned-by-6th-grade-2/
END:VEVENT
BEGIN:VEVENT
DTSTART;VALUE=DATE:20241218
DTEND;VALUE=DATE:20241219
DTSTAMP:20260424T143019
CREATED:20240715T193232Z
LAST-MODIFIED:20240715T193232Z
UID:7344-1734480000-1734566399@stchristina.org
SUMMARY:Classroom Parties\, 1pm
DESCRIPTION:
URL:https://stchristina.org/event/classroom-parties-1pm/
END:VEVENT
BEGIN:VEVENT
DTSTART;VALUE=DATE:20241218
DTEND;VALUE=DATE:20241219
DTSTAMP:20260424T143019
CREATED:20240715T193258Z
LAST-MODIFIED:20240715T193258Z
UID:7346-1734480000-1734566399@stchristina.org
SUMMARY:Enrichment
DESCRIPTION:
URL:https://stchristina.org/event/enrichment-38/
END:VEVENT
END:VCALENDAR