BEGIN:VCALENDAR
VERSION:2.0
PRODID:-//St. Christina Catholic School - ECPv6.15.20//NONSGML v1.0//EN
CALSCALE:GREGORIAN
METHOD:PUBLISH
X-ORIGINAL-URL:https://stchristina.org
X-WR-CALDESC:Events for St. Christina Catholic School
REFRESH-INTERVAL;VALUE=DURATION:PT1H
X-Robots-Tag:noindex
X-PUBLISHED-TTL:PT1H
BEGIN:VTIMEZONE
TZID:UTC
BEGIN:STANDARD
TZOFFSETFROM:+0000
TZOFFSETTO:+0000
TZNAME:UTC
DTSTART:20230101T000000
END:STANDARD
END:VTIMEZONE
BEGIN:VEVENT
DTSTART;VALUE=DATE:20241205
DTEND;VALUE=DATE:20241206
DTSTAMP:20260424T143000
CREATED:20240715T191724Z
LAST-MODIFIED:20240715T191724Z
UID:7322-1733356800-1733443199@stchristina.org
SUMMARY:Hot Lunch: Calabria Nuggets/Chips
DESCRIPTION:
URL:https://stchristina.org/event/hot-lunch-calabria-nuggets-chips-3/
END:VEVENT
BEGIN:VEVENT
DTSTART;VALUE=DATE:20241205
DTEND;VALUE=DATE:20241206
DTSTAMP:20260424T143000
CREATED:20240715T192534Z
LAST-MODIFIED:20240715T192534Z
UID:7326-1733356800-1733443199@stchristina.org
SUMMARY:1:45pm Dismissal\, Faculty PD
DESCRIPTION:
URL:https://stchristina.org/event/145pm-dismissal-faculty-pd-3/
END:VEVENT
BEGIN:VEVENT
DTSTART;VALUE=DATE:20241205
DTEND;VALUE=DATE:20241206
DTSTAMP:20260424T143000
CREATED:20240717T170711Z
LAST-MODIFIED:20240909T140309Z
UID:7658-1733356800-1733443199@stchristina.org
SUMMARY:Pizza with Santa\, 5:30-8pm
DESCRIPTION:
URL:https://stchristina.org/event/pizza-with-santa/
END:VEVENT
END:VCALENDAR