BEGIN:VCALENDAR
VERSION:2.0
PRODID:-//St. Christina Catholic School - ECPv6.15.20//NONSGML v1.0//EN
CALSCALE:GREGORIAN
METHOD:PUBLISH
X-WR-CALNAME:St. Christina Catholic School
X-ORIGINAL-URL:https://stchristina.org
X-WR-CALDESC:Events for St. Christina Catholic School
REFRESH-INTERVAL;VALUE=DURATION:PT1H
X-Robots-Tag:noindex
X-PUBLISHED-TTL:PT1H
BEGIN:VTIMEZONE
TZID:UTC
BEGIN:STANDARD
TZOFFSETFROM:+0000
TZOFFSETTO:+0000
TZNAME:UTC
DTSTART:20230101T000000
END:STANDARD
END:VTIMEZONE
BEGIN:VEVENT
DTSTART;VALUE=DATE:20240915
DTEND;VALUE=DATE:20240916
DTSTAMP:20260424T194637
CREATED:20240715T182415Z
LAST-MODIFIED:20240718T001623Z
UID:7203-1726358400-1726444799@stchristina.org
SUMMARY:Special Mass for Confirmation Candidates\, 10:30am
DESCRIPTION:
URL:https://stchristina.org/event/8th-grade-rite-of-election-mass-1030am/
END:VEVENT
BEGIN:VEVENT
DTSTART;VALUE=DATE:20240915
DTEND;VALUE=DATE:20240916
DTSTAMP:20260424T194637
CREATED:20240715T182500Z
LAST-MODIFIED:20240715T182500Z
UID:7205-1726358400-1726444799@stchristina.org
SUMMARY:Catechetical Sunday
DESCRIPTION:
URL:https://stchristina.org/event/catechetical-sunday/
END:VEVENT
BEGIN:VEVENT
DTSTART;VALUE=DATE:20240915
DTEND;VALUE=DATE:20240916
DTSTAMP:20260424T194637
CREATED:20240717T170445Z
LAST-MODIFIED:20240717T170445Z
UID:7648-1726358400-1726444799@stchristina.org
SUMMARY:FSA Harvest Market
DESCRIPTION:
URL:https://stchristina.org/event/fsa-harvest-market/
END:VEVENT
END:VCALENDAR