BEGIN:VCALENDAR
VERSION:2.0
PRODID:-//St. Christina Catholic School - ECPv6.15.20//NONSGML v1.0//EN
CALSCALE:GREGORIAN
METHOD:PUBLISH
X-ORIGINAL-URL:https://stchristina.org
X-WR-CALDESC:Events for St. Christina Catholic School
REFRESH-INTERVAL;VALUE=DURATION:PT1H
X-Robots-Tag:noindex
X-PUBLISHED-TTL:PT1H
BEGIN:VTIMEZONE
TZID:UTC
BEGIN:STANDARD
TZOFFSETFROM:+0000
TZOFFSETTO:+0000
TZNAME:UTC
DTSTART:20220101T000000
END:STANDARD
END:VTIMEZONE
BEGIN:VEVENT
DTSTART;VALUE=DATE:20231031
DTEND;VALUE=DATE:20231101
DTSTAMP:20260425T103823
CREATED:20230731T233657Z
LAST-MODIFIED:20230731T233657Z
UID:6450-1698710400-1698796799@stchristina.org
SUMMARY:Early Dismissal
DESCRIPTION:
URL:https://stchristina.org/event/early-dismissal/
END:VEVENT
BEGIN:VEVENT
DTSTART;VALUE=DATE:20231031
DTEND;VALUE=DATE:20231101
DTSTAMP:20260425T103823
CREATED:20230731T233752Z
LAST-MODIFIED:20230731T233752Z
UID:6452-1698710400-1698796799@stchristina.org
SUMMARY:K-6 Halloween Parties and K-6 Costume Day\, Orange and Black Dress Down PreK-8
DESCRIPTION:
URL:https://stchristina.org/event/k-6-halloween-parties-and-k-6-costume-day-orange-and-black-dress-down-prek-8/
END:VEVENT
END:VCALENDAR