BEGIN:VCALENDAR
VERSION:2.0
PRODID:-//St. Christina Catholic School - ECPv6.15.20//NONSGML v1.0//EN
CALSCALE:GREGORIAN
METHOD:PUBLISH
X-ORIGINAL-URL:https://stchristina.org
X-WR-CALDESC:Events for St. Christina Catholic School
REFRESH-INTERVAL;VALUE=DURATION:PT1H
X-Robots-Tag:noindex
X-PUBLISHED-TTL:PT1H
BEGIN:VTIMEZONE
TZID:UTC
BEGIN:STANDARD
TZOFFSETFROM:+0000
TZOFFSETTO:+0000
TZNAME:UTC
DTSTART:20220101T000000
END:STANDARD
END:VTIMEZONE
BEGIN:VEVENT
DTSTART;VALUE=DATE:20231023
DTEND;VALUE=DATE:20231024
DTSTAMP:20260425T115724
CREATED:20230731T223148Z
LAST-MODIFIED:20230731T223148Z
UID:6434-1698019200-1698105599@stchristina.org
SUMMARY:Communion Online Sign-Up End Date
DESCRIPTION:
URL:https://stchristina.org/event/communion-online-sign-up-end-date/
END:VEVENT
BEGIN:VEVENT
DTSTART;TZID=UTC:20231023T080000
DTEND;TZID=UTC:20231027T170000
DTSTAMP:20260425T115724
CREATED:20230731T223224Z
LAST-MODIFIED:20230731T223224Z
UID:6436-1698048000-1698426000@stchristina.org
SUMMARY:Red Ribbon Week
DESCRIPTION:
URL:https://stchristina.org/event/red-ribbon-week/
END:VEVENT
END:VCALENDAR