BEGIN:VCALENDAR
VERSION:2.0
PRODID:-//St. Christina Catholic School - ECPv6.15.20//NONSGML v1.0//EN
CALSCALE:GREGORIAN
METHOD:PUBLISH
X-ORIGINAL-URL:https://stchristina.org
X-WR-CALDESC:Events for St. Christina Catholic School
REFRESH-INTERVAL;VALUE=DURATION:PT1H
X-Robots-Tag:noindex
X-PUBLISHED-TTL:PT1H
BEGIN:VTIMEZONE
TZID:UTC
BEGIN:STANDARD
TZOFFSETFROM:+0000
TZOFFSETTO:+0000
TZNAME:UTC
DTSTART:20220101T000000
END:STANDARD
END:VTIMEZONE
BEGIN:VEVENT
DTSTART;TZID=UTC:20230828T080000
DTEND;TZID=UTC:20230901T110000
DTSTAMP:20260425T132124
CREATED:20230707T011539Z
LAST-MODIFIED:20230707T011539Z
UID:6288-1693209600-1693566000@stchristina.org
SUMMARY:iReady Diagnostic Testing
DESCRIPTION:
URL:https://stchristina.org/event/iready-diagnostic-testing/
END:VEVENT
BEGIN:VEVENT
DTSTART;VALUE=DATE:20230901
DTEND;VALUE=DATE:20230902
DTSTAMP:20260425T132124
CREATED:20230731T215455Z
LAST-MODIFIED:20230731T215455Z
UID:6340-1693526400-1693612799@stchristina.org
SUMMARY:Early Dismissal 1:45pm
DESCRIPTION:
URL:https://stchristina.org/event/early-dismissal-145pm/
END:VEVENT
END:VCALENDAR