BEGIN:VCALENDAR
VERSION:2.0
PRODID:-//St. Christina Catholic School - ECPv6.15.20//NONSGML v1.0//EN
CALSCALE:GREGORIAN
METHOD:PUBLISH
X-ORIGINAL-URL:https://stchristina.org
X-WR-CALDESC:Events for St. Christina Catholic School
REFRESH-INTERVAL;VALUE=DURATION:PT1H
X-Robots-Tag:noindex
X-PUBLISHED-TTL:PT1H
BEGIN:VTIMEZONE
TZID:UTC
BEGIN:STANDARD
TZOFFSETFROM:+0000
TZOFFSETTO:+0000
TZNAME:UTC
DTSTART:20220101T000000
END:STANDARD
END:VTIMEZONE
BEGIN:VEVENT
DTSTART;VALUE=DATE:20230822
DTEND;VALUE=DATE:20230823
DTSTAMP:20260425T143246
CREATED:20230707T010943Z
LAST-MODIFIED:20230822T162405Z
UID:6270-1692662400-1692748799@stchristina.org
SUMMARY:First Day of School for PreK 3 + 4\, 10:50AM Dismissal
DESCRIPTION:
URL:https://stchristina.org/event/first-day-of-school-for-prek-3-4-1030am-dismissal/
END:VEVENT
BEGIN:VEVENT
DTSTART;VALUE=DATE:20230822
DTEND;VALUE=DATE:20230823
DTSTAMP:20260425T143246
CREATED:20230707T011009Z
LAST-MODIFIED:20230707T011009Z
UID:6272-1692662400-1692748799@stchristina.org
SUMMARY:11:30 Dismissal Grades K-8
DESCRIPTION:
URL:https://stchristina.org/event/1130-dismissal-grades-k-8/
END:VEVENT
BEGIN:VEVENT
DTSTART;VALUE=DATE:20230822
DTEND;VALUE=DATE:20230823
DTSTAMP:20260425T143246
CREATED:20230707T011029Z
LAST-MODIFIED:20230707T011029Z
UID:6274-1692662400-1692748799@stchristina.org
SUMMARY:No Extended Care
DESCRIPTION:
URL:https://stchristina.org/event/no-extended-care-9/
END:VEVENT
END:VCALENDAR