BEGIN:VCALENDAR
VERSION:2.0
PRODID:-//St. Christina Catholic School - ECPv6.15.20//NONSGML v1.0//EN
CALSCALE:GREGORIAN
METHOD:PUBLISH
X-WR-CALNAME:St. Christina Catholic School
X-ORIGINAL-URL:https://stchristina.org
X-WR-CALDESC:Events for St. Christina Catholic School
REFRESH-INTERVAL;VALUE=DURATION:PT1H
X-Robots-Tag:noindex
X-PUBLISHED-TTL:PT1H
BEGIN:VTIMEZONE
TZID:UTC
BEGIN:STANDARD
TZOFFSETFROM:+0000
TZOFFSETTO:+0000
TZNAME:UTC
DTSTART:20220101T000000
END:STANDARD
END:VTIMEZONE
BEGIN:VEVENT
DTSTART;VALUE=DATE:20230406
DTEND;VALUE=DATE:20230407
DTSTAMP:20260425T195558
CREATED:20220801T181729Z
LAST-MODIFIED:20220801T181729Z
UID:5647-1680739200-1680825599@stchristina.org
SUMMARY:Holy Thursday
DESCRIPTION:
URL:https://stchristina.org/event/holy-thursday-2/
END:VEVENT
BEGIN:VEVENT
DTSTART;VALUE=DATE:20230406
DTEND;VALUE=DATE:20230407
DTSTAMP:20260425T195558
CREATED:20220801T181755Z
LAST-MODIFIED:20220801T181801Z
UID:5649-1680739200-1680825599@stchristina.org
SUMMARY:11:30 Dismissal
DESCRIPTION:
URL:https://stchristina.org/event/1130-dismissal-7/
END:VEVENT
BEGIN:VEVENT
DTSTART;VALUE=DATE:20230406
DTEND;VALUE=DATE:20230407
DTSTAMP:20260425T195558
CREATED:20220801T181826Z
LAST-MODIFIED:20220801T181835Z
UID:5651-1680739200-1680825599@stchristina.org
SUMMARY:No Extended Care
DESCRIPTION:
URL:https://stchristina.org/event/no-extended-care-7/
END:VEVENT
END:VCALENDAR