BEGIN:VCALENDAR
VERSION:2.0
PRODID:-//St. Christina Catholic School - ECPv6.15.20//NONSGML v1.0//EN
CALSCALE:GREGORIAN
METHOD:PUBLISH
X-ORIGINAL-URL:https://stchristina.org
X-WR-CALDESC:Events for St. Christina Catholic School
REFRESH-INTERVAL;VALUE=DURATION:PT1H
X-Robots-Tag:noindex
X-PUBLISHED-TTL:PT1H
BEGIN:VTIMEZONE
TZID:UTC
BEGIN:STANDARD
TZOFFSETFROM:+0000
TZOFFSETTO:+0000
TZNAME:UTC
DTSTART:20220101T000000
END:STANDARD
END:VTIMEZONE
BEGIN:VEVENT
DTSTART;VALUE=DATE:20230110
DTEND;VALUE=DATE:20230111
DTSTAMP:20260426T001127
CREATED:20220928T191737Z
LAST-MODIFIED:20220928T191759Z
UID:5872-1673308800-1673395199@stchristina.org
SUMMARY:Second Informative Meeting for parents of communicants regarding retreat\, 6pm church
DESCRIPTION:
URL:https://stchristina.org/event/second-informative-meeting-for-parents-regarding-retreat-6pm-church/
END:VEVENT
END:VCALENDAR