BEGIN:VCALENDAR
VERSION:2.0
PRODID:-//St. Christina Catholic School - ECPv6.15.20//NONSGML v1.0//EN
CALSCALE:GREGORIAN
METHOD:PUBLISH
X-WR-CALNAME:St. Christina Catholic School
X-ORIGINAL-URL:https://stchristina.org
X-WR-CALDESC:Events for St. Christina Catholic School
REFRESH-INTERVAL;VALUE=DURATION:PT1H
X-Robots-Tag:noindex
X-PUBLISHED-TTL:PT1H
BEGIN:VTIMEZONE
TZID:UTC
BEGIN:STANDARD
TZOFFSETFROM:+0000
TZOFFSETTO:+0000
TZNAME:UTC
DTSTART:20210101T000000
END:STANDARD
END:VTIMEZONE
BEGIN:VEVENT
DTSTART;VALUE=DATE:20221122
DTEND;VALUE=DATE:20221123
DTSTAMP:20260426T025359
CREATED:20220727T201905Z
LAST-MODIFIED:20220727T201954Z
UID:5478-1669075200-1669161599@stchristina.org
SUMMARY:Parent/Teacher Conferences\, 11:30 dismissal
DESCRIPTION:
URL:https://stchristina.org/event/parent-teacher-conferences-1130-dismissal/
END:VEVENT
BEGIN:VEVENT
DTSTART;VALUE=DATE:20221122
DTEND;VALUE=DATE:20221123
DTSTAMP:20260426T025359
CREATED:20220727T202045Z
LAST-MODIFIED:20220727T202045Z
UID:5480-1669075200-1669161599@stchristina.org
SUMMARY:no extended care
DESCRIPTION:
URL:https://stchristina.org/event/no-extended-care-4/
END:VEVENT
END:VCALENDAR